BEGIN:VCALENDAR
VERSION:2.0
PRODID:PGConf US 2017 [PgConf.US]
CALSCALE:GREGORIAN
BEGIN:VEVENT
DTSTAMP:20260420T093055Z
UID:f9b3745b-d04a-4ecc-aeb8-1bc0b41faefc
DTSTART:20170328T130000Z
DTEND:20170328T160000Z
LOCATION:Enterprise
SUMMARY:Linux IO internals for PostgreSQL administrators (Ilya Kosmodemians
 ky)
URL:https://postgresconf.io/conferences/2017/program/proposals/633
END:VEVENT
BEGIN:VEVENT
DTSTAMP:20260420T093056Z
UID:f07e22a4-10da-416c-bb4e-ee061f184b30
DTSTART:20170328T130000Z
DTEND:20170328T160000Z
LOCATION:America
SUMMARY:Detecting performance problems and fixing them (Hans-Jürgen Schön
 ig)
URL:https://postgresconf.io/conferences/2017/program/proposals/609
END:VEVENT
BEGIN:VEVENT
DTSTAMP:20260420T093056Z
UID:0341c145-15a2-48fc-a39a-ea0966547b6a
DTSTART:20170328T130000Z
DTEND:20170328T160000Z
LOCATION:Liberty III
SUMMARY:Getting Stuff done with PostGIS (Leo Hsu and Regina Obe)
URL:https://postgresconf.io/conferences/2017/program/proposals/606
END:VEVENT
BEGIN:VEVENT
DTSTAMP:20260420T093056Z
UID:d9507365-a1e7-498e-899e-87a430fa3e35
DTSTART:20170328T133000Z
DTEND:20170328T141000Z
LOCATION:Liberty I
SUMMARY:Engineering cloud infrastructure for HIPAA-compliance (Shaun Qualhe
 im)
URL:https://postgresconf.io/conferences/2017/program/proposals/535
END:VEVENT
BEGIN:VEVENT
DTSTAMP:20260420T093056Z
UID:c96dc2bb-73d0-4776-8b9d-30726d844eaf
DTSTART:20170328T142000Z
DTEND:20170328T150000Z
LOCATION:Liberty I
SUMMARY:HIPAA Compliant\, Scalable and Highly Available PostgreSQL Architec
 ture in AWS (Yaser Raja and Glenn Poston)
URL:https://postgresconf.io/conferences/2017/program/proposals/490
END:VEVENT
BEGIN:VEVENT
DTSTAMP:20260420T093056Z
UID:67d63e78-7394-4d62-9d70-8b133264b396
DTSTART:20170328T150000Z
DTEND:20170328T154000Z
LOCATION:Liberty I
SUMMARY:How to Make Security on NoSQL More than just an afterthought (Chad 
 Hardin)
URL:https://postgresconf.io/conferences/2017/program/proposals/644
END:VEVENT
BEGIN:VEVENT
DTSTAMP:20260420T093056Z
UID:c8526b7e-49f6-4976-938d-dc53ce3d7dea
DTSTART:20170329T133000Z
DTEND:20170329T142000Z
LOCATION:Liberty III
SUMMARY:Designing The Right Schema To Power Heap (Dan Robinson)
URL:https://postgresconf.io/conferences/2017/program/proposals/591
END:VEVENT
BEGIN:VEVENT
DTSTAMP:20260420T093056Z
UID:496c7bf2-73b2-47f4-809d-acf510b1868e
DTSTART:20170329T133000Z
DTEND:20170329T142000Z
LOCATION:America
SUMMARY:PostgreSQL worst practices (Ilya Kosmodemiansky)
URL:https://postgresconf.io/conferences/2017/program/proposals/520
END:VEVENT
BEGIN:VEVENT
DTSTAMP:20260420T093056Z
UID:4cdfd0e5-e923-4792-83ba-04274b3a9882
DTSTART:20170329T133000Z
DTEND:20170329T142000Z
LOCATION:Liberty I
SUMMARY:Sort vs. Hash: A Duality (Peter Geoghegan)
URL:https://postgresconf.io/conferences/2017/program/proposals/640
END:VEVENT
BEGIN:VEVENT
DTSTAMP:20260420T093056Z
UID:bcde8666-8e47-4186-b2dc-bc05c86f488c
DTSTART:20170329T133000Z
DTEND:20170329T142000Z
LOCATION:Liberty II
SUMMARY:Gophers Riding Elephants: Writing PostgreSQL tools in Go (AJ Bahnke
 n)
URL:https://postgresconf.io/conferences/2017/program/proposals/526
END:VEVENT
BEGIN:VEVENT
DTSTAMP:20260420T093056Z
UID:778db41f-dbd5-48dc-b520-6cda2530bffa
DTSTART:20170329T143000Z
DTEND:20170329T152000Z
LOCATION:America
SUMMARY:Patroni - HA PostgreSQL made easy (Alexander Kukushkin)
URL:https://postgresconf.io/conferences/2017/program/proposals/593
END:VEVENT
BEGIN:VEVENT
DTSTAMP:20260420T093056Z
UID:560d3ab0-5b79-4130-801e-cf8ed0a0150f
DTSTART:20170329T143000Z
DTEND:20170329T152000Z
LOCATION:Liberty III
SUMMARY:Softlayer vs RDS/AWS: A price to performance perspective (Joshua D.
  Drake)
URL:https://postgresconf.io/conferences/2017/program/proposals/527
END:VEVENT
BEGIN:VEVENT
DTSTAMP:20260420T093056Z
UID:c304a058-fcce-4fde-9d34-0caadb644388
DTSTART:20170329T143000Z
DTEND:20170329T152000Z
LOCATION:Liberty I
SUMMARY:In-core compression: how to shrink your database size in several ti
 mes (Anastasia Lubennikova)
URL:https://postgresconf.io/conferences/2017/program/proposals/642
END:VEVENT
BEGIN:VEVENT
DTSTAMP:20260420T093056Z
UID:ee982d95-4298-48c9-9cb2-cc94790480da
DTSTART:20170329T143000Z
DTEND:20170329T152000Z
LOCATION:Liberty II
SUMMARY:Migration from Oracle to native PostgreSQL (Max ten Dam)
URL:https://postgresconf.io/conferences/2017/program/proposals/553
END:VEVENT
BEGIN:VEVENT
DTSTAMP:20260420T093056Z
UID:844f9790-ae55-4208-a650-f8006a110733
DTSTART:20170329T152000Z
DTEND:20170329T155000Z
LOCATION:Newport Grand Ballroom
SUMMARY:Wednesday Coffee Break
URL:https://postgresconf.io/conferences/2017/program/proposals/570
END:VEVENT
BEGIN:VEVENT
DTSTAMP:20260420T093056Z
UID:1b61aa44-d1ef-4d12-8745-569c4c3f5499
DTSTART:20170330T130000Z
DTEND:20170330T135000Z
LOCATION:America
SUMMARY:From Dev to prod\, The ABC's of PostgreSQL backups (Scott Mead)
URL:https://postgresconf.io/conferences/2017/program/proposals/540
END:VEVENT
BEGIN:VEVENT
DTSTAMP:20260420T093056Z
UID:fae25ff5-c6c2-4a73-8e03-5147491cf979
DTSTART:20170330T130000Z
DTEND:20170330T135000Z
LOCATION:Liberty II
SUMMARY:Migrating off of MongoDB to PostgreSQL (Alvaro Hernandez)
URL:https://postgresconf.io/conferences/2017/program/proposals/658
END:VEVENT
BEGIN:VEVENT
DTSTAMP:20260420T093056Z
UID:a65f5e1a-4a20-4982-8468-f90ddd32b6fc
DTSTART:20170330T130000Z
DTEND:20170330T135000Z
LOCATION:Liberty III
SUMMARY:Processing 1 billion rows per second (Hans-Jürgen Schönig)
URL:https://postgresconf.io/conferences/2017/program/proposals/617
END:VEVENT
BEGIN:VEVENT
DTSTAMP:20260420T093056Z
UID:db41decb-a2d5-4327-a2fe-049cc222f897
DTSTART:20170330T130000Z
DTEND:20170330T135000Z
LOCATION:Liberty I
SUMMARY:All the dirt on VACUUM: 9.6 edition (Jim Nasby)
URL:https://postgresconf.io/conferences/2017/program/proposals/620
END:VEVENT
BEGIN:VEVENT
DTSTAMP:20260420T093056Z
UID:da21f599-417d-4862-9157-272f072af3c4
DTSTART:20170330T130000Z
DTEND:20170330T135000Z
LOCATION:Enterprise
SUMMARY:Django and PostgreSQL: Two Great Tastes (Christophe Pettus)
URL:https://postgresconf.io/conferences/2017/program/proposals/502
END:VEVENT
BEGIN:VEVENT
DTSTAMP:20260420T093056Z
UID:5e89d495-bea3-485f-9f26-c78dc699abc0
DTSTART:20170330T140000Z
DTEND:20170330T145000Z
LOCATION:Liberty II
SUMMARY:Turbocharge your SQL queries in-memory with Apache® Ignite™  (De
 nis Magda)
URL:https://postgresconf.io/conferences/2017/program/proposals/574
END:VEVENT
BEGIN:VEVENT
DTSTAMP:20260420T093056Z
UID:2e3e45e2-952b-47f7-a413-68532a6511af
DTSTART:20170330T140000Z
DTEND:20170330T145000Z
LOCATION:Liberty III
SUMMARY:Corruption War Stories (Christophe Pettus)
URL:https://postgresconf.io/conferences/2017/program/proposals/530
END:VEVENT
BEGIN:VEVENT
DTSTAMP:20260420T093056Z
UID:5035fd71-2d99-43b6-b90a-55ebaa046d12
DTSTART:20170330T140000Z
DTEND:20170330T145000Z
LOCATION:Enterprise
SUMMARY:An Introduction to SQLAlchemy and Friends (Jon Banafato)
URL:https://postgresconf.io/conferences/2017/program/proposals/497
END:VEVENT
BEGIN:VEVENT
DTSTAMP:20260420T093056Z
UID:8cdd1df2-c924-4c16-b56a-3c7a14030f61
DTSTART:20170330T140000Z
DTEND:20170330T145000Z
LOCATION:America
SUMMARY:Amazon RDS for PostgreSQL: What’s New and Lessons Learned (Grant 
 McAlister)
URL:https://postgresconf.io/conferences/2017/program/proposals/652
END:VEVENT
BEGIN:VEVENT
DTSTAMP:20260420T093056Z
UID:14cf8147-bb39-48cc-839d-378931085cfb
DTSTART:20170330T140000Z
DTEND:20170330T145000Z
LOCATION:Liberty I
SUMMARY:Next-Generation Parallel Query (Robert Haas)
URL:https://postgresconf.io/conferences/2017/program/proposals/495
END:VEVENT
BEGIN:VEVENT
DTSTAMP:20260420T093056Z
UID:6330ac45-c591-4a77-8108-218eb00f8e1a
DTSTART:20170330T145000Z
DTEND:20170330T152000Z
LOCATION:Newport Grand Ballroom
SUMMARY:Thursday Coffee Break
URL:https://postgresconf.io/conferences/2017/program/proposals/571
END:VEVENT
BEGIN:VEVENT
DTSTAMP:20260420T093056Z
UID:4065b5b8-cf4f-48d7-8a84-88511e5db5fa
DTSTART:20170331T130000Z
DTEND:20170331T135000Z
LOCATION:America
SUMMARY:Provisioning and Automating High Availability Postgres on AWS EC2 (
 Payal Singh)
URL:https://postgresconf.io/conferences/2017/program/proposals/660
END:VEVENT
BEGIN:VEVENT
DTSTAMP:20260420T093056Z
UID:42de520e-01ac-4a8e-b662-7e1ed5e6e34a
DTSTART:20170331T130000Z
DTEND:20170331T135000Z
LOCATION:Liberty I
SUMMARY:Implementing Graph Database based on PostgreSQL (Kisung Kim)
URL:https://postgresconf.io/conferences/2017/program/proposals/655
END:VEVENT
BEGIN:VEVENT
DTSTAMP:20260420T093056Z
UID:61e9e4c8-3cc9-4947-bfee-b31cf0f6076c
DTSTART:20170331T130000Z
DTEND:20170331T135000Z
LOCATION:Liberty III
SUMMARY:Managing OS Provided PostgreSQL Packages (Keith Fiske)
URL:https://postgresconf.io/conferences/2017/program/proposals/653
END:VEVENT
BEGIN:VEVENT
DTSTAMP:20260420T093056Z
UID:aec1ee4c-8705-4494-a3ee-c18f8fd532f3
DTSTART:20170331T130000Z
DTEND:20170331T135000Z
LOCATION:Liberty II
SUMMARY:How Green Was My Valley (Joe Conway)
URL:https://postgresconf.io/conferences/2017/program/proposals/616
END:VEVENT
BEGIN:VEVENT
DTSTAMP:20260420T093056Z
UID:b92a2ac3-59e3-4c06-b794-c1102a5c36e6
DTSTART:20170331T140000Z
DTEND:20170331T145000Z
LOCATION:Liberty I
SUMMARY:Evolution of pgAdmin: pgAdmin4 (Dave Page)
URL:https://postgresconf.io/conferences/2017/program/proposals/486
END:VEVENT
BEGIN:VEVENT
DTSTAMP:20260420T093056Z
UID:eda2ec4f-7187-48a1-b9a3-5a64b0496106
DTSTART:20170331T140000Z
DTEND:20170331T145000Z
LOCATION:Liberty II
SUMMARY:Exploiting the hidden talents of JDBC for maximum performance (Dave
  Cramer)
URL:https://postgresconf.io/conferences/2017/program/proposals/536
END:VEVENT
BEGIN:VEVENT
DTSTAMP:20260420T093056Z
UID:714c4c3e-d2ad-47ab-94a3-5564aec51ed1
DTSTART:20170331T140000Z
DTEND:20170331T145000Z
LOCATION:Liberty III
SUMMARY:Advanced Postgres Monitoring (Denish Patel)
URL:https://postgresconf.io/conferences/2017/program/proposals/555
END:VEVENT
BEGIN:VEVENT
DTSTAMP:20260420T093056Z
UID:d7a9022f-e18f-4844-a284-6306b7d2f515
DTSTART:20170331T140000Z
DTEND:20170331T145000Z
LOCATION:America
SUMMARY:TimescaleDB: Designing a scalable time-series database on PostgreSQ
 L (Mike Freedman)
URL:https://postgresconf.io/conferences/2017/program/proposals/517
END:VEVENT
BEGIN:VEVENT
DTSTAMP:20260420T093056Z
UID:faa1b5b3-e7f8-4fe2-aefb-3d9f16f09fc0
DTSTART:20170331T150000Z
DTEND:20170331T153000Z
LOCATION:Newport Grand Ballroom
SUMMARY:Lightning Talks (PostgresConf Organizers)
URL:https://postgresconf.io/conferences/2017/program/proposals/563
END:VEVENT
BEGIN:VEVENT
DTSTAMP:20260420T093056Z
UID:8a67e47d-3120-4ee4-b82e-d425e5d66c63
DTSTART:20170331T153000Z
DTEND:20170331T155000Z
LOCATION:Newport Grand Ballroom
SUMMARY:Final Remarks and Conference Close (PostgresConf Organizers)
URL:https://postgresconf.io/conferences/2017/program/proposals/496
END:VEVENT
END:VCALENDAR
