BEGIN:VCALENDAR
VERSION:2.0
PRODID:PostgresConf US 2018
CALSCALE:GREGORIAN
BEGIN:VEVENT
DTSTAMP:20260420T055631Z
UID:12c0b401-f064-4174-8cd4-0e9bcc585f79
DTSTART:20180416T130000Z
DTEND:20180416T160000Z
LOCATION:America
SUMMARY:Aurora PostgreSQL Tutorial and Extended Deep Dive (James Finnerty)
URL:https://postgresconf.io/conferences/2018/program/proposals/155
END:VEVENT
BEGIN:VEVENT
DTSTAMP:20260420T055631Z
UID:5b25e615-5fcd-4a08-a5ae-0e5c5cec5185
DTSTART:20180416T130000Z
DTEND:20180416T160000Z
LOCATION:Liberty II
SUMMARY:Mastering PostgreSQL Administration (Bruce Momjian)
URL:https://postgresconf.io/conferences/2018/program/proposals/156
END:VEVENT
BEGIN:VEVENT
DTSTAMP:20260420T055631Z
UID:56ebacba-f4d9-444b-a89f-f59eee32730c
DTSTART:20180416T130000Z
DTEND:20180416T160000Z
LOCATION:Enterprise
SUMMARY:Personal Time Management (Thomas Limoncelli)
URL:https://postgresconf.io/conferences/2018/program/proposals/139
END:VEVENT
BEGIN:VEVENT
DTSTAMP:20260420T055631Z
UID:1b5959f2-bfeb-460f-969f-741e40a3ab45
DTSTART:20180416T130000Z
DTEND:20180416T160000Z
LOCATION:Liberty III
SUMMARY:High Availability PostgreSQL and Kubernetes with Google Cloud (Alex
 is Guajardo and  Gabi Ferrara)
URL:https://postgresconf.io/conferences/2018/program/proposals/243
END:VEVENT
BEGIN:VEVENT
DTSTAMP:20260420T055631Z
UID:18c0b2d4-b2f8-4d42-9df3-aa00d70059b9
DTSTART:20180416T130000Z
DTEND:20180416T160000Z
LOCATION:Liberty I
SUMMARY:Tutorial on Modern PostgreSQL High Availability (Alvaro Hernandez a
 nd Pablo González Doval)
URL:https://postgresconf.io/conferences/2018/program/proposals/227
END:VEVENT
BEGIN:VEVENT
DTSTAMP:20260420T055631Z
UID:f3b8702a-c1f9-4315-9a22-be102853be9e
DTSTART:20180416T160000Z
DTEND:20180416T170000Z
LOCATION:Newport Grand Ballroom
SUMMARY:Monday Lunch
URL:https://postgresconf.io/conferences/2018/program/proposals/253
END:VEVENT
BEGIN:VEVENT
DTSTAMP:20260420T055631Z
UID:24d8bc26-ad31-421d-991a-454c61518b02
DTSTART:20180417T160000Z
DTEND:20180417T170000Z
LOCATION:Newport Grand Ballroom
SUMMARY:Tuesday Lunch
URL:https://postgresconf.io/conferences/2018/program/proposals/254
END:VEVENT
BEGIN:VEVENT
DTSTAMP:20260420T055631Z
UID:8845d309-4a6d-4311-a023-6447874ae170
DTSTART:20180418T132000Z
DTEND:20180418T134000Z
LOCATION:Newport Grand Ballroom
SUMMARY:Amazon and PostgreSQL: Better together (Mark Porter)
URL:https://postgresconf.io/conferences/2018/program/proposals/285
END:VEVENT
BEGIN:VEVENT
DTSTAMP:20260420T055632Z
UID:411648d5-0df3-4c76-a553-f1799dadcab7
DTSTART:20180418T135000Z
DTEND:20180418T141000Z
LOCATION:Newport Grand Ballroom
SUMMARY:Data Tells the Story (Scott Yara)
URL:https://postgresconf.io/conferences/2018/program/proposals/199
END:VEVENT
BEGIN:VEVENT
DTSTAMP:20260420T055632Z
UID:f24494d7-b1a1-415d-bed8-b7be7e2c0971
DTSTART:20180418T141000Z
DTEND:20180418T143000Z
LOCATION:Newport Grand Ballroom
SUMMARY:Break
URL:https://postgresconf.io/conferences/2018/program/proposals/265
END:VEVENT
BEGIN:VEVENT
DTSTAMP:20260420T055632Z
UID:27275d18-5e38-4f55-bc07-daff587c51a8
DTSTART:20180418T143000Z
DTEND:20180418T152000Z
LOCATION:America
SUMMARY:Constraints: a Developer's Secret Weapon (Will Leinweber)
URL:https://postgresconf.io/conferences/2018/program/proposals/237
END:VEVENT
BEGIN:VEVENT
DTSTAMP:20260420T055632Z
UID:534d76c3-3739-4ba1-a230-e665aff129bc
DTSTART:20180418T143000Z
DTEND:20180418T145000Z
LOCATION:Liberty I
SUMMARY:Reducing The Surface Area Of Risk In Data Security (Tim Gorman)
URL:https://postgresconf.io/conferences/2018/program/proposals/154
END:VEVENT
BEGIN:VEVENT
DTSTAMP:20260420T055632Z
UID:353c05a7-6d89-45eb-ab23-cb8d488791a4
DTSTART:20180418T143000Z
DTEND:20180418T152000Z
LOCATION:Enterprise
SUMMARY: Automated Postgres Failover and Caching with Zero Code Changes ( E
 rik Brandsberg)
URL:https://postgresconf.io/conferences/2018/program/proposals/145
END:VEVENT
BEGIN:VEVENT
DTSTAMP:20260420T055632Z
UID:ecab0d06-b9e9-4113-a19f-b66333cb8921
DTSTART:20180418T143000Z
DTEND:20180418T152000Z
LOCATION:Liberty II-III
SUMMARY:A Regulatory Tale for Financial Services and Government (Ivan Novic
 k)
URL:https://postgresconf.io/conferences/2018/program/proposals/200
END:VEVENT
BEGIN:VEVENT
DTSTAMP:20260420T055632Z
UID:47a9dfc2-b00a-4ad6-b9b5-f30dbae02c25
DTSTART:20180418T143000Z
DTEND:20180418T152000Z
LOCATION:Freedom
SUMMARY:Greenplum Overview for Postgres Hackers (Heikki Heikki Linnakangas)
URL:https://postgresconf.io/conferences/2018/program/proposals/214
END:VEVENT
BEGIN:VEVENT
DTSTAMP:20260420T055632Z
UID:ed64c666-26e1-401a-9c56-60db2fc0725e
DTSTART:20180418T150000Z
DTEND:20180418T152000Z
LOCATION:Liberty I
SUMMARY:Monitoring PostgreSQL 101 (Jason Yee)
URL:https://postgresconf.io/conferences/2018/program/proposals/120
END:VEVENT
BEGIN:VEVENT
DTSTAMP:20260420T055632Z
UID:72d0c84b-995b-44cb-9897-6aa4ef56f88a
DTSTART:20180418T153000Z
DTEND:20180418T162000Z
LOCATION:Liberty I
SUMMARY:Building data pipelines with PostgreSQL and Kafka (Oskari Saarenmaa
 )
URL:https://postgresconf.io/conferences/2018/program/proposals/115
END:VEVENT
BEGIN:VEVENT
DTSTAMP:20260420T055632Z
UID:3cca0fa3-be72-4005-981e-5808d2f9e92b
DTSTART:20180418T153000Z
DTEND:20180418T162000Z
LOCATION:Enterprise
SUMMARY:Taking care of the elephant (Michael Meskes)
URL:https://postgresconf.io/conferences/2018/program/proposals/42
END:VEVENT
BEGIN:VEVENT
DTSTAMP:20260420T055632Z
UID:74a85adc-c1ee-4266-af4b-09612ca571db
DTSTART:20180418T153000Z
DTEND:20180418T162000Z
LOCATION:Freedom
SUMMARY:PostGIS Gotchas (Paul Ramsey)
URL:https://postgresconf.io/conferences/2018/program/proposals/77
END:VEVENT
BEGIN:VEVENT
DTSTAMP:20260420T055632Z
UID:546166f5-972c-4646-97b9-942beca1637f
DTSTART:20180418T153000Z
DTEND:20180418T162000Z
LOCATION:Liberty II-III
SUMMARY:How FINRA is Migrating to Postgres (Steve Downs)
URL:https://postgresconf.io/conferences/2018/program/proposals/239
END:VEVENT
BEGIN:VEVENT
DTSTAMP:20260420T055632Z
UID:57daad66-933a-4a31-b077-3d968f7c70c9
DTSTART:20180418T153000Z
DTEND:20180418T162000Z
LOCATION:America
SUMMARY:TimescaleDB: Re-engineering PostgreSQL as a time-series database (M
 ichael Freedman)
URL:https://postgresconf.io/conferences/2018/program/proposals/197
END:VEVENT
BEGIN:VEVENT
DTSTAMP:20260420T055632Z
UID:951b6590-b0f4-4aba-93de-024d56d9001d
DTSTART:20180418T162000Z
DTEND:20180418T172000Z
LOCATION:Newport Grand Ballroom
SUMMARY:Wednesday Lunch I
URL:https://postgresconf.io/conferences/2018/program/proposals/257
END:VEVENT
BEGIN:VEVENT
DTSTAMP:20260420T055632Z
UID:8be12656-49f9-428c-8b12-8d041230e622
DTSTART:20180418T163000Z
DTEND:20180418T172000Z
LOCATION:Freedom
SUMMARY:Understanding PostgreSQL IO (Jan Wieck)
URL:https://postgresconf.io/conferences/2018/program/proposals/142
END:VEVENT
BEGIN:VEVENT
DTSTAMP:20260420T055632Z
UID:78c39b4b-55e6-415d-ab0a-e251b69cbd75
DTSTART:20180418T163000Z
DTEND:20180418T172000Z
LOCATION:America
SUMMARY:Postgres Window Magic (Bruce Momjian)
URL:https://postgresconf.io/conferences/2018/program/proposals/166
END:VEVENT
BEGIN:VEVENT
DTSTAMP:20260420T055632Z
UID:81f4fbc0-45ee-4413-8aa9-f1c3ebcf7b0f
DTSTART:20180418T163000Z
DTEND:20180418T165000Z
LOCATION:Enterprise
SUMMARY:Professional PostgreSQL monitoring made easy with pgwatch2 (Kaarel 
 Moppel)
URL:https://postgresconf.io/conferences/2018/program/proposals/192
END:VEVENT
BEGIN:VEVENT
DTSTAMP:20260420T055632Z
UID:f88cd6cc-eca6-4306-8663-f96ba638c1ba
DTSTART:20180419T132000Z
DTEND:20180419T134000Z
LOCATION:Liberty II-III
SUMMARY:Greenplum: A Pivotal Moment on Wall Street (Howard Goldberg)
URL:https://postgresconf.io/conferences/2018/program/proposals/149
END:VEVENT
BEGIN:VEVENT
DTSTAMP:20260420T055632Z
UID:d7d37667-3bca-49ef-a4f1-5ea5c5f5340f
DTSTART:20180419T135000Z
DTEND:20180419T141000Z
LOCATION:Liberty II-III
SUMMARY:Greenplum for Internet Scale Analytics and Mining (Shaun Litt)
URL:https://postgresconf.io/conferences/2018/program/proposals/202
END:VEVENT
BEGIN:VEVENT
DTSTAMP:20260420T055632Z
UID:9b537c45-e165-4e59-852e-d85d7d36cbc2
DTSTART:20180419T135000Z
DTEND:20180419T144000Z
LOCATION:Freedom
SUMMARY:PostgreSQL at 20TB and Beyond (Christopher Travers)
URL:https://postgresconf.io/conferences/2018/program/proposals/73
END:VEVENT
BEGIN:VEVENT
DTSTAMP:20260420T055632Z
UID:1b5ba5b9-0dee-4a3b-9cce-4c62931d72c8
DTSTART:20180419T135000Z
DTEND:20180419T144000Z
LOCATION:Liberty I
SUMMARY:How to Benchmark the Next Generation of Databases (Arjun Narayan)
URL:https://postgresconf.io/conferences/2018/program/proposals/250
END:VEVENT
BEGIN:VEVENT
DTSTAMP:20260420T055632Z
UID:cbff1042-bff5-405c-898a-213dbfd8eeca
DTSTART:20180419T135000Z
DTEND:20180419T144000Z
LOCATION:America
SUMMARY:Tour de Data Types: VARCHAR2 or CHAR(255)? (Andreas Scherbaum)
URL:https://postgresconf.io/conferences/2018/program/proposals/36
END:VEVENT
BEGIN:VEVENT
DTSTAMP:20260420T055632Z
UID:829dfaff-7ae9-43da-a106-e1614f38472f
DTSTART:20180419T135000Z
DTEND:20180419T144000Z
LOCATION:Enterprise
SUMMARY:So you wanna run your database on Kubernetes? (JP Phillips)
URL:https://postgresconf.io/conferences/2018/program/proposals/282
END:VEVENT
BEGIN:VEVENT
DTSTAMP:20260420T055632Z
UID:26efe1c2-8452-4a27-a850-a11454d08ba2
DTSTART:20180419T142000Z
DTEND:20180419T144000Z
LOCATION:Liberty II-III
SUMMARY:Executive Panel: DataOps In Practice - A Better Way to Develop and 
 Deliver Analytics (Jacque Istok\, Stephen O'Grady\, Shaun Litt\, and Niels
  Kasch)
URL:https://postgresconf.io/conferences/2018/program/proposals/203
END:VEVENT
BEGIN:VEVENT
DTSTAMP:20260420T055632Z
UID:a4dcbd13-6747-48f7-8a44-5fa52097b6d6
DTSTART:20180419T145000Z
DTEND:20180419T154000Z
LOCATION:Enterprise
SUMMARY:The Power of Postgres Logical Replication (Joshua D. Drake)
URL:https://postgresconf.io/conferences/2018/program/proposals/249
END:VEVENT
BEGIN:VEVENT
DTSTAMP:20260420T055632Z
UID:ad6879f3-b073-4f91-98af-5df8d5583785
DTSTART:20180419T145000Z
DTEND:20180419T154000Z
LOCATION:Liberty I
SUMMARY:Warehouse Benchmark: Redshift vs BigQuery vs Snowflake (George Fras
 er)
URL:https://postgresconf.io/conferences/2018/program/proposals/107
END:VEVENT
BEGIN:VEVENT
DTSTAMP:20260420T055633Z
UID:6b925e19-5bae-4009-8734-12c69a43044a
DTSTART:20180419T145000Z
DTEND:20180419T154000Z
LOCATION:Liberty II-III
SUMMARY:What It Means to Be a Massively Parallel Postgres DBA (Pravin Rao a
 nd Randy Willard)
URL:https://postgresconf.io/conferences/2018/program/proposals/215
END:VEVENT
BEGIN:VEVENT
DTSTAMP:20260420T055633Z
UID:4672e681-85c7-4eb8-b192-6878e59c0ac6
DTSTART:20180419T145000Z
DTEND:20180419T154000Z
LOCATION:America
SUMMARY:ANSI\, Schmansi! (Sehrope Sarkuni)
URL:https://postgresconf.io/conferences/2018/program/proposals/121
END:VEVENT
BEGIN:VEVENT
DTSTAMP:20260420T055633Z
UID:027861e1-61d7-48cf-a21a-e5ef77e03d5c
DTSTART:20180419T145000Z
DTEND:20180419T151000Z
LOCATION:Freedom
SUMMARY:Distributing postgres with postgres-XL for very large astronomical 
 databases (Pilar de Teodoro)
URL:https://postgresconf.io/conferences/2018/program/proposals/179
END:VEVENT
BEGIN:VEVENT
DTSTAMP:20260420T055633Z
UID:7cd2f3f1-aab3-48ca-8321-9d0abe8c5e9e
DTSTART:20180419T152000Z
DTEND:20180419T154000Z
LOCATION:Freedom
SUMMARY:PostgreSQL in a geographically distributed realtime transactional s
 ystem (Malcolm McLean)
URL:https://postgresconf.io/conferences/2018/program/proposals/148
END:VEVENT
BEGIN:VEVENT
DTSTAMP:20260420T055633Z
UID:420f1730-c642-4355-ab0d-a35f3cb1a67d
DTSTART:20180419T155000Z
DTEND:20180419T165000Z
LOCATION:Newport Grand Ballroom
SUMMARY:Thursday Lunch I
URL:https://postgresconf.io/conferences/2018/program/proposals/259
END:VEVENT
BEGIN:VEVENT
DTSTAMP:20260420T055633Z
UID:77c9ca18-9237-4c2d-bb0f-8bb220163a67
DTSTART:20180419T155000Z
DTEND:20180419T164000Z
LOCATION:America
SUMMARY:Using GIS in PostgreSQL (Lloyd Albin)
URL:https://postgresconf.io/conferences/2018/program/proposals/78
END:VEVENT
BEGIN:VEVENT
DTSTAMP:20260420T055633Z
UID:9c2f0ee6-fd7f-4bbd-aab0-94ce38f05160
DTSTART:20180419T155000Z
DTEND:20180419T164000Z
LOCATION:Freedom
SUMMARY:ora_migrator: Moving from Oracle to PostgreSQL (Hans-Jürgen Schön
 ig)
URL:https://postgresconf.io/conferences/2018/program/proposals/58
END:VEVENT
BEGIN:VEVENT
DTSTAMP:20260420T055633Z
UID:63a932aa-8014-45d8-aaaf-3f7461df6e8b
DTSTART:20180419T155000Z
DTEND:20180419T164000Z
LOCATION:Enterprise
SUMMARY:Architecture & Pitfalls of Logical Replication (Atsushi Torikoshi)
URL:https://postgresconf.io/conferences/2018/program/proposals/180
END:VEVENT
BEGIN:VEVENT
DTSTAMP:20260420T055633Z
UID:4c9d9664-46f8-4d18-83e3-21c2098b2199
DTSTART:20180419T165000Z
DTEND:20180419T174000Z
LOCATION:Liberty II-III
SUMMARY:Machine Learning\, Graph\, Text and Geospatial on Postgres and Gree
 nplum  (Bharath Sitaraman and Frank McQuillan)
URL:https://postgresconf.io/conferences/2018/program/proposals/222
END:VEVENT
BEGIN:VEVENT
DTSTAMP:20260420T055633Z
UID:cd0f654d-451a-426e-8cdf-3d3319a4cbf8
DTSTART:20180419T165000Z
DTEND:20180419T175000Z
LOCATION:Newport Grand Ballroom
SUMMARY:Thursday Lunch II
URL:https://postgresconf.io/conferences/2018/program/proposals/260
END:VEVENT
BEGIN:VEVENT
DTSTAMP:20260420T055633Z
UID:ddbf9e12-a35b-4717-9ec4-c1f3befd485a
DTSTART:20180419T165000Z
DTEND:20180419T174000Z
LOCATION:America
SUMMARY:Distributed Foreign Data Wrappers (Mason Sharp)
URL:https://postgresconf.io/conferences/2018/program/proposals/229
END:VEVENT
BEGIN:VEVENT
DTSTAMP:20260420T055633Z
UID:8210de59-a3f9-4e47-a05b-2b832a1c081d
DTSTART:20180419T165000Z
DTEND:20180419T174000Z
LOCATION:Liberty I
SUMMARY:Caching Data with Redis Data Structures (Dave Nielsen)
URL:https://postgresconf.io/conferences/2018/program/proposals/125
END:VEVENT
BEGIN:VEVENT
DTSTAMP:20260420T055633Z
UID:d2926237-209d-4ccd-b815-fd12d9e74fbf
DTSTART:20180420T132000Z
DTEND:20180420T134000Z
LOCATION:America
SUMMARY:Contributing to PostgreSQL (Andrew Dunstan)
URL:https://postgresconf.io/conferences/2018/program/proposals/140
END:VEVENT
BEGIN:VEVENT
DTSTAMP:20260420T055633Z
UID:b37abee3-de7a-4824-919e-79f52d4cb5ce
DTSTART:20180420T135000Z
DTEND:20180420T144000Z
LOCATION:Freedom
SUMMARY:Distributing queries the Citus way (Marco Slot)
URL:https://postgresconf.io/conferences/2018/program/proposals/233
END:VEVENT
BEGIN:VEVENT
DTSTAMP:20260420T055633Z
UID:e764e251-247a-4174-9679-e6f476b73ea3
DTSTART:20180420T135000Z
DTEND:20180420T144000Z
LOCATION:Enterprise
SUMMARY:Radical Ideas from the Practice of Cloud Computing (Thomas Limoncel
 li)
URL:https://postgresconf.io/conferences/2018/program/proposals/138
END:VEVENT
BEGIN:VEVENT
DTSTAMP:20260420T055633Z
UID:e3158e5b-81f6-4f6a-b66c-f6f0bbb477f1
DTSTART:20180420T135000Z
DTEND:20180420T144000Z
LOCATION:Liberty I
SUMMARY:Deep Dive into the RDS PostgreSQL Universe (Jignesh Shah)
URL:https://postgresconf.io/conferences/2018/program/proposals/118
END:VEVENT
BEGIN:VEVENT
DTSTAMP:20260420T055633Z
UID:d7e815fd-4580-416e-a073-64f2abd8f63e
DTSTART:20180420T135000Z
DTEND:20180420T144000Z
LOCATION:Liberty II-III
SUMMARY:Greenplum Kontained: Coordinating Many Postgres Instances on Kubern
 etes (Goutam Tadi)
URL:https://postgresconf.io/conferences/2018/program/proposals/221
END:VEVENT
BEGIN:VEVENT
DTSTAMP:20260420T055633Z
UID:c0e89fe7-13ba-4872-b136-a10f29beebf3
DTSTART:20180420T135000Z
DTEND:20180420T144000Z
LOCATION:America
SUMMARY:From Startup to Mature Company (John Ashmead)
URL:https://postgresconf.io/conferences/2018/program/proposals/134
END:VEVENT
BEGIN:VEVENT
DTSTAMP:20260420T055633Z
UID:ebaaa651-be5a-4a7d-90b2-c5ab15d8f871
DTSTART:20180420T145000Z
DTEND:20180420T154000Z
LOCATION:America
SUMMARY:Real-Time Data Streams from PostgreSQL: A Game Changer in Applicati
 on Architecture (Jonathan Katz)
URL:https://postgresconf.io/conferences/2018/program/proposals/144
END:VEVENT
BEGIN:VEVENT
DTSTAMP:20260420T055633Z
UID:5825df79-35f2-4d0a-bebc-3d4c6ca1ed78
DTSTART:20180420T145000Z
DTEND:20180420T154000Z
LOCATION:Freedom
SUMMARY:All the dirt on VACUUM (Jim Nasby)
URL:https://postgresconf.io/conferences/2018/program/proposals/208
END:VEVENT
BEGIN:VEVENT
DTSTAMP:20260420T055633Z
UID:bffd0b35-eda6-4d7c-9092-30bde93b5366
DTSTART:20180420T145000Z
DTEND:20180420T154000Z
LOCATION:Liberty I
SUMMARY:PostgreSQL on AWS: Tips & Tricks (and horror stories) (Alexander Ku
 kushkin)
URL:https://postgresconf.io/conferences/2018/program/proposals/212
END:VEVENT
BEGIN:VEVENT
DTSTAMP:20260420T055633Z
UID:9db5966e-c007-4da7-a160-c58233b29df0
DTSTART:20180420T145000Z
DTEND:20180420T154000Z
LOCATION:Enterprise
SUMMARY:Next generation PostgreSQL replication with pglogical 3 and BDR 3 (
 Peter Eisentraut)
URL:https://postgresconf.io/conferences/2018/program/proposals/127
END:VEVENT
BEGIN:VEVENT
DTSTAMP:20260420T055633Z
UID:c6faa287-18f3-4a94-9021-908e74ea58fa
DTSTART:20180420T145000Z
DTEND:20180420T154000Z
LOCATION:Liberty II-III
SUMMARY:Achieving Data Privacy Compliance in Postgres or Greenplum (Les McM
 onagle)
URL:https://postgresconf.io/conferences/2018/program/proposals/122
END:VEVENT
BEGIN:VEVENT
DTSTAMP:20260420T055633Z
UID:bd9bab15-83b3-4b67-ab7b-6dd1dcf04883
DTSTART:20180420T155000Z
DTEND:20180420T165000Z
LOCATION:Newport Grand Ballroom
SUMMARY:Friday Lunch
URL:https://postgresconf.io/conferences/2018/program/proposals/261
END:VEVENT
BEGIN:VEVENT
DTSTAMP:20260420T055633Z
UID:a80e740a-2254-4eba-962f-00e3f47f25eb
DTSTART:20180420T165000Z
DTEND:20180420T174000Z
LOCATION:America
SUMMARY:How To Index Your Database (Baron Schwartz)
URL:https://postgresconf.io/conferences/2018/program/proposals/247
END:VEVENT
BEGIN:VEVENT
DTSTAMP:20260420T055633Z
UID:53d7e304-9964-4600-a2a6-774a54e2485a
DTSTART:20180420T165000Z
DTEND:20180420T174000Z
LOCATION:Enterprise
SUMMARY:NoSQL Best Practices for PostgreSQL (Dmitry Dolgov)
URL:https://postgresconf.io/conferences/2018/program/proposals/105
END:VEVENT
BEGIN:VEVENT
DTSTAMP:20260420T055633Z
UID:b7e59654-c4b9-4ef4-b8f4-c1d80eaf68cf
DTSTART:20180420T165000Z
DTEND:20180420T174000Z
LOCATION:Freedom
SUMMARY:A Roadmap to Continuous Materialized Views (Corey Huinker)
URL:https://postgresconf.io/conferences/2018/program/proposals/114
END:VEVENT
BEGIN:VEVENT
DTSTAMP:20260420T055633Z
UID:50e187f3-1c18-47e3-ab5c-581067be52f2
DTSTART:20180420T165000Z
DTEND:20180420T174000Z
LOCATION:Liberty I
SUMMARY:Combine the power of community PostgreSQL and Microsoft Azure to mi
 grate existing or build new apps (Sunil Kamath)
URL:https://postgresconf.io/conferences/2018/program/proposals/153
END:VEVENT
BEGIN:VEVENT
DTSTAMP:20260420T055633Z
UID:f4633255-0da7-4cf1-b194-ecfb75a2c2ce
DTSTART:20180420T165000Z
DTEND:20180420T174000Z
LOCATION:Liberty II-III
SUMMARY:Change Data Capture for a brave new world (Hannu Valtonen)
URL:https://postgresconf.io/conferences/2018/program/proposals/187
END:VEVENT
END:VCALENDAR
