BEGIN:VCALENDAR
VERSION:2.0
PRODID:Postgres Conference 2024
CALSCALE:GREGORIAN
BEGIN:VEVENT
DTSTAMP:20260420T055634Z
UID:2b097257-4722-4de9-89ff-bca498735191
DTSTART:20240417T160000Z
DTEND:20240417T163000Z
LOCATION:Almaden
SUMMARY:Conference Launch + Keynote (Zak Tedder)
URL:https://postgresconf.io/conferences/2024/program/proposals/2148
END:VEVENT
BEGIN:VEVENT
DTSTAMP:20260420T055634Z
UID:632be1c2-a119-43b5-a7a0-2bd3deef81ee
DTSTART:20240417T164000Z
DTEND:20240417T170000Z
LOCATION:Almaden
SUMMARY:Why We Put GPUs in the Database (Montana Low)
URL:https://postgresconf.io/conferences/2024/program/proposals/2260
END:VEVENT
BEGIN:VEVENT
DTSTAMP:20260420T055634Z
UID:180331df-407f-48a1-8aa7-96d2920125b9
DTSTART:20240417T171000Z
DTEND:20240417T173000Z
LOCATION:Almaden
SUMMARY:Enabling New Operational Use Cases with PostgreSQL (Frank McSherry)
URL:https://postgresconf.io/conferences/2024/program/proposals/2262
END:VEVENT
BEGIN:VEVENT
DTSTAMP:20260420T055634Z
UID:aedc8f2e-465d-487e-8305-0e5fb1da1dde
DTSTART:20240417T174000Z
DTEND:20240417T180000Z
LOCATION:Almaden
SUMMARY:Innovating for all with PostgreSQL at AWS (Jignesh Shah)
URL:https://postgresconf.io/conferences/2024/program/proposals/2263
END:VEVENT
BEGIN:VEVENT
DTSTAMP:20260420T055634Z
UID:500cb661-de5b-41bf-9aca-8b479a3b5c21
DTSTART:20240417T181000Z
DTEND:20240417T183000Z
LOCATION:San Pedro
SUMMARY:Managing at scale Postgres version upgrades with minimum downtime (
 Jignesh Shah)
URL:https://postgresconf.io/conferences/2024/program/proposals/2111
END:VEVENT
BEGIN:VEVENT
DTSTAMP:20260420T055634Z
UID:d77313cc-782f-4b60-9066-adbf5746c266
DTSTART:20240417T181000Z
DTEND:20240417T190000Z
LOCATION:Winchester
SUMMARY:PgCompute: Creating Stored Procedures the Developer Way (Denis Magd
 a)
URL:https://postgresconf.io/conferences/2024/program/proposals/2119
END:VEVENT
BEGIN:VEVENT
DTSTAMP:20260420T055634Z
UID:df32865c-4139-45af-a1c8-d93a9d27458b
DTSTART:20240417T181000Z
DTEND:20240417T190000Z
LOCATION:Almaden
SUMMARY:Better materialized views in 1 million LOC: Inside Materialize's Po
 stgreSQL source (Frank McSherry)
URL:https://postgresconf.io/conferences/2024/program/proposals/2240
END:VEVENT
BEGIN:VEVENT
DTSTAMP:20260420T055634Z
UID:31f564ca-e57c-448e-8477-22c197db6c28
DTSTART:20240417T181000Z
DTEND:20240417T190000Z
LOCATION:Santa Clara
SUMMARY:Cloud-native Postgres observability: from client apps to underlying
  cloud resources (Nikolay Sivko)
URL:https://postgresconf.io/conferences/2024/program/proposals/2203
END:VEVENT
BEGIN:VEVENT
DTSTAMP:20260420T055634Z
UID:92d4644b-e682-4fba-ac03-3808966b10fd
DTSTART:20240417T184000Z
DTEND:20240417T190000Z
LOCATION:San Pedro
SUMMARY:Looking for the differences in your data. (Tatiana Krupenya)
URL:https://postgresconf.io/conferences/2024/program/proposals/2255
END:VEVENT
BEGIN:VEVENT
DTSTAMP:20260420T055634Z
UID:c2227c70-07f0-4536-b604-05852f8208b2
DTSTART:20240417T191000Z
DTEND:20240417T193000Z
LOCATION:San Pedro
SUMMARY:Postgres in Dockers on ZFS (Kobus Wolvaardt)
URL:https://postgresconf.io/conferences/2024/program/proposals/2138
END:VEVENT
BEGIN:VEVENT
DTSTAMP:20260420T055634Z
UID:b80bdb22-db18-4f3e-b013-644a0ef08c41
DTSTART:20240417T191000Z
DTEND:20240417T200000Z
LOCATION:Almaden
SUMMARY:Deep Dive into Amazon Aurora Limitless Database and its innovations
  (David Wein)
URL:https://postgresconf.io/conferences/2024/program/proposals/2269
END:VEVENT
BEGIN:VEVENT
DTSTAMP:20260420T055634Z
UID:634a49f3-419d-43d4-97c2-b4c027bed945
DTSTART:20240417T191000Z
DTEND:20240417T200000Z
LOCATION:Winchester
SUMMARY:pg_hint_plan – get the right plan without surprises (Amit Chauhan
 )
URL:https://postgresconf.io/conferences/2024/program/proposals/2091
END:VEVENT
BEGIN:VEVENT
DTSTAMP:20260420T055634Z
UID:4ae345dd-8c16-4a2c-861a-37126c5fe71c
DTSTART:20240417T191000Z
DTEND:20240417T200000Z
LOCATION:Santa Clara
SUMMARY:Troubleshoot PostgreSQL performance by use case (Wanda  He and Thuy
 my Tran)
URL:https://postgresconf.io/conferences/2024/program/proposals/2232
END:VEVENT
BEGIN:VEVENT
DTSTAMP:20260420T055634Z
UID:5d9fcd7c-4ac0-4add-a02c-bfa839179a2d
DTSTART:20240417T194000Z
DTEND:20240417T200000Z
LOCATION:San Pedro
SUMMARY:Good bye sequences\, hello Snowflakes (Jan Wieck)
URL:https://postgresconf.io/conferences/2024/program/proposals/2147
END:VEVENT
BEGIN:VEVENT
DTSTAMP:20260420T055634Z
UID:36b2c3f5-574f-4da7-96d8-ee9b9c860f37
DTSTART:20240417T200000Z
DTEND:20240417T210000Z
LOCATION:Almaden
SUMMARY:Wednesday Lunch (PostgresConf Organizers)
URL:https://postgresconf.io/conferences/2024/program/proposals/2279
END:VEVENT
BEGIN:VEVENT
DTSTAMP:20260420T055634Z
UID:bc40aa5c-f628-4f02-933d-fe7f848251a0
DTSTART:20240417T210000Z
DTEND:20240417T215000Z
LOCATION:San Pedro
SUMMARY:Zero-downtime Postgres Major Version Upgrades (Biren Shah)
URL:https://postgresconf.io/conferences/2024/program/proposals/2180
END:VEVENT
BEGIN:VEVENT
DTSTAMP:20260420T055634Z
UID:3ae1f9a8-f328-45ca-a999-94b850301c25
DTSTART:20240417T210000Z
DTEND:20240417T215000Z
LOCATION:Winchester
SUMMARY:"Behind the Scenes: Demystifying Transaction Isolation in App Devel
 opment" (Chandra Pathivada)
URL:https://postgresconf.io/conferences/2024/program/proposals/2127
END:VEVENT
BEGIN:VEVENT
DTSTAMP:20260420T055634Z
UID:6dd286f4-6cde-4dda-a506-d0ba03e13250
DTSTART:20240417T210000Z
DTEND:20240417T215000Z
LOCATION:Santa Clara
SUMMARY:Do You Know A CID From An OID Or An XID? A beginners guide to the a
 lphabet soup found in and around PostgreSQL touples.  (Dave Stokes)
URL:https://postgresconf.io/conferences/2024/program/proposals/2131
END:VEVENT
BEGIN:VEVENT
DTSTAMP:20260420T055634Z
UID:c4b6a433-8281-4be9-920c-060e9998463e
DTSTART:20240417T210000Z
DTEND:20240417T212000Z
LOCATION:Almaden
SUMMARY:Use Cases for Multi-Master Distributed Postgres (Phillip Merrick)
URL:https://postgresconf.io/conferences/2024/program/proposals/2265
END:VEVENT
BEGIN:VEVENT
DTSTAMP:20260420T055634Z
UID:a16b036d-349e-4fe4-b85d-3857e6404f5d
DTSTART:20240417T213000Z
DTEND:20240417T215000Z
LOCATION:Almaden
SUMMARY:How can you measure PostgreSQL portability? (Drew Stevens)
URL:https://postgresconf.io/conferences/2024/program/proposals/2229
END:VEVENT
BEGIN:VEVENT
DTSTAMP:20260420T055634Z
UID:95418a73-4004-406c-b9e6-aad188194b0d
DTSTART:20240417T221000Z
DTEND:20240417T230000Z
LOCATION:Winchester
SUMMARY:Schema Evolution - The Hard Parts (Gwen Shapira)
URL:https://postgresconf.io/conferences/2024/program/proposals/2181
END:VEVENT
BEGIN:VEVENT
DTSTAMP:20260420T055634Z
UID:970d508a-fc0a-4a32-a7dd-6662efe50ad5
DTSTART:20240417T221000Z
DTEND:20240417T230000Z
LOCATION:Santa Clara
SUMMARY:Reducing Costs and Improving Performance With Data Modeling in Post
 gres (Charly Batista)
URL:https://postgresconf.io/conferences/2024/program/proposals/2135
END:VEVENT
BEGIN:VEVENT
DTSTAMP:20260420T055634Z
UID:5ecc5885-675b-4adb-b4e2-a1daa8917652
DTSTART:20240417T221000Z
DTEND:20240417T230000Z
LOCATION:San Pedro
SUMMARY:Cloud Native PostgreSQL - Running PostgreSQL on Kubernetes  (Peter 
 Zaitsev)
URL:https://postgresconf.io/conferences/2024/program/proposals/2247
END:VEVENT
BEGIN:VEVENT
DTSTAMP:20260420T055634Z
UID:66540682-2de7-4d50-b174-8dd62cf84722
DTSTART:20240417T221000Z
DTEND:20240417T230000Z
LOCATION:Almaden
SUMMARY:Zero Trust database access with DBHawk (Manish Shah)
URL:https://postgresconf.io/conferences/2024/program/proposals/2266
END:VEVENT
BEGIN:VEVENT
DTSTAMP:20260420T055634Z
UID:9fd0d55d-9541-4d7b-8afd-0c2247fe5a4a
DTSTART:20240417T231000Z
DTEND:20240418T000000Z
LOCATION:Winchester
SUMMARY:Pushing boundaries with extensions\, for extensions (Yurii Rashkovs
 kii)
URL:https://postgresconf.io/conferences/2024/program/proposals/2188
END:VEVENT
BEGIN:VEVENT
DTSTAMP:20260420T055635Z
UID:dc64506f-3b1a-485c-8e72-6e918423b635
DTSTART:20240417T231000Z
DTEND:20240418T000000Z
LOCATION:San Pedro
SUMMARY:Achieving High Availability (HA) in PostgreSQL: Strategies\, Tools\
 , and Best Practices (Dr. Ibrar Ahmed)
URL:https://postgresconf.io/conferences/2024/program/proposals/2151
END:VEVENT
BEGIN:VEVENT
DTSTAMP:20260420T055635Z
UID:c20cd978-2578-4b39-afa1-5d1c8f971965
DTSTART:20240417T231000Z
DTEND:20240418T000000Z
LOCATION:Santa Clara
SUMMARY:Why PostgreSQL Isn't Utilizing Indexes: Diagnosing and Solving Perf
 ormance Issues" (Chandra Pathivada)
URL:https://postgresconf.io/conferences/2024/program/proposals/2126
END:VEVENT
BEGIN:VEVENT
DTSTAMP:20260420T055635Z
UID:5fe8519d-9715-45d7-9e12-4ed41f60f4b2
DTSTART:20240417T231000Z
DTEND:20240418T000000Z
LOCATION:Almaden
SUMMARY:A high-level introduction to the query planner in PostgreSQL (Richa
 rd Guo)
URL:https://postgresconf.io/conferences/2024/program/proposals/2268
END:VEVENT
BEGIN:VEVENT
DTSTAMP:20260420T055635Z
UID:1ca0beb2-d961-4f07-9c6b-f943c6daf588
DTSTART:20240418T000000Z
DTEND:20240418T020000Z
LOCATION:Almaden
SUMMARY:Welcome Reception (PostgresConf Organizers)
URL:https://postgresconf.io/conferences/2024/program/proposals/2278
END:VEVENT
BEGIN:VEVENT
DTSTAMP:20260420T055635Z
UID:62d4475e-f3ba-4900-9d3f-00bc8f819b32
DTSTART:20240418T160000Z
DTEND:20240418T162000Z
LOCATION:Almaden
SUMMARY:I implemented the first Vacuum Cleaner Daemon (the most "hated" thi
 ng about Postgres) (Curt Kolovson)
URL:https://postgresconf.io/conferences/2024/program/proposals/2225
END:VEVENT
BEGIN:VEVENT
DTSTAMP:20260420T055635Z
UID:c53f89c4-5632-4d53-9e6b-cbafa2d08ecb
DTSTART:20240418T163000Z
DTEND:20240418T165000Z
LOCATION:Almaden
SUMMARY:The future of databases and Generative AI (Ravi Murthy)
URL:https://postgresconf.io/conferences/2024/program/proposals/2264
END:VEVENT
BEGIN:VEVENT
DTSTAMP:20260420T055635Z
UID:dd398c7b-b176-440f-a5b5-fe50f13d487c
DTSTART:20240418T170000Z
DTEND:20240418T175000Z
LOCATION:Almaden
SUMMARY:Making PostgreSQL your strategic database for AI (Bjoern Rost)
URL:https://postgresconf.io/conferences/2024/program/proposals/2267
END:VEVENT
BEGIN:VEVENT
DTSTAMP:20260420T055635Z
UID:d4506e4e-f1e3-48e9-a63d-175da35740e5
DTSTART:20240418T170000Z
DTEND:20240418T175000Z
LOCATION:San Pedro
SUMMARY:RAG Masterclass: Simplify your data infrastructure with in-database
  NLP using pgml and pgvector for Retrieval Augmented Generation (Silas Mar
 vin)
URL:https://postgresconf.io/conferences/2024/program/proposals/2261
END:VEVENT
BEGIN:VEVENT
DTSTAMP:20260420T055635Z
UID:4ef415d0-7d67-49bc-a8a0-aee97bcd02a9
DTSTART:20240418T170000Z
DTEND:20240418T172000Z
LOCATION:Santa Clara
SUMMARY:The Accidental DBA (Clay  Jackson)
URL:https://postgresconf.io/conferences/2024/program/proposals/2244
END:VEVENT
BEGIN:VEVENT
DTSTAMP:20260420T055635Z
UID:7e41e586-4584-4fdd-9e68-df2798f6c674
DTSTART:20240418T170000Z
DTEND:20240418T175000Z
LOCATION:Winchester
SUMMARY:JSON and analytics in Postgres using index and columnar. (Gleb Otoc
 hkin)
URL:https://postgresconf.io/conferences/2024/program/proposals/2099
END:VEVENT
BEGIN:VEVENT
DTSTAMP:20260420T055635Z
UID:b443897c-24f5-4853-8ce4-36419b0f3b9d
DTSTART:20240418T173000Z
DTEND:20240418T175000Z
LOCATION:Santa Clara
SUMMARY:Optimizing for Excellence: Advanced Performance Tuning Techniques f
 or Aurora Postgres (Dane Falkner)
URL:https://postgresconf.io/conferences/2024/program/proposals/2223
END:VEVENT
BEGIN:VEVENT
DTSTAMP:20260420T055635Z
UID:74e7dc6b-dcaa-436f-97bf-192cc059035e
DTSTART:20240418T181000Z
DTEND:20240418T190000Z
LOCATION:Almaden
SUMMARY:Database operations in the AI era (Nimesh Bhagat and Nilesh Junnark
 ar)
URL:https://postgresconf.io/conferences/2024/program/proposals/2273
END:VEVENT
BEGIN:VEVENT
DTSTAMP:20260420T055635Z
UID:713f1d86-8c90-4959-9a8b-182cc7b4aed6
DTSTART:20240418T181000Z
DTEND:20240418T190000Z
LOCATION:Winchester
SUMMARY:Harnessing the power of Postgres for GIS (Avinash Dalvi)
URL:https://postgresconf.io/conferences/2024/program/proposals/2096
END:VEVENT
BEGIN:VEVENT
DTSTAMP:20260420T055635Z
UID:3364a782-38b1-4473-8101-082ac221c2c1
DTSTART:20240418T181000Z
DTEND:20240418T183000Z
LOCATION:Santa Clara
SUMMARY:MERGE() - A Quick Introduction (Dave Stokes)
URL:https://postgresconf.io/conferences/2024/program/proposals/2130
END:VEVENT
BEGIN:VEVENT
DTSTAMP:20260420T055635Z
UID:8ff2e622-2d5b-404d-a15a-be09ab5924e6
DTSTART:20240418T181000Z
DTEND:20240418T190000Z
LOCATION:San Pedro
SUMMARY:Unraveling Multi-Master Replication in PostgreSQL: Architectures an
 d Solutions (Dr. Ibrar Ahmed)
URL:https://postgresconf.io/conferences/2024/program/proposals/2150
END:VEVENT
BEGIN:VEVENT
DTSTAMP:20260420T055635Z
UID:e73980ce-b576-4328-add1-d3e5287037c5
DTSTART:20240418T184000Z
DTEND:20240418T190000Z
LOCATION:Santa Clara
SUMMARY:Everything you want to know about Postgres autovacuum (Bohan Zhang)
URL:https://postgresconf.io/conferences/2024/program/proposals/2155
END:VEVENT
BEGIN:VEVENT
DTSTAMP:20260420T055635Z
UID:9a0b32e2-d527-4bec-94a7-b48a81d35504
DTSTART:20240418T191000Z
DTEND:20240418T200000Z
LOCATION:San Pedro
SUMMARY:Becoming a PG_STAT_* (star) (Chirag Dave and Sami Imseih)
URL:https://postgresconf.io/conferences/2024/program/proposals/2185
END:VEVENT
BEGIN:VEVENT
DTSTAMP:20260420T055635Z
UID:05efa225-5213-495a-9ddb-a347b0d3b9fa
DTSTART:20240418T191000Z
DTEND:20240418T200000Z
LOCATION:Almaden
SUMMARY:Building GenAI applications on PostgreSQL (Gleb Otochkin)
URL:https://postgresconf.io/conferences/2024/program/proposals/2274
END:VEVENT
BEGIN:VEVENT
DTSTAMP:20260420T055635Z
UID:3e22d487-4cdd-4730-9032-2685dad75d7d
DTSTART:20240418T191000Z
DTEND:20240418T200000Z
LOCATION:Winchester
SUMMARY: Enhancing OLTP Systems with pgvector: Best Practices in Database D
 esign (Sundar Raghavan and Shayon Sanyal)
URL:https://postgresconf.io/conferences/2024/program/proposals/2098
END:VEVENT
BEGIN:VEVENT
DTSTAMP:20260420T055635Z
UID:96b31bc2-5643-41c0-a6c7-71648eb97157
DTSTART:20240418T191000Z
DTEND:20240418T200000Z
LOCATION:Santa Clara
SUMMARY:Postgres’s Type System (Guyren Howe)
URL:https://postgresconf.io/conferences/2024/program/proposals/2199
END:VEVENT
BEGIN:VEVENT
DTSTAMP:20260420T055635Z
UID:3d09199f-d733-457f-ae20-57a839146872
DTSTART:20240418T200000Z
DTEND:20240418T210000Z
LOCATION:Almaden
SUMMARY:Thursday Lunch (PostgresConf Organizers)
URL:https://postgresconf.io/conferences/2024/program/proposals/2280
END:VEVENT
BEGIN:VEVENT
DTSTAMP:20260420T055635Z
UID:eb0c70a3-b0b2-4161-8695-485d0351b9c9
DTSTART:20240418T210000Z
DTEND:20240418T215000Z
LOCATION:San Pedro
SUMMARY:Advanced strategies for PostgreSQL Lock Management (Greg Dostatni)
URL:https://postgresconf.io/conferences/2024/program/proposals/2163
END:VEVENT
BEGIN:VEVENT
DTSTAMP:20260420T055635Z
UID:82f1774f-d827-4021-bd93-cc681b78ce42
DTSTART:20240418T210000Z
DTEND:20240418T215000Z
LOCATION:Winchester
SUMMARY:Transparent Application-level Encryption with Postgres Trusted Lang
 uage Extensions (Rajan Palanivel)
URL:https://postgresconf.io/conferences/2024/program/proposals/2217
END:VEVENT
BEGIN:VEVENT
DTSTAMP:20260420T055635Z
UID:92d3628b-1ba0-4107-b207-f519a6b58678
DTSTART:20240418T210000Z
DTEND:20240418T215000Z
LOCATION:Almaden
SUMMARY:Building GenAI applications on PostgreSQL (continued) (Gleb Otochki
 n)
URL:https://postgresconf.io/conferences/2024/program/proposals/2272
END:VEVENT
BEGIN:VEVENT
DTSTAMP:20260420T055635Z
UID:3f631a31-06b1-4604-92be-e71a29808c0b
DTSTART:20240418T221000Z
DTEND:20240418T230000Z
LOCATION:Almaden
SUMMARY:Building data-driven apps in the cloud (Sridhar Ranganathan)
URL:https://postgresconf.io/conferences/2024/program/proposals/2275
END:VEVENT
BEGIN:VEVENT
DTSTAMP:20260420T055636Z
UID:4740627b-82da-4c1e-a101-d4abbcd9c475
DTSTART:20240418T221000Z
DTEND:20240418T230000Z
LOCATION:Winchester
SUMMARY:Database DevOps: Options for Test Data and Database Change Manageme
 nt (Ryan Booz)
URL:https://postgresconf.io/conferences/2024/program/proposals/2144
END:VEVENT
BEGIN:VEVENT
DTSTAMP:20260420T055636Z
UID:87601bd0-75eb-4279-b349-4da607002429
DTSTART:20240418T221000Z
DTEND:20240418T230000Z
LOCATION:Santa Clara
SUMMARY:Accelerate Oracle to PostgreSQL migration journey - top 10 challeng
 es and mitigation (Sameer Malik)
URL:https://postgresconf.io/conferences/2024/program/proposals/2186
END:VEVENT
BEGIN:VEVENT
DTSTAMP:20260420T055636Z
UID:321b1eca-96d9-4d57-b817-8d6cb1cdc538
DTSTART:20240418T221000Z
DTEND:20240418T230000Z
LOCATION:San Pedro
SUMMARY:Monitoring PostgreSQL: Navigating the Landscape of Metrics\, OS and
  Hardware Relationships\, and Toolsets (Charly Batista)
URL:https://postgresconf.io/conferences/2024/program/proposals/2134
END:VEVENT
BEGIN:VEVENT
DTSTAMP:20260420T055636Z
UID:1fd7c2ee-ec98-42bd-b0f9-b5d3a48aafdb
DTSTART:20240418T231000Z
DTEND:20240419T000000Z
LOCATION:San Pedro
SUMMARY:Exploring Linux memory usage and IO performance with PostgreSQL  (F
 rits Hoogland)
URL:https://postgresconf.io/conferences/2024/program/proposals/2222
END:VEVENT
BEGIN:VEVENT
DTSTAMP:20260420T055636Z
UID:d23cb744-57c2-40bf-8ad7-82a3c6a98eb3
DTSTART:20240418T231000Z
DTEND:20240419T000000Z
LOCATION:Santa Clara
SUMMARY:Elevate Your PostgreSQL Experience in the Cloud with Azure Database
  for PostgreSQL (Varun Dhawan)
URL:https://postgresconf.io/conferences/2024/program/proposals/2271
END:VEVENT
BEGIN:VEVENT
DTSTAMP:20260420T055636Z
UID:288a96d1-9a2a-4438-bffb-71d55ae44d2f
DTSTART:20240418T231000Z
DTEND:20240419T000000Z
LOCATION:Winchester
SUMMARY:PostgreSQL architecture considerations for application developers (
 Tracy Jenkins and Peter Celentano)
URL:https://postgresconf.io/conferences/2024/program/proposals/2166
END:VEVENT
BEGIN:VEVENT
DTSTAMP:20260420T055636Z
UID:a903ff08-18df-4aa9-b8f9-fa55146810e6
DTSTART:20240418T231000Z
DTEND:20240418T233000Z
LOCATION:Almaden
SUMMARY:Open Source At A Crossroads (Michael Meskes)
URL:https://postgresconf.io/conferences/2024/program/proposals/2139
END:VEVENT
BEGIN:VEVENT
DTSTAMP:20260420T055636Z
UID:23b865be-24f8-4390-8fce-902d28f2ad7b
DTSTART:20240418T234000Z
DTEND:20240419T000000Z
LOCATION:Almaden
SUMMARY:Top 5 PostgreSQL Query Tuning Tips (Janis Griffin)
URL:https://postgresconf.io/conferences/2024/program/proposals/2249
END:VEVENT
BEGIN:VEVENT
DTSTAMP:20260420T055636Z
UID:0fb76ab8-e7d3-438a-89f7-1ef01199a73f
DTSTART:20240419T160000Z
DTEND:20240419T165000Z
LOCATION:Santa Clara
SUMMARY:Self-Managing Databases—If Not Now Then When? (Johann Schleier-Sm
 ith)
URL:https://postgresconf.io/conferences/2024/program/proposals/2284
END:VEVENT
BEGIN:VEVENT
DTSTAMP:20260420T055636Z
UID:0bf5ff0a-23ad-4f64-bb00-dcbd5b3ad8c0
DTSTART:20240419T160000Z
DTEND:20240419T165000Z
LOCATION:Almaden
SUMMARY:Postgres in the 21st Century (Nikita Shamgunov)
URL:https://postgresconf.io/conferences/2024/program/proposals/2285
END:VEVENT
BEGIN:VEVENT
DTSTAMP:20260420T055636Z
UID:17ec64e6-0439-4a3d-a0cc-10bcea976966
DTSTART:20240419T160000Z
DTEND:20240419T165000Z
LOCATION:San Pedro
SUMMARY:Elevate your DBA toolset with pg collector  (Mohamed Ali)
URL:https://postgresconf.io/conferences/2024/program/proposals/2221
END:VEVENT
BEGIN:VEVENT
DTSTAMP:20260420T055636Z
UID:e7baa49c-4b6c-450a-854b-5471f710d049
DTSTART:20240419T160000Z
DTEND:20240419T165000Z
LOCATION:Winchester
SUMMARY:Working With The Citus Extension (Robert Bernier)
URL:https://postgresconf.io/conferences/2024/program/proposals/2103
END:VEVENT
BEGIN:VEVENT
DTSTAMP:20260420T055636Z
UID:a0feaefa-cf50-4ba6-8096-7c74aa3a80ec
DTSTART:20240419T170000Z
DTEND:20240419T175000Z
LOCATION:Santa Clara
SUMMARY:PostgreSQL Partitioning: Beyond the obvious  (Chirag Dave and Sami 
 Imseih)
URL:https://postgresconf.io/conferences/2024/program/proposals/2204
END:VEVENT
BEGIN:VEVENT
DTSTAMP:20260420T055636Z
UID:89b8ce7f-d94d-4cc9-8fb3-57dfab02f0d4
DTSTART:20240419T170000Z
DTEND:20240419T175000Z
LOCATION:Almaden
SUMMARY:Omnigres: Postgres can do WHAT? (Yurii Rashkovskii)
URL:https://postgresconf.io/conferences/2024/program/proposals/2286
END:VEVENT
BEGIN:VEVENT
DTSTAMP:20260420T055636Z
UID:10f5d8d0-5144-4fa7-a410-3d74f3b26c17
DTSTART:20240419T170000Z
DTEND:20240419T175000Z
LOCATION:Winchester
SUMMARY:We like to Move it\, Move it!: Migrating production systems between
  databases (Tim Steward)
URL:https://postgresconf.io/conferences/2024/program/proposals/2156
END:VEVENT
BEGIN:VEVENT
DTSTAMP:20260420T055636Z
UID:30f3339c-dd6a-4691-b638-2a11b4997676
DTSTART:20240419T170000Z
DTEND:20240419T175000Z
LOCATION:San Pedro
SUMMARY:Building GENAI Applications with OpenAI and PostgreSQL (Varun Dhawa
 n)
URL:https://postgresconf.io/conferences/2024/program/proposals/2220
END:VEVENT
BEGIN:VEVENT
DTSTAMP:20260420T055636Z
UID:d6860768-81b4-49da-acb7-e4337352d0de
DTSTART:20240419T180000Z
DTEND:20240419T185000Z
LOCATION:Santa Clara
SUMMARY:Mastering PostgreSQL Partitioning: Supercharge Performance and Simp
 lify Maintenance (Ryan Booz)
URL:https://postgresconf.io/conferences/2024/program/proposals/2145
END:VEVENT
BEGIN:VEVENT
DTSTAMP:20260420T055636Z
UID:dc8e4e10-48a5-49d0-a488-1e92787fc97c
DTSTART:20240419T180000Z
DTEND:20240419T185000Z
LOCATION:San Pedro
SUMMARY:PostgreSQL with OpenAI: Building and Monetizing Generative AI Plugi
 ns (Denis Magda)
URL:https://postgresconf.io/conferences/2024/program/proposals/2120
END:VEVENT
BEGIN:VEVENT
DTSTAMP:20260420T055636Z
UID:c2472b61-197d-4a00-b8b1-790df7673cf3
DTSTART:20240419T180000Z
DTEND:20240419T185000Z
LOCATION:Winchester
SUMMARY:Moving MongoDB Workloads to Postgres (Peter Farkas)
URL:https://postgresconf.io/conferences/2024/program/proposals/2202
END:VEVENT
BEGIN:VEVENT
DTSTAMP:20260420T055636Z
UID:f9ff52fa-66cb-45d4-8e4b-82fed5bb6e7c
DTSTART:20240419T180000Z
DTEND:20240419T185000Z
LOCATION:Almaden
SUMMARY:Improve Postgres Security Posture with KloudDB Shield- Postgres and
  RDS Postgres (Srinivasa  Inaganti)
URL:https://postgresconf.io/conferences/2024/program/proposals/2283
END:VEVENT
BEGIN:VEVENT
DTSTAMP:20260420T055636Z
UID:e3c6f6ce-dc79-460a-8e17-2880b92835f3
DTSTART:20240419T190000Z
DTEND:20240419T195000Z
LOCATION:Santa Clara
SUMMARY:Model your data before you move it (Clay  Jackson)
URL:https://postgresconf.io/conferences/2024/program/proposals/2270
END:VEVENT
BEGIN:VEVENT
DTSTAMP:20260420T055636Z
UID:99025c9d-05af-4380-972f-1e43f705e8f5
DTSTART:20240419T190000Z
DTEND:20240419T195000Z
LOCATION:Winchester
SUMMARY:Postgres in the Containers Era (Alvaro Hernandez)
URL:https://postgresconf.io/conferences/2024/program/proposals/2258
END:VEVENT
BEGIN:VEVENT
DTSTAMP:20260420T055636Z
UID:ecc8dd8d-c0e8-41f7-907b-b395068052a6
DTSTART:20240419T190000Z
DTEND:20240419T195000Z
LOCATION:Almaden
SUMMARY:The Postgres Advantage in AI Enterprise Workloads (Patrick Mottram)
URL:https://postgresconf.io/conferences/2024/program/proposals/2277
END:VEVENT
BEGIN:VEVENT
DTSTAMP:20260420T055636Z
UID:ba1f2404-37b7-4529-92f8-2be27c375873
DTSTART:20240419T190000Z
DTEND:20240419T195000Z
LOCATION:San Pedro
SUMMARY:The Future of MySQL is Postgres (Mason Sharp and Jonah Harris)
URL:https://postgresconf.io/conferences/2024/program/proposals/2123
END:VEVENT
BEGIN:VEVENT
DTSTAMP:20260420T055636Z
UID:8e1079a6-4ee4-42ed-9073-569f68153e1c
DTSTART:20240419T200000Z
DTEND:20240419T210000Z
LOCATION:Almaden
SUMMARY:Friday Lunch (PostgresConf Organizers)
URL:https://postgresconf.io/conferences/2024/program/proposals/2281
END:VEVENT
BEGIN:VEVENT
DTSTAMP:20260420T055636Z
UID:634f1024-d16f-48b9-9afd-70ae18e1acdd
DTSTART:20240419T210000Z
DTEND:20240419T215000Z
LOCATION:Santa Clara
SUMMARY:Transaction Isolation in Postgres (Gwen Shapira)
URL:https://postgresconf.io/conferences/2024/program/proposals/2182
END:VEVENT
BEGIN:VEVENT
DTSTAMP:20260420T055636Z
UID:ef313892-05ce-453e-9133-d3280417fd79
DTSTART:20240419T210000Z
DTEND:20240419T215000Z
LOCATION:Winchester
SUMMARY:PCI-DSS on Postgres Encryption and Database access (Billy VanCannon
 )
URL:https://postgresconf.io/conferences/2024/program/proposals/2209
END:VEVENT
BEGIN:VEVENT
DTSTAMP:20260420T055636Z
UID:a73fdbd5-9328-4ad9-b877-ffb242888419
DTSTART:20240419T210000Z
DTEND:20240419T215000Z
LOCATION:San Pedro
SUMMARY:Vector Search in PostgreSQL using Different ANN Algorithms (Gleb Ot
 ochkin and Alan Li)
URL:https://postgresconf.io/conferences/2024/program/proposals/2179
END:VEVENT
BEGIN:VEVENT
DTSTAMP:20260420T055636Z
UID:6d4521b1-c0d7-4de8-8fef-f827ce5c16cf
DTSTART:20240419T220000Z
DTEND:20240419T225000Z
LOCATION:Santa Clara
SUMMARY:Securing Postgres for use with GenAI (Min-Hank Ho)
URL:https://postgresconf.io/conferences/2024/program/proposals/2216
END:VEVENT
BEGIN:VEVENT
DTSTAMP:20260420T055637Z
UID:8d808c0a-84c6-48d4-ad7d-8dde46c28a70
DTSTART:20240419T220000Z
DTEND:20240419T222000Z
LOCATION:San Pedro
SUMMARY:Local-first application architecture using Postgres logical replica
 tion (Conrad Hofmeyr)
URL:https://postgresconf.io/conferences/2024/program/proposals/2237
END:VEVENT
BEGIN:VEVENT
DTSTAMP:20260420T055637Z
UID:6d5128d1-9685-413a-b996-b1f9e0c3593f
DTSTART:20240419T223000Z
DTEND:20240419T225000Z
LOCATION:San Pedro
SUMMARY:Bounded and Unbounded Data for RAG Systems: Postgres Is All You Nee
 d (Samuel Hu)
URL:https://postgresconf.io/conferences/2024/program/proposals/2154
END:VEVENT
BEGIN:VEVENT
DTSTAMP:20260420T055637Z
UID:24ba0706-80a2-481a-8040-21a84f088139
DTSTART:20240419T223000Z
DTEND:20240419T225000Z
LOCATION:Winchester
SUMMARY:Beyond Boundaries: Mastering 2-Level Encryption Migration in Postgr
 eSQL (BAJI SHAIK)
URL:https://postgresconf.io/conferences/2024/program/proposals/2250
END:VEVENT
BEGIN:VEVENT
DTSTAMP:20260420T055637Z
UID:3d1a3094-c3e8-4041-a951-dfbe97854d6d
DTSTART:20240419T230000Z
DTEND:20240419T235000Z
LOCATION:Winchester
SUMMARY:Scaling PostgreSQL: Navigating Horizontal and Vertical Scalability 
 Pathways (Dr. Ibrar Ahmed)
URL:https://postgresconf.io/conferences/2024/program/proposals/2152
END:VEVENT
BEGIN:VEVENT
DTSTAMP:20260420T055637Z
UID:fed9c605-85fe-4793-8cc2-c8bdc8af9237
DTSTART:20240419T230000Z
DTEND:20240419T235000Z
LOCATION:Santa Clara
SUMMARY:Discover the Power of PostgreSQL's Modularity and Extensibility (Pe
 rren Walker)
URL:https://postgresconf.io/conferences/2024/program/proposals/2215
END:VEVENT
BEGIN:VEVENT
DTSTAMP:20260420T055637Z
UID:12e33064-0f09-4e8e-8d4e-95ff6e284fc0
DTSTART:20240419T230000Z
DTEND:20240419T232000Z
LOCATION:San Pedro
SUMMARY:How can we make pg_dump and pg_restore 10 times faster? (Sai Sriram
 pur)
URL:https://postgresconf.io/conferences/2024/program/proposals/2161
END:VEVENT
BEGIN:VEVENT
DTSTAMP:20260420T055637Z
UID:4aed3c8b-5fa5-4d05-bbaa-cadb92b2a615
DTSTART:20240419T233000Z
DTEND:20240419T235000Z
LOCATION:San Pedro
SUMMARY:What does it take to build a first class data movement tool for Pos
 tgres? (Sai Srirampur)
URL:https://postgresconf.io/conferences/2024/program/proposals/2112
END:VEVENT
END:VCALENDAR
