BEGIN:VCALENDAR
VERSION:2.0
PRODID:2025 Postgres World Webinar Series
CALSCALE:GREGORIAN
BEGIN:VEVENT
DTSTAMP:20260420T121742Z
UID:af870383-8d0d-4db4-8335-de1e24fa1685
DTSTART:20250311T170000Z
DTEND:20250311T175000Z
LOCATION:Online
SUMMARY:Navigating PostgreSQL End of Life: Upgrade Strategies and Best Prac
 tices (Vivek Singh)
URL:https://postgresconf.io/conferences/2025_PostgresWorld_WebinarSeries/pr
 ogram/proposals/2507
END:VEVENT
BEGIN:VEVENT
DTSTAMP:20260420T121742Z
UID:34d8437f-22c0-49a3-8bd3-c0a965eef733
DTSTART:20250311T220000Z
DTEND:20250311T225000Z
LOCATION:Online
SUMMARY:[NYC Meetup Livestream]: Choosing Between Open and Closed Source Da
 ta Products: A Fireside Chat (Greg Dostatni and Kevin Jernigan)
URL:https://postgresconf.io/conferences/2025_PostgresWorld_WebinarSeries/pr
 ogram/proposals/2590
END:VEVENT
BEGIN:VEVENT
DTSTAMP:20260420T121742Z
UID:04dc33d3-2e2f-4348-a0c1-3e0d56b34157
DTSTART:20250410T170000Z
DTEND:20250410T175000Z
LOCATION:Online
SUMMARY:PostgreSQL for MSSQL Server DBAs (Chandra Pathivada)
URL:https://postgresconf.io/conferences/2025_PostgresWorld_WebinarSeries/pr
 ogram/proposals/2467
END:VEVENT
BEGIN:VEVENT
DTSTAMP:20260420T121742Z
UID:22c6ca3d-feda-427d-b2c7-53ab3df5f6b4
DTSTART:20250416T170000Z
DTEND:20250416T175000Z
LOCATION:Online
SUMMARY:From Solo Struggle to Team Triumph: Harnessing New Tech As A Mob (S
 usan Fung)
URL:https://postgresconf.io/conferences/2025_PostgresWorld_WebinarSeries/pr
 ogram/proposals/2605
END:VEVENT
BEGIN:VEVENT
DTSTAMP:20260420T121742Z
UID:5f26e905-90e9-49f5-8423-744aefa5c0f7
DTSTART:20250429T170000Z
DTEND:20250429T175000Z
LOCATION:Online
SUMMARY:How to Give a Technical Presentation (Aaron Cutshall)
URL:https://postgresconf.io/conferences/2025_PostgresWorld_WebinarSeries/pr
 ogram/proposals/2495
END:VEVENT
BEGIN:VEVENT
DTSTAMP:20260420T121742Z
UID:5cbb331c-4b69-4c2a-83ed-e727788082c1
DTSTART:20250522T170000Z
DTEND:20250522T175000Z
LOCATION:Online
SUMMARY:Top 10 PostgreSQL Myths and Misconceptions – Debunked (Chandra Pa
 thivada)
URL:https://postgresconf.io/conferences/2025_PostgresWorld_WebinarSeries/pr
 ogram/proposals/2608
END:VEVENT
BEGIN:VEVENT
DTSTAMP:20260420T121742Z
UID:a6a4a304-2438-4f4c-accc-db6919212032
DTSTART:20250527T170000Z
DTEND:20250527T175000Z
LOCATION:Online
SUMMARY:Defining What’s Normal — The Basics of Database Normalization (
 Aaron Cutshall)
URL:https://postgresconf.io/conferences/2025_PostgresWorld_WebinarSeries/pr
 ogram/proposals/2497
END:VEVENT
BEGIN:VEVENT
DTSTAMP:20260420T121742Z
UID:582e44a0-d746-4e27-83f1-a7051c51a68a
DTSTART:20250603T170000Z
DTEND:20250603T175000Z
LOCATION:Online
SUMMARY:SQL Team Six: How to Build Effective Teams (Aaron Cutshall)
URL:https://postgresconf.io/conferences/2025_PostgresWorld_WebinarSeries/pr
 ogram/proposals/2496
END:VEVENT
END:VCALENDAR
