BEGIN:VCALENDAR
VERSION:2.0
PRODID:Beijing 2019
CALSCALE:GREGORIAN
BEGIN:VEVENT
DTSTAMP:20260420T093035Z
UID:b62b50f7-c542-4d72-b5c1-0d3e7c5a48a0
DTSTART:20190703T051000Z
DTEND:20190703T054000Z
LOCATION:Meeting Room 1
SUMMARY:Registration (PostgresConf Organizers)
URL:https://postgresconf.io/conferences/Beijing/program/proposals/1191
END:VEVENT
BEGIN:VEVENT
DTSTAMP:20260420T093035Z
UID:16ff4797-01bd-468f-b7ab-044c4925fa1e
DTSTART:20190703T060000Z
DTEND:20190703T061000Z
LOCATION:Meeting Room 1
SUMMARY:PostgreSQL Association Meeting (Jian Miao)
URL:https://postgresconf.io/conferences/Beijing/program/proposals/1192
END:VEVENT
BEGIN:VEVENT
DTSTAMP:20260420T093035Z
UID:bb5c1b16-a971-4722-9ac2-d3c1ed69e580
DTSTART:20190703T061000Z
DTEND:20190703T062000Z
LOCATION:Meeting Room 1
SUMMARY:Awarding new members of the International Consultant Committee (Jos
 hua Drake)
URL:https://postgresconf.io/conferences/Beijing/program/proposals/1193
END:VEVENT
BEGIN:VEVENT
DTSTAMP:20260420T093035Z
UID:f767e9ee-920d-4f5b-8779-57046a97be6f
DTSTART:20190703T062000Z
DTEND:20190703T074000Z
LOCATION:Meeting Room 1
SUMMARY:International Consultant Committee Annual Meeting
URL:https://postgresconf.io/conferences/Beijing/program/proposals/1194
END:VEVENT
BEGIN:VEVENT
DTSTAMP:20260420T093035Z
UID:45060909-8b8f-4018-8b79-04e18d265aa1
DTSTART:20190703T074000Z
DTEND:20190703T090000Z
LOCATION:Meeting Room 1
SUMMARY:China PostgreSQL Association Internal Meeting
URL:https://postgresconf.io/conferences/Beijing/program/proposals/1195
END:VEVENT
BEGIN:VEVENT
DTSTAMP:20260420T093035Z
UID:6b311695-393a-4c10-b93e-4b00393feec4
DTSTART:20190704T010000Z
DTEND:20190704T011000Z
LOCATION:Main JINGGE HALL
SUMMARY:PostgresConf Beijing Opening Ceremony (PostgresConf Organizers)
URL:https://postgresconf.io/conferences/Beijing/program/proposals/1196
END:VEVENT
BEGIN:VEVENT
DTSTAMP:20260420T093035Z
UID:f5075598-10a7-4504-8a6d-000d90b07cfc
DTSTART:20190704T011000Z
DTEND:20190704T012000Z
LOCATION:Main JINGGE HALL
SUMMARY:Speech by the officer of the Ministry of Industry and Information T
 echnology (Officer Representative)
URL:https://postgresconf.io/conferences/Beijing/program/proposals/1197
END:VEVENT
BEGIN:VEVENT
DTSTAMP:20260420T093035Z
UID:17aaa356-be6c-4e61-a54b-489b655555fd
DTSTART:20190704T012000Z
DTEND:20190704T014000Z
LOCATION:Main JINGGE HALL
SUMMARY:Open Source Topic (Guangnan Ni)
URL:https://postgresconf.io/conferences/Beijing/program/proposals/1199
END:VEVENT
BEGIN:VEVENT
DTSTAMP:20260420T093035Z
UID:62c94f54-70d2-4fae-a991-12643e856a5f
DTSTART:20190704T015000Z
DTEND:20190704T023000Z
LOCATION:Main JINGGE HALL
SUMMARY:PG Annual Technology Awards Ceremony (PostgresConf Organizers)
URL:https://postgresconf.io/conferences/Beijing/program/proposals/1200
END:VEVENT
BEGIN:VEVENT
DTSTAMP:20260420T093035Z
UID:15327bd4-302f-4966-a29e-4506cb78de6e
DTSTART:20190704T023000Z
DTEND:20190704T031000Z
LOCATION:Main JINGGE HALL
SUMMARY: Postgres: The World's Database (Joshua D. Drake)
URL:https://postgresconf.io/conferences/Beijing/program/proposals/1201
END:VEVENT
BEGIN:VEVENT
DTSTAMP:20260420T093035Z
UID:d9b8b6bb-ad0e-49bc-af8d-af6b526b1c0e
DTSTART:20190704T032000Z
DTEND:20190704T040000Z
LOCATION:Main JINGGE HALL
SUMMARY:Alibaba Cloud  & Database (Fei Fei Li)
URL:https://postgresconf.io/conferences/Beijing/program/proposals/1202
END:VEVENT
BEGIN:VEVENT
DTSTAMP:20260420T093035Z
UID:bd5662c1-032c-41c6-8424-ded17b50c651
DTSTART:20190704T041000Z
DTEND:20190704T045000Z
LOCATION:Main JINGGE HALL
SUMMARY:Lunch Break (PostgresConf Organizers)
URL:https://postgresconf.io/conferences/Beijing/program/proposals/1203
END:VEVENT
BEGIN:VEVENT
DTSTAMP:20260420T093035Z
UID:b81de06f-d17b-4270-87ab-79e59ef9250d
DTSTART:20190704T053000Z
DTEND:20190704T061000Z
LOCATION:Main JINGGE HALL
SUMMARY:PostgreSQL Technology (Xiao Jun Zheng)
URL:https://postgresconf.io/conferences/Beijing/program/proposals/1210
END:VEVENT
BEGIN:VEVENT
DTSTAMP:20260420T093036Z
UID:a0f45640-1ae2-4f0b-89ba-7dc6cb7cdac7
DTSTART:20190704T061000Z
DTEND:20190704T065000Z
LOCATION:Main JINGGE HALL
SUMMARY:PostgreSQL in Inspur (Lei Jun Hu)
URL:https://postgresconf.io/conferences/Beijing/program/proposals/1211
END:VEVENT
BEGIN:VEVENT
DTSTAMP:20260420T093036Z
UID:d10b8d64-b4ab-46fc-9acb-8ab203c2f16b
DTSTART:20190704T065000Z
DTEND:20190704T071000Z
LOCATION:Main JINGGE HALL
SUMMARY:Coffee Break (PostgresConf Organizers)
URL:https://postgresconf.io/conferences/Beijing/program/proposals/1212
END:VEVENT
BEGIN:VEVENT
DTSTAMP:20260420T093036Z
UID:f4276a39-c0bc-498c-bce6-d9e0f8b8e8c1
DTSTART:20190704T071000Z
DTEND:20190704T075000Z
LOCATION:Main JINGGE HALL
SUMMARY:PostgreSQL User Group (Shao Cong Xiao)
URL:https://postgresconf.io/conferences/Beijing/program/proposals/1213
END:VEVENT
BEGIN:VEVENT
DTSTAMP:20260420T093036Z
UID:4b45c05f-0ed6-4808-aee2-fa08d647d648
DTSTART:20190704T075000Z
DTEND:20190704T083000Z
LOCATION:Main JINGGE HALL
SUMMARY:Database in Pingan (Yang Wang)
URL:https://postgresconf.io/conferences/Beijing/program/proposals/1214
END:VEVENT
BEGIN:VEVENT
DTSTAMP:20260420T093036Z
UID:9373f9a9-5045-43b5-966e-22e855961e52
DTSTART:20190704T083000Z
DTEND:20190704T091000Z
LOCATION:Main JINGGE HALL
SUMMARY:Scalable PostgreSQL in Tantan (Wen Sheng Zhang)
URL:https://postgresconf.io/conferences/Beijing/program/proposals/1215
END:VEVENT
BEGIN:VEVENT
DTSTAMP:20260420T093036Z
UID:6715ee52-0e66-4083-bacc-445b6d788ba2
DTSTART:20190704T091000Z
DTEND:20190704T095000Z
LOCATION:Main JINGGE HALL
SUMMARY:Dialogue program (Joshua Drake\, Oleg Bartunov\, Xiao Jun Zheng\, G
 rant Zhou\, and Michael Meskes)
URL:https://postgresconf.io/conferences/Beijing/program/proposals/1217
END:VEVENT
BEGIN:VEVENT
DTSTAMP:20260420T093036Z
UID:6c8738b6-5475-4c42-b74b-0b3058b9c0fa
DTSTART:20190704T103000Z
DTEND:20190704T115000Z
LOCATION:Main JINGGE HALL
SUMMARY:Social Event
URL:https://postgresconf.io/conferences/Beijing/program/proposals/1249
END:VEVENT
BEGIN:VEVENT
DTSTAMP:20260420T093036Z
UID:d40dcb97-cd6b-4141-83a5-b1ec50c62fd8
DTSTART:20190705T010000Z
DTEND:20190705T014000Z
LOCATION:JINGGE HALL TRACK 2 - PG Best Practices
SUMMARY:Kernel Analysis of PostgreSQL Parser (daming shao)
URL:https://postgresconf.io/conferences/Beijing/program/proposals/1216
END:VEVENT
BEGIN:VEVENT
DTSTAMP:20260420T093036Z
UID:a29cf161-01e5-4ee3-b1de-c054027f6d97
DTSTART:20190705T010000Z
DTEND:20190705T014000Z
LOCATION:JINGGE HALL TRACK1 - English Track
SUMMARY:PostgreSQL v12: New feature and migration considerations (Joshua Dr
 ake)
URL:https://postgresconf.io/conferences/Beijing/program/proposals/1218
END:VEVENT
BEGIN:VEVENT
DTSTAMP:20260420T093036Z
UID:332f8462-c915-4ee4-9394-570d3aaa2e99
DTSTART:20190705T010000Z
DTEND:20190705T014000Z
LOCATION:JINGGE HALL TRACK 3 - Ecological development of PG and its commerc
 ial
SUMMARY:Open source software compliance discussion (Ning Zhen Li)
URL:https://postgresconf.io/conferences/Beijing/program/proposals/1229
END:VEVENT
BEGIN:VEVENT
DTSTAMP:20260420T093036Z
UID:84060665-e683-4897-beb4-a0ee9125202b
DTSTART:20190705T014000Z
DTEND:20190705T021000Z
LOCATION:JINGGE HALL TRACK1 - English Track
SUMMARY:Open Source - The Next Step  (Michael Meskes)
URL:https://postgresconf.io/conferences/Beijing/program/proposals/1219
END:VEVENT
BEGIN:VEVENT
DTSTAMP:20260420T093036Z
UID:b6bd998f-7df2-48be-a45b-0f7b74f8424e
DTSTART:20190705T014000Z
DTEND:20190705T022000Z
LOCATION:JINGGE HALL TRACK 2 - PG Best Practices
SUMMARY:Time machine for backup on PG Cloud (Yong Hui Shi)
URL:https://postgresconf.io/conferences/Beijing/program/proposals/1220
END:VEVENT
BEGIN:VEVENT
DTSTAMP:20260420T093036Z
UID:3e4c02de-1533-4b7c-9658-846bee89ab06
DTSTART:20190705T021000Z
DTEND:20190705T025000Z
LOCATION:JINGGE HALL TRACK1 - English Track
SUMMARY:JSON PATH (Oleg Bartunov)
URL:https://postgresconf.io/conferences/Beijing/program/proposals/1198
END:VEVENT
BEGIN:VEVENT
DTSTAMP:20260420T093036Z
UID:845bf1bf-2e0e-457a-a5c2-7de8a3fd7d41
DTSTART:20190705T023000Z
DTEND:20190705T031000Z
LOCATION:JINGGE HALL TRACK 3 - Ecological development of PG and its commerc
 ial
SUMMARY:Financial Industry Distributed Database Test Observation (Peng Wei 
 Ma)
URL:https://postgresconf.io/conferences/Beijing/program/proposals/1230
END:VEVENT
BEGIN:VEVENT
DTSTAMP:20260420T093036Z
UID:6df0b9cf-c366-43c6-9f6f-0b4199e33593
DTSTART:20190705T023000Z
DTEND:20190705T031000Z
LOCATION:JINGGE HALL TRACK 2 - PG Best Practices
SUMMARY:Oracle migration to PostgreSQL case sharing (Xian Wen Zhu)
URL:https://postgresconf.io/conferences/Beijing/program/proposals/1222
END:VEVENT
BEGIN:VEVENT
DTSTAMP:20260420T093036Z
UID:66ed7771-0dc6-4737-9947-ab40eee3f013
DTSTART:20190705T025000Z
DTEND:20190705T033000Z
LOCATION:JINGGE HALL TRACK1 - English Track
SUMMARY:A Deep Dive into PostgreSQL Indexing (Dr. Ibrar Ahmed)
URL:https://postgresconf.io/conferences/Beijing/program/proposals/1128
END:VEVENT
BEGIN:VEVENT
DTSTAMP:20260420T093036Z
UID:019342b9-2b07-4585-ab04-4d8514fd7ad6
DTSTART:20190705T031000Z
DTEND:20190705T035000Z
LOCATION:JINGGE HALL TRACK 2 - PG Best Practices
SUMMARY:HugeGraph graph database technology and PostgreSQL as its storage (
 Zhang Mei Li)
URL:https://postgresconf.io/conferences/Beijing/program/proposals/1223
END:VEVENT
BEGIN:VEVENT
DTSTAMP:20260420T093036Z
UID:069b2b85-548c-4940-9ffa-d612302e05f2
DTSTART:20190705T032000Z
DTEND:20190705T040000Z
LOCATION:JINGGE HALL TRACK1 - English Track
SUMMARY:Tune your Linux Box\, not just PostgreSQL (Dr. Ibrar Ahmed)
URL:https://postgresconf.io/conferences/Beijing/program/proposals/1129
END:VEVENT
BEGIN:VEVENT
DTSTAMP:20260420T093036Z
UID:fcc37699-35f6-4eaa-a055-3ef103de9e5e
DTSTART:20190705T035000Z
DTEND:20190705T043000Z
LOCATION:JINGGE HALL TRACK1 - English Track
SUMMARY:Join Heterogeneous Databases using PostgreSQL Foreign Data Wrappers
  (Dr. Ibrar Ahmed)
URL:https://postgresconf.io/conferences/Beijing/program/proposals/1127
END:VEVENT
BEGIN:VEVENT
DTSTAMP:20260420T093036Z
UID:ae461cff-74e0-4209-a13a-e6329a33eb4a
DTSTART:20190705T053000Z
DTEND:20190705T061000Z
LOCATION:JINGGE HALL TRACK 3 - Ecological development of PG and its commerc
 ial
SUMMARY:AsiaInfo AISWare AntDB enables enterprise digitization (Ming Jun Ji
 ang)
URL:https://postgresconf.io/conferences/Beijing/program/proposals/1231
END:VEVENT
BEGIN:VEVENT
DTSTAMP:20260420T093036Z
UID:260f1890-d499-4ca6-88a4-cc8659554229
DTSTART:20190705T053000Z
DTEND:20190705T061000Z
LOCATION:JINGGE HALL TRACK 2 - PG Best Practices
SUMMARY:Implementation of distributed aggregation in Greenplum (Chen Jinbao
 )
URL:https://postgresconf.io/conferences/Beijing/program/proposals/1142
END:VEVENT
BEGIN:VEVENT
DTSTAMP:20260420T093036Z
UID:a4c4719e-1602-42f2-b05f-1f3274d46b6a
DTSTART:20190705T054000Z
DTEND:20190705T062000Z
LOCATION:JINGGE HALL TRACK1 - English Track
SUMMARY:The future of Postgres Sharding (Ahsan Hadi)
URL:https://postgresconf.io/conferences/Beijing/program/proposals/1241
END:VEVENT
BEGIN:VEVENT
DTSTAMP:20260420T093036Z
UID:9a4da16d-be2f-47ac-a1f8-cb75c43e1e7b
DTSTART:20190705T061000Z
DTEND:20190705T065000Z
LOCATION:JINGGE HALL TRACK 3 - Ecological development of PG and its commerc
 ial
SUMMARY:Dancing with Elephants: Data Security Audit (Peng Li)
URL:https://postgresconf.io/conferences/Beijing/program/proposals/1234
END:VEVENT
BEGIN:VEVENT
DTSTAMP:20260420T093036Z
UID:a8a367d9-bc15-4cfe-8a72-18757bb58b25
DTSTART:20190705T061000Z
DTEND:20190705T065000Z
LOCATION:JINGGE HALL TRACK 2 - PG Best Practices
SUMMARY:PostgreSQL Application in IBM Cognitive Computing and Data Science 
 Services (Yong Ming Wei)
URL:https://postgresconf.io/conferences/Beijing/program/proposals/1224
END:VEVENT
BEGIN:VEVENT
DTSTAMP:20260420T093036Z
UID:d0484503-c417-4709-ab6b-f079c65952ef
DTSTART:20190705T062000Z
DTEND:20190705T070000Z
LOCATION:JINGGE HALL TRACK1 - English Track
SUMMARY:All about PostgreSQL Replication (Asif Rehman)
URL:https://postgresconf.io/conferences/Beijing/program/proposals/1139
END:VEVENT
BEGIN:VEVENT
DTSTAMP:20260420T093036Z
UID:1d9e428f-6356-4d71-8e37-a877e2d68556
DTSTART:20190705T065000Z
DTEND:20190705T073000Z
LOCATION:JINGGE HALL TRACK 3 - Ecological development of PG and its commerc
 ial
SUMMARY:PG application practice in e-government industry (Sheng Xi Zhang)
URL:https://postgresconf.io/conferences/Beijing/program/proposals/1232
END:VEVENT
BEGIN:VEVENT
DTSTAMP:20260420T093036Z
UID:afa0b9a7-b27a-4ade-a066-e007d4bd8db0
DTSTART:20190705T065000Z
DTEND:20190705T073000Z
LOCATION:JINGGE HALL TRACK 2 - PG Best Practices
SUMMARY:GIS - PostgreSQL  Applications in SuperMap System (Shao Jun Li)
URL:https://postgresconf.io/conferences/Beijing/program/proposals/1225
END:VEVENT
BEGIN:VEVENT
DTSTAMP:20260420T093036Z
UID:00e31cc3-84e6-467d-a484-d900c9b20527
DTSTART:20190705T065000Z
DTEND:20190705T073000Z
LOCATION:JINGGE HALL TRACK1 - English Track
SUMMARY:PostgreSQL HA with Pgpool-II  and whats been happening in Pgpool-II
  lately.... (Muhammad Usama and Ahsan Hadi)
URL:https://postgresconf.io/conferences/Beijing/program/proposals/1138
END:VEVENT
BEGIN:VEVENT
DTSTAMP:20260420T093036Z
UID:daab78c2-254d-497b-b1c1-e0625d308f03
DTSTART:20190705T074000Z
DTEND:20190705T082000Z
LOCATION:JINGGE HALL TRACK1 - English Track
SUMMARY:Deep dive on SQL codes while migrating from enterprise databases to
  PostgreSQL (John Jeevakumar)
URL:https://postgresconf.io/conferences/Beijing/program/proposals/1156
END:VEVENT
BEGIN:VEVENT
DTSTAMP:20260420T093036Z
UID:d464d634-4245-4d9a-ad3a-c6cbcced38d9
DTSTART:20190705T074000Z
DTEND:20190705T082000Z
LOCATION:JINGGE HALL TRACK 2 - PG Best Practices
SUMMARY:Oracle Database and Application Migration pg Best Practices (Xiu Ta
 ng)
URL:https://postgresconf.io/conferences/Beijing/program/proposals/1226
END:VEVENT
BEGIN:VEVENT
DTSTAMP:20260420T093036Z
UID:6490dc4c-f4b1-439c-b8e7-37f1775726d5
DTSTART:20190705T074000Z
DTEND:20190705T082000Z
LOCATION:JINGGE HALL TRACK 3 - Ecological development of PG and its commerc
 ial
SUMMARY:Build Greenplum's low latency data pipeline (Yang Li)
URL:https://postgresconf.io/conferences/Beijing/program/proposals/1235
END:VEVENT
BEGIN:VEVENT
DTSTAMP:20260420T093036Z
UID:53e9ad39-c94e-4dcc-b629-d7f4dbb75f23
DTSTART:20190705T082000Z
DTEND:20190705T090000Z
LOCATION:JINGGE HALL TRACK 2 - PG Best Practices
SUMMARY:PostgreSQL execution plan exploration (Yun Jiang)
URL:https://postgresconf.io/conferences/Beijing/program/proposals/1227
END:VEVENT
BEGIN:VEVENT
DTSTAMP:20260420T093036Z
UID:5bc371bc-9fbc-4877-a021-d1f4c485b492
DTSTART:20190705T083000Z
DTEND:20190705T091000Z
LOCATION:JINGGE HALL TRACK1 - English Track
SUMMARY:Transparent data encryption in PostgreSQL and Integration with Key 
 management service (Insung Moon and Masahiko Sawada)
URL:https://postgresconf.io/conferences/Beijing/program/proposals/1221
END:VEVENT
BEGIN:VEVENT
DTSTAMP:20260420T093036Z
UID:57e62c1f-cee8-46a1-95f0-01f7f4363414
DTSTART:20190705T085000Z
DTEND:20190705T093000Z
LOCATION:JINGGE HALL TRACK 3 - Ecological development of PG and its commerc
 ial
SUMMARY:POLARDB DBA Magic - Performance Insight (Yi Lin)
URL:https://postgresconf.io/conferences/Beijing/program/proposals/1233
END:VEVENT
BEGIN:VEVENT
DTSTAMP:20260420T093036Z
UID:b04b6b6f-4626-49bb-8aa2-405040f44973
DTSTART:20190705T090000Z
DTEND:20190705T094000Z
LOCATION:JINGGE HALL TRACK 2 - PG Best Practices
SUMMARY:Application of Agricultural Insurance Big Data Technology Based on 
 Postgis (Yang Lu)
URL:https://postgresconf.io/conferences/Beijing/program/proposals/1228
END:VEVENT
BEGIN:VEVENT
DTSTAMP:20260420T093036Z
UID:6c116efd-a754-4432-bdeb-b6b2fbc87e92
DTSTART:20190705T100000Z
DTEND:20190705T103000Z
LOCATION:JINGGE HALL TRACK 3 - Ecological development of PG and its commerc
 ial
SUMMARY:Closing sessions (PostgresConf Organizers)
URL:https://postgresconf.io/conferences/Beijing/program/proposals/1251
END:VEVENT
BEGIN:VEVENT
DTSTAMP:20260420T093036Z
UID:a51653bc-e233-41f9-999a-64a35115e838
DTSTART:20190706T010000Z
DTEND:20190706T110000Z
LOCATION:TRAINING ROOM A
SUMMARY: Deep PostgreSQL 11 System Training Day1 (Zheng Zhong Zhou)
URL:https://postgresconf.io/conferences/Beijing/program/proposals/1236
END:VEVENT
BEGIN:VEVENT
DTSTAMP:20260420T093036Z
UID:54fb104f-8a23-4954-8189-998e7bee8f82
DTSTART:20190706T010000Z
DTEND:20190706T110000Z
LOCATION:TRAINING ROOM C
SUMMARY:PG High Availability Training (Bo Wei and Bin Tian)
URL:https://postgresconf.io/conferences/Beijing/program/proposals/1240
END:VEVENT
BEGIN:VEVENT
DTSTAMP:20260420T093036Z
UID:5d183e32-6711-4182-948f-01e75a5984f6
DTSTART:20190706T010000Z
DTEND:20190706T110000Z
LOCATION:TRAINING ROOM B
SUMMARY:PG Systematic Basic Training Day1 (Xian Wen Zhu)
URL:https://postgresconf.io/conferences/Beijing/program/proposals/1238
END:VEVENT
BEGIN:VEVENT
DTSTAMP:20260420T093036Z
UID:73ff0c54-f842-4275-bbfc-cb420f2faf84
DTSTART:20190707T010000Z
DTEND:20190707T110000Z
LOCATION:TRAINING ROOM B
SUMMARY:PG Systematic Basic Training Day2 (Xian Wen Zhu)
URL:https://postgresconf.io/conferences/Beijing/program/proposals/1239
END:VEVENT
BEGIN:VEVENT
DTSTAMP:20260420T093036Z
UID:e339c71b-a49e-4628-83b5-3038131d4ba7
DTSTART:20190707T010000Z
DTEND:20190707T110000Z
LOCATION:TRAINING ROOM A
SUMMARY: Deep PostgreSQL 11 System Training Day2 (Zheng Zhong Zhou)
URL:https://postgresconf.io/conferences/Beijing/program/proposals/1237
END:VEVENT
END:VCALENDAR
