BEGIN:VCALENDAR
VERSION:2.0
PRODID:PgConf US Local: Ohio [PgConf.US]
CALSCALE:GREGORIAN
BEGIN:VEVENT
DTSTAMP:20260421T090539Z
UID:428c1a4e-c9a5-4e48-9bc0-4f3bfd67efd6
DTSTART:20170929T130000Z
DTEND:20170929T160000Z
LOCATION:Fairfield
SUMMARY:Postgres Performance and Maintenance (Joshua D. Drake)
URL:https://postgresconf.io/conferences/Ohio2017/program/proposals/734
END:VEVENT
BEGIN:VEVENT
DTSTAMP:20260421T090539Z
UID:ab2e3915-87f1-4386-a710-1456006b6b27
DTSTART:20170930T130000Z
DTEND:20170930T135000Z
LOCATION:Fairfield
SUMMARY:Postgres v10: An Amplified version of PostgreSQL (Joshua D. Drake)
URL:https://postgresconf.io/conferences/Ohio2017/program/proposals/737
END:VEVENT
BEGIN:VEVENT
DTSTAMP:20260421T090539Z
UID:7901625a-028c-4f4f-baff-3166ed722ee6
DTSTART:20170930T140000Z
DTEND:20170930T145000Z
LOCATION:Fairfield
SUMMARY:MVCC in PostgreSQL (Douglas Hunley)
URL:https://postgresconf.io/conferences/Ohio2017/program/proposals/735
END:VEVENT
BEGIN:VEVENT
DTSTAMP:20260421T090539Z
UID:15d363a8-e8f4-4ec5-a388-0ae12253a606
DTSTART:20170930T150000Z
DTEND:20170930T155000Z
LOCATION:Fairfield
SUMMARY:Cloudy With A Chance of Elephants (Phil Vacca)
URL:https://postgresconf.io/conferences/Ohio2017/program/proposals/741
END:VEVENT
BEGIN:VEVENT
DTSTAMP:20260421T090539Z
UID:062e83c3-c7c3-4dfe-b84f-d3d072ec10c9
DTSTART:20170930T160000Z
DTEND:20170930T165000Z
LOCATION:Fairfield
SUMMARY:A MySQL DBA's journey to support and implement PostgreSQL (CJ Estel
 )
URL:https://postgresconf.io/conferences/Ohio2017/program/proposals/732
END:VEVENT
END:VCALENDAR
