BEGIN:VCALENDAR
VERSION:2.0
PRODID:Philly 2019
CALSCALE:GREGORIAN
BEGIN:VEVENT
DTSTAMP:20260420T074211Z
UID:a0dcb20b-9b4e-4202-bc91-c323354a2070
DTSTART:20190719T080000Z
DTEND:20190719T090000Z
LOCATION:Room
SUMMARY:Coffee and Networking
URL:https://postgresconf.io/conferences/Philly2019/program/proposals/1288
END:VEVENT
BEGIN:VEVENT
DTSTAMP:20260420T074211Z
UID:c62cc7d9-3f65-43fd-be8c-cb0368fade1a
DTSTART:20190719T091000Z
DTEND:20190719T095000Z
LOCATION:Room
SUMMARY:Postgres - Ten Great Features\, Ten Great Years ( Mehboob Alam)
URL:https://postgresconf.io/conferences/Philly2019/program/proposals/1256
END:VEVENT
BEGIN:VEVENT
DTSTAMP:20260420T074211Z
UID:4bda049f-3554-4450-b29b-8c35a82b498f
DTSTART:20190719T095000Z
DTEND:20190719T103000Z
LOCATION:Room
SUMMARY:Introducing the Quill Framework (Alexander Ioffe)
URL:https://postgresconf.io/conferences/Philly2019/program/proposals/1275
END:VEVENT
BEGIN:VEVENT
DTSTAMP:20260420T074211Z
UID:98564e87-9fea-4340-92ea-d05efc942747
DTSTART:20190719T104000Z
DTEND:20190719T112000Z
LOCATION:Room
SUMMARY:Shape Shifting -  Moving the DBA function from SQL Server to Postgr
 es (Victoria McCormick)
URL:https://postgresconf.io/conferences/Philly2019/program/proposals/1282
END:VEVENT
BEGIN:VEVENT
DTSTAMP:20260420T074211Z
UID:6b6c9bf1-1696-4f97-b189-7b43fd6ea2b6
DTSTART:20190719T112000Z
DTEND:20190719T120000Z
LOCATION:Room
SUMMARY:Debugging with Postgres (John Ashmead)
URL:https://postgresconf.io/conferences/Philly2019/program/proposals/1274
END:VEVENT
BEGIN:VEVENT
DTSTAMP:20260420T074211Z
UID:562bf0a3-c1a3-4d94-9a87-068b70e43520
DTSTART:20190719T120000Z
DTEND:20190719T133000Z
LOCATION:Room
SUMMARY:Lunch
URL:https://postgresconf.io/conferences/Philly2019/program/proposals/1289
END:VEVENT
BEGIN:VEVENT
DTSTAMP:20260420T074211Z
UID:d12520eb-bdf4-46df-aa3a-dbf6c6861f02
DTSTART:20190719T133000Z
DTEND:20190719T141000Z
LOCATION:Room
SUMMARY:Performant Time-Series Storage and Continuously Up to Date Material
 ized Aggregates ( Matvey Arye)
URL:https://postgresconf.io/conferences/Philly2019/program/proposals/1301
END:VEVENT
BEGIN:VEVENT
DTSTAMP:20260420T074211Z
UID:357e4fd7-bb48-4758-930c-311c79dece5d
DTSTART:20190719T141000Z
DTEND:20190719T145000Z
LOCATION:Room
SUMMARY:Breaking dysfunction in Metadata:  An application of Design Thinkin
 g to Data Governance (Tom Hirata)
URL:https://postgresconf.io/conferences/Philly2019/program/proposals/1281
END:VEVENT
BEGIN:VEVENT
DTSTAMP:20260420T074211Z
UID:5d1e014f-6334-45d9-9ccc-a91cffca8e2d
DTSTART:20190719T145000Z
DTEND:20190719T151000Z
LOCATION:Room
SUMMARY:Break
URL:https://postgresconf.io/conferences/Philly2019/program/proposals/1290
END:VEVENT
BEGIN:VEVENT
DTSTAMP:20260420T074211Z
UID:8d5189e9-f031-4777-9d5f-d289443396fd
DTSTART:20190719T151000Z
DTEND:20190719T155000Z
LOCATION:Room
SUMMARY:I Didn't Know Postgres Could Do That! (Robert Treat)
URL:https://postgresconf.io/conferences/Philly2019/program/proposals/1284
END:VEVENT
BEGIN:VEVENT
DTSTAMP:20260420T074211Z
UID:78b9c0a0-68a0-4582-86fd-ee7524d02f8c
DTSTART:20190719T155000Z
DTEND:20190719T163000Z
LOCATION:Room
SUMMARY:Making Use of the Turing Completeness of SQL (Michael Malis)
URL:https://postgresconf.io/conferences/Philly2019/program/proposals/1255
END:VEVENT
BEGIN:VEVENT
DTSTAMP:20260420T074211Z
UID:53864035-de28-4b42-8285-8a61b2efc76f
DTSTART:20190719T163000Z
DTEND:20190719T173000Z
LOCATION:Room
SUMMARY:Lightning Talks
URL:https://postgresconf.io/conferences/Philly2019/program/proposals/1300
END:VEVENT
END:VCALENDAR
