BEGIN:VCALENDAR
VERSION:2.0
PRODID:Postgres World Webinar Series 2024
CALSCALE:GREGORIAN
BEGIN:VEVENT
DTSTAMP:20260420T121344Z
UID:3e75a820-c9a2-4c82-ad8b-b612140b5a7f
DTSTART:20240207T230000Z
DTEND:20240208T000000Z
LOCATION:PostgresWorld Zoom
SUMMARY:[Meetup Livestream] Better materialized views in 1 million LOC: Ins
 ide Materialize's PostgresSQL src (Sean Loiselle)
URL:https://postgresconf.io/conferences/PostgresWorld_Webinars_2024/program
 /proposals/2193
END:VEVENT
BEGIN:VEVENT
DTSTAMP:20260420T121344Z
UID:505d7942-4406-4b8d-aec4-f26833f84b17
DTSTART:20240522T170000Z
DTEND:20240522T180000Z
LOCATION:PostgresWorld Zoom
SUMMARY:Using Postgres in a Multi-Tenant SaaS - Securing Everyone’s Data 
 (Rajan Palanivel)
URL:https://postgresconf.io/conferences/PostgresWorld_Webinars_2024/program
 /proposals/2288
END:VEVENT
BEGIN:VEVENT
DTSTAMP:20260420T121344Z
UID:d8c1ee20-2720-4511-a885-4cc487b2f28e
DTSTART:20240612T170000Z
DTEND:20240612T180000Z
LOCATION:PostgresWorld Zoom
SUMMARY:Advanced Strategies for PostgreSQL Lock Management (Greg Dostatni)
URL:https://postgresconf.io/conferences/PostgresWorld_Webinars_2024/program
 /proposals/2289
END:VEVENT
BEGIN:VEVENT
DTSTAMP:20260420T121344Z
UID:3765496e-1a8e-468d-8688-fe6e39cb0c96
DTSTART:20240625T220000Z
DTEND:20240625T233000Z
LOCATION:PostgresWorld Zoom
SUMMARY:NYC Postgres Meetup Livestream: Postgres Automation and Hyperscalin
 g (Luigi Nardi)
URL:https://postgresconf.io/conferences/PostgresWorld_Webinars_2024/program
 /proposals/2290
END:VEVENT
BEGIN:VEVENT
DTSTAMP:20260420T121344Z
UID:e7af800f-bae1-472e-bfe6-a94e34c7bb0a
DTSTART:20240626T170000Z
DTEND:20240626T180000Z
LOCATION:PostgresWorld Zoom
SUMMARY:Build Gen AI Apps on PostgreSQL that Run Anywhere (Randall Rhea)
URL:https://postgresconf.io/conferences/PostgresWorld_Webinars_2024/program
 /proposals/2291
END:VEVENT
BEGIN:VEVENT
DTSTAMP:20260420T121344Z
UID:dbe1f102-f9a5-4791-93bc-ba659df99066
DTSTART:20240710T170000Z
DTEND:20240710T180000Z
LOCATION:PostgresWorld Zoom
SUMMARY:Learning PostgreSQL (Dave Stokes)
URL:https://postgresconf.io/conferences/PostgresWorld_Webinars_2024/program
 /proposals/2292
END:VEVENT
BEGIN:VEVENT
DTSTAMP:20260420T121344Z
UID:f91db6e5-1b82-4804-acc8-eec16fa3cc64
DTSTART:20241002T220000Z
DTEND:20241002T233000Z
LOCATION:PostgresWorld Zoom
SUMMARY:[Meetup Livestream] Leveraging a PL/RUST extension to protect sensi
 tive data in PostgreSQL (Rajan Palanivel)
URL:https://postgresconf.io/conferences/PostgresWorld_Webinars_2024/program
 /proposals/2293
END:VEVENT
BEGIN:VEVENT
DTSTAMP:20260420T121344Z
UID:ab0b8cc2-3efa-456e-b7ce-9fc8b034e022
DTSTART:20241210T180000Z
DTEND:20241210T190000Z
LOCATION:PostgresWorld Zoom
SUMMARY:Apache Cloudberry™ (Incubating): The Latest Database for SQL at S
 cale  (Jacque Istok\, Louis Mugnano\, Antonio Petrole\, and Ed Espino)
URL:https://postgresconf.io/conferences/PostgresWorld_Webinars_2024/program
 /proposals/2405
END:VEVENT
END:VCALENDAR
