BEGIN:VCALENDAR
VERSION:2.0
PRODID:Seattle 2024
CALSCALE:GREGORIAN
BEGIN:VEVENT
DTSTAMP:20260420T092950Z
UID:c2f5b6c9-05f8-467c-9a30-bec34d5930e4
DTSTART:20241106T152000Z
DTEND:20241106T232000Z
LOCATION:Level 1 - Summit Lobby
SUMMARY:Registration
URL:https://postgresconf.io/conferences/SEA2024/program/proposals/2350
END:VEVENT
BEGIN:VEVENT
DTSTAMP:20260420T092950Z
UID:62a4c323-8522-4ca5-8906-1deb230b4f72
DTSTART:20241106T161000Z
DTEND:20241106T173000Z
LOCATION:Microsoft Keynote Room: Level 5 - Ballroom 1
SUMMARY:Keynote
URL:https://postgresconf.io/conferences/SEA2024/program/proposals/2349
END:VEVENT
BEGIN:VEVENT
DTSTAMP:20260420T092950Z
UID:1c05c1d4-a6bd-4679-9a33-f2c4317ba976
DTSTART:20241106T173000Z
DTEND:20241107T020000Z
LOCATION:Level 3 - Garden Lounge
SUMMARY:Community Zone
URL:https://postgresconf.io/conferences/SEA2024/program/proposals/2355
END:VEVENT
BEGIN:VEVENT
DTSTAMP:20260420T092950Z
UID:59e6c62a-c76b-4085-b0cb-33b090133aaa
DTSTART:20241106T174000Z
DTEND:20241106T183000Z
LOCATION:Essentials: 420
SUMMARY:Journey Through Postgres (Zak Tedder)
URL:https://postgresconf.io/conferences/SEA2024/program/proposals/2391
END:VEVENT
BEGIN:VEVENT
DTSTAMP:20260420T092950Z
UID:189af681-e7fb-4fc0-bcce-53b8aa85f078
DTSTART:20241106T174000Z
DTEND:20241106T180000Z
LOCATION:Ops: 421
SUMMARY:Understanding Database Statistics in Postgres (Anita Singh and Raj 
 Jayakrishnan)
URL:https://postgresconf.io/conferences/SEA2024/program/proposals/2377
END:VEVENT
BEGIN:VEVENT
DTSTAMP:20260420T092950Z
UID:1adeb96a-f784-4cb4-8e5a-38151a3b29c9
DTSTART:20241106T174000Z
DTEND:20241106T183000Z
LOCATION:Dev: 422
SUMMARY:Tips and Tricks for developers moving to PostgreSQL (Eric Lendvai)
URL:https://postgresconf.io/conferences/SEA2024/program/proposals/2389
END:VEVENT
BEGIN:VEVENT
DTSTAMP:20260420T092950Z
UID:5a2ed85a-c24e-4324-8863-30e069cc8a02
DTSTART:20241106T181000Z
DTEND:20241106T183000Z
LOCATION:Ops: 421
SUMMARY:Does machine learning for database optimization work in the real wo
 rld? (Bohan Zhang)
URL:https://postgresconf.io/conferences/SEA2024/program/proposals/2316
END:VEVENT
BEGIN:VEVENT
DTSTAMP:20260420T092950Z
UID:6a8de681-700b-44c4-877e-1ec3118b8d2e
DTSTART:20241106T183000Z
DTEND:20241107T000000Z
LOCATION:Exhibit Hall: Level 2
SUMMARY:Exhibit Hall
URL:https://postgresconf.io/conferences/SEA2024/program/proposals/2356
END:VEVENT
BEGIN:VEVENT
DTSTAMP:20260420T092950Z
UID:90855656-bf48-49d2-9956-1a3aac972509
DTSTART:20241106T184000Z
DTEND:20241106T193000Z
LOCATION:Ops: 421
SUMMARY:Leveraging Patroni's synchronous replication feature to achieve hig
 h availability while running PostgreSQL on Kubernetes. (Shree Vidhya Sampa
 th)
URL:https://postgresconf.io/conferences/SEA2024/program/proposals/2339
END:VEVENT
BEGIN:VEVENT
DTSTAMP:20260420T092950Z
UID:a90aa4dd-4e9a-4a91-bf54-5772ea06ed8a
DTSTART:20241106T184000Z
DTEND:20241106T193000Z
LOCATION:Dev: 422
SUMMARY:A technical overview to unlock Seamless Logical Replication from He
 terogeneous Databases (MySQL\, Oracle\, SQL Server\, and More) to PostgreS
 QL (Cary Huang)
URL:https://postgresconf.io/conferences/SEA2024/program/proposals/2374
END:VEVENT
BEGIN:VEVENT
DTSTAMP:20260420T092950Z
UID:856ba5b5-27ed-42c5-b3bb-f025ff92e243
DTSTART:20241106T191000Z
DTEND:20241106T193000Z
LOCATION:Essentials: 420
SUMMARY:FerretDB: Bringing MongoDB workloads to PostgreSQL (Peter Farkas)
URL:https://postgresconf.io/conferences/SEA2024/program/proposals/2308
END:VEVENT
BEGIN:VEVENT
DTSTAMP:20260420T092950Z
UID:cd1dba26-e3af-4c48-8889-cea6bd6854f1
DTSTART:20241106T194000Z
DTEND:20241106T200000Z
LOCATION:Dev: 422
SUMMARY:Converting your schema from Oracle\, MSSQL\, MySQL to PostgreSQL in
  minutes with DataWharf (Eric Lendvai)
URL:https://postgresconf.io/conferences/SEA2024/program/proposals/2388
END:VEVENT
BEGIN:VEVENT
DTSTAMP:20260420T092950Z
UID:48c537e2-5032-4209-b6d0-591bd26393ec
DTSTART:20241106T194000Z
DTEND:20241106T200000Z
LOCATION:Essentials: 420
SUMMARY:Leveling Up Your PostgreSQL Game using Extensions (Anita Singh and 
 Rajeev Thottathil)
URL:https://postgresconf.io/conferences/SEA2024/program/proposals/2342
END:VEVENT
BEGIN:VEVENT
DTSTAMP:20260420T092950Z
UID:cb6e55e0-2e43-482e-8c74-a3f31a4686e6
DTSTART:20241106T194000Z
DTEND:20241106T200000Z
LOCATION:Ops: 421
SUMMARY:Introducing SynchDB: Open-Source Synchronization Across Heterogeneo
 us Databases with PostgreSQL (Grant Zhou)
URL:https://postgresconf.io/conferences/SEA2024/program/proposals/2372
END:VEVENT
BEGIN:VEVENT
DTSTAMP:20260420T092950Z
UID:2a2338a4-1e63-4281-a85a-411619fea289
DTSTART:20241106T201000Z
DTEND:20241106T210000Z
LOCATION:Dev: 422
SUMMARY:Beyond the Basics: Exploring PostgreSQL Catalogs and Extensions (Sw
 anand Kshirsagar and Venkataramanan Govindarajan)
URL:https://postgresconf.io/conferences/SEA2024/program/proposals/2345
END:VEVENT
BEGIN:VEVENT
DTSTAMP:20260420T092950Z
UID:e19cd37a-00e6-4bc1-8ede-d303f8a116c4
DTSTART:20241106T201000Z
DTEND:20241106T210000Z
LOCATION:Essentials: 420
SUMMARY:Practical Memory Tuning for PostgreSQL (Grant McAlister)
URL:https://postgresconf.io/conferences/SEA2024/program/proposals/2380
END:VEVENT
BEGIN:VEVENT
DTSTAMP:20260420T092950Z
UID:25b8e910-1043-4af0-a8ff-e4c82885a918
DTSTART:20241106T201000Z
DTEND:20241106T210000Z
LOCATION:Ops: 421
SUMMARY:What makes PostgreSQL on Kubernetes interesting\, even if it is may
 be not for you? (Fernando  Laudares Camargos)
URL:https://postgresconf.io/conferences/SEA2024/program/proposals/2382
END:VEVENT
BEGIN:VEVENT
DTSTAMP:20260420T092950Z
UID:4a901db5-2672-4a5e-94de-6350cc2fbd38
DTSTART:20241106T202000Z
DTEND:20241106T220000Z
LOCATION:AWS Dining Hall Level 2 - Flex C
SUMMARY:Lunch
URL:https://postgresconf.io/conferences/SEA2024/program/proposals/2352
END:VEVENT
BEGIN:VEVENT
DTSTAMP:20260420T092950Z
UID:dca97af0-ced1-4c04-a000-c47b1662f84d
DTSTART:20241106T220000Z
DTEND:20241106T222000Z
LOCATION:Dev: 422
SUMMARY:Top 5 PostgreSQL Query Tuning Tips (Janis Griffin)
URL:https://postgresconf.io/conferences/SEA2024/program/proposals/2306
END:VEVENT
BEGIN:VEVENT
DTSTAMP:20260420T092950Z
UID:c04b8298-1608-4034-988c-a09529bcbae3
DTSTART:20241106T220000Z
DTEND:20241106T225000Z
LOCATION:Ops: 421
SUMMARY:Database DevOps (Stephen Atwell and Christopher Crow)
URL:https://postgresconf.io/conferences/SEA2024/program/proposals/2309
END:VEVENT
BEGIN:VEVENT
DTSTAMP:20260420T092950Z
UID:5cedc38e-b7fc-4641-b4b5-8b783d402c42
DTSTART:20241106T220000Z
DTEND:20241106T225000Z
LOCATION:Essentials: 420
SUMMARY:PostgreSQL for Oracle DBAs (Thuymy Tran and chandra pathivada)
URL:https://postgresconf.io/conferences/SEA2024/program/proposals/2361
END:VEVENT
BEGIN:VEVENT
DTSTAMP:20260420T092950Z
UID:5a3b4c62-8d52-4939-a78d-ec4c3845687d
DTSTART:20241106T230000Z
DTEND:20241106T235000Z
LOCATION:Essentials: 420
SUMMARY:Professional PostgreSQL monitoring made easy (Pavlo Golub)
URL:https://postgresconf.io/conferences/SEA2024/program/proposals/2301
END:VEVENT
BEGIN:VEVENT
DTSTAMP:20260420T092950Z
UID:6304ae60-eda8-4c6c-818d-62c574fdb2cb
DTSTART:20241106T230000Z
DTEND:20241106T235000Z
LOCATION:Ops: 421
SUMMARY:Collation Surprises: Did Postgres Lose My Data? (2024) (Jeremy Schn
 eider)
URL:https://postgresconf.io/conferences/SEA2024/program/proposals/2317
END:VEVENT
BEGIN:VEVENT
DTSTAMP:20260420T092950Z
UID:3d121d5f-e224-4066-8541-641d8250faf1
DTSTART:20241106T230000Z
DTEND:20241106T235000Z
LOCATION:Dev: 422
SUMMARY:DDL Schema Migrations: Navigating the High-Scale Seas (Saraj Munjal
 )
URL:https://postgresconf.io/conferences/SEA2024/program/proposals/2390
END:VEVENT
BEGIN:VEVENT
DTSTAMP:20260420T092950Z
UID:c9aec53f-7e72-4242-8fdd-0acbca3f8854
DTSTART:20241107T000000Z
DTEND:20241107T002000Z
LOCATION:Essentials: 420
SUMMARY:Bridging the Gap: Transition from SQL Server to Babelfish for Auror
 a PostgreSQL (Suraj Talreja)
URL:https://postgresconf.io/conferences/SEA2024/program/proposals/2319
END:VEVENT
BEGIN:VEVENT
DTSTAMP:20260420T092950Z
UID:7e000f41-ce21-4a75-9f67-5cd3574a9560
DTSTART:20241107T000000Z
DTEND:20241107T005000Z
LOCATION:Ops: 421
SUMMARY:Bridging the Gap: Smooth Data Migration from Oracle to PostgreSQL (
 Clay  Jackson)
URL:https://postgresconf.io/conferences/SEA2024/program/proposals/2307
END:VEVENT
BEGIN:VEVENT
DTSTAMP:20260420T092950Z
UID:574be3f2-7408-4850-99ef-ab40e5550681
DTSTART:20241107T000000Z
DTEND:20241107T005000Z
LOCATION:Dev: 422
SUMMARY:Architectural Considerations When Building Out Multi-Master Replica
 tion Clusters (Robert Bernier)
URL:https://postgresconf.io/conferences/SEA2024/program/proposals/2367
END:VEVENT
BEGIN:VEVENT
DTSTAMP:20260420T092950Z
UID:267a90d5-19d9-4756-a086-59914f30ac7a
DTSTART:20241107T003000Z
DTEND:20241107T012000Z
LOCATION:Essentials: 420
SUMMARY:Why PostgreSQL Isn't Utilizing Indexes: Diagnosing and Solving Perf
 ormance Issues" (Chandra Pathivada)
URL:https://postgresconf.io/conferences/SEA2024/program/proposals/2313
END:VEVENT
BEGIN:VEVENT
DTSTAMP:20260420T092950Z
UID:82b86ae7-470b-41f4-a1f3-2b01048fb4e2
DTSTART:20241107T010000Z
DTEND:20241107T015000Z
LOCATION:Ops: 421
SUMMARY:Overcoming Migration Challenges: From Oracle to PostgreSQL (BAJI SH
 AIK and Sameer Malik)
URL:https://postgresconf.io/conferences/SEA2024/program/proposals/2346
END:VEVENT
BEGIN:VEVENT
DTSTAMP:20260420T092950Z
UID:b3ead351-cd67-4680-96c0-1b0072c99c49
DTSTART:20241107T010000Z
DTEND:20241107T012000Z
LOCATION:Dev: 422
SUMMARY:What's our Vector\, Victor? (Shaun Thomas)
URL:https://postgresconf.io/conferences/SEA2024/program/proposals/2304
END:VEVENT
BEGIN:VEVENT
DTSTAMP:20260420T092950Z
UID:1e1d207c-13cd-4612-9a7b-1e34c2baac2b
DTSTART:20241107T013000Z
DTEND:20241107T015000Z
LOCATION:Dev: 422
SUMMARY:Don't Stop Retrievin': Building lightning-fast search in Postgres (
 Neil Hansen)
URL:https://postgresconf.io/conferences/SEA2024/program/proposals/2381
END:VEVENT
BEGIN:VEVENT
DTSTAMP:20260420T092950Z
UID:6b46cf6d-7551-4b69-a4c2-5b6727890b56
DTSTART:20241107T013000Z
DTEND:20241107T015000Z
LOCATION:Essentials: 420
SUMMARY:Mastering PostgreSQL Partitioning: Supercharge Performance and Simp
 lify Maintenance   (Ryan Booz)
URL:https://postgresconf.io/conferences/SEA2024/program/proposals/2392
END:VEVENT
BEGIN:VEVENT
DTSTAMP:20260420T092950Z
UID:3892487d-4593-4a9a-b8e2-f78661778392
DTSTART:20241107T020000Z
DTEND:20241107T040000Z
LOCATION:Exhibit Hall: Level 2
SUMMARY:Exhibitor Reception
URL:https://postgresconf.io/conferences/SEA2024/program/proposals/2359
END:VEVENT
BEGIN:VEVENT
DTSTAMP:20260420T092950Z
UID:8c47dafb-1b9d-4f3e-8e30-192aa979b949
DTSTART:20241107T155000Z
DTEND:20241107T235000Z
LOCATION:Level 1 - Summit Lobby
SUMMARY:Registration
URL:https://postgresconf.io/conferences/SEA2024/program/proposals/2351
END:VEVENT
BEGIN:VEVENT
DTSTAMP:20260420T092950Z
UID:1bc2769a-5205-4746-b90e-b4a32d6594d6
DTSTART:20241107T161000Z
DTEND:20241107T173000Z
LOCATION:Microsoft Keynote Room: Level 5 - Ballroom 1
SUMMARY:Keynote
URL:https://postgresconf.io/conferences/SEA2024/program/proposals/2358
END:VEVENT
BEGIN:VEVENT
DTSTAMP:20260420T092950Z
UID:8bf2cf9a-d186-4f84-860f-4ad573f6dc1a
DTSTART:20241107T173000Z
DTEND:20241108T020000Z
LOCATION:Level 3 - Garden Lounge
SUMMARY:Community Zone
URL:https://postgresconf.io/conferences/SEA2024/program/proposals/2354
END:VEVENT
BEGIN:VEVENT
DTSTAMP:20260420T092950Z
UID:92909502-b38e-4e9e-9faa-daa3f4dbe90d
DTSTART:20241107T174000Z
DTEND:20241107T183000Z
LOCATION:Ops: 421
SUMMARY:PostgreSQL 17: Performance and Efficiency - A Live Demo Showcase (K
 umar Ramamurthy and Adarsha Kuthuru)
URL:https://postgresconf.io/conferences/SEA2024/program/proposals/2376
END:VEVENT
BEGIN:VEVENT
DTSTAMP:20260420T092950Z
UID:b0ce7eda-6f13-4bcf-9aa1-988a3352a1df
DTSTART:20241107T174000Z
DTEND:20241107T183000Z
LOCATION:Essentials: 420
SUMMARY:SQL Team Six: How to Build Effective Teams (Aaron Cutshall)
URL:https://postgresconf.io/conferences/SEA2024/program/proposals/2341
END:VEVENT
BEGIN:VEVENT
DTSTAMP:20260420T092950Z
UID:c4d55b9f-df8a-4612-a044-2ac045dd03aa
DTSTART:20241107T174000Z
DTEND:20241107T183000Z
LOCATION:Dev: 422
SUMMARY:Time Travel Queries with Postgres (Harry Pierson)
URL:https://postgresconf.io/conferences/SEA2024/program/proposals/2399
END:VEVENT
BEGIN:VEVENT
DTSTAMP:20260420T092950Z
UID:1903a0ff-59a7-4d56-b8d7-e4d7ea7626f2
DTSTART:20241107T183000Z
DTEND:20241108T000000Z
LOCATION:Exhibit Hall: Level 2
SUMMARY:Exhibit Hall
URL:https://postgresconf.io/conferences/SEA2024/program/proposals/2357
END:VEVENT
BEGIN:VEVENT
DTSTAMP:20260420T092950Z
UID:ab2abcc6-30f1-4f4c-80af-5d5628808397
DTSTART:20241107T184000Z
DTEND:20241107T193000Z
LOCATION:Dev: 422
SUMMARY:Designing a check-in system for a space cruise line with PostgreSQL
 's new bidirectional replication (Fernando  Laudares Camargos)
URL:https://postgresconf.io/conferences/SEA2024/program/proposals/2383
END:VEVENT
BEGIN:VEVENT
DTSTAMP:20260420T092950Z
UID:bc7f5944-6001-4807-a6c7-bc9e0708fea7
DTSTART:20241107T184000Z
DTEND:20241107T193000Z
LOCATION:Essentials: 420
SUMMARY:Collation Challenges (Joe Conway)
URL:https://postgresconf.io/conferences/SEA2024/program/proposals/2312
END:VEVENT
BEGIN:VEVENT
DTSTAMP:20260420T092950Z
UID:b58647ce-3483-40cf-8235-67e1f7ec2adc
DTSTART:20241107T184000Z
DTEND:20241107T193000Z
LOCATION:Ops: 421
SUMMARY:Tackling Scheduling Challenges with pg_cron and pg_dbms_job (BAJI S
 HAIK and Rajeshkumar Sabankar)
URL:https://postgresconf.io/conferences/SEA2024/program/proposals/2347
END:VEVENT
BEGIN:VEVENT
DTSTAMP:20260420T092950Z
UID:1da7ddfa-e579-430c-bb61-5d6cee42388f
DTSTART:20241107T194000Z
DTEND:20241107T200000Z
LOCATION:Ops: 421
SUMMARY:Klutch (Julian Fischer)
URL:https://postgresconf.io/conferences/SEA2024/program/proposals/2373
END:VEVENT
BEGIN:VEVENT
DTSTAMP:20260420T092950Z
UID:9e2febb5-56bb-4672-8377-cfaefd864677
DTSTART:20241107T194000Z
DTEND:20241107T203000Z
LOCATION:Essentials: 420
SUMMARY:Aurora PostgreSQL for SQL Server DBAs (Thuymy Tran and chandra path
 ivada)
URL:https://postgresconf.io/conferences/SEA2024/program/proposals/2362
END:VEVENT
BEGIN:VEVENT
DTSTAMP:20260420T092951Z
UID:ef1fe571-ac8c-452c-9d68-b3e606d750ab
DTSTART:20241107T201000Z
DTEND:20241107T203000Z
LOCATION:Ops: 421
SUMMARY:Mastering RDS Maintenance: Strategies for Patching and Version Upgr
 ades (Arnab Saha and Krishna Sarabu)
URL:https://postgresconf.io/conferences/SEA2024/program/proposals/2330
END:VEVENT
BEGIN:VEVENT
DTSTAMP:20260420T092951Z
UID:78feac87-120b-4300-bdb0-a1e03b49eea7
DTSTART:20241107T202000Z
DTEND:20241107T220000Z
LOCATION:AWS Dining Hall Level 2 - Flex C
SUMMARY:Lunch
URL:https://postgresconf.io/conferences/SEA2024/program/proposals/2353
END:VEVENT
BEGIN:VEVENT
DTSTAMP:20260420T092951Z
UID:e0199506-811f-4fde-8f3e-b874c6a7b219
DTSTART:20241107T213000Z
DTEND:20241107T215000Z
LOCATION:Dev: 422
SUMMARY:Innovating Customer Experience with Postgres: Transforming Health a
 nd Wellness at HERE Spa (Bill Tang)
URL:https://postgresconf.io/conferences/SEA2024/program/proposals/2386
END:VEVENT
BEGIN:VEVENT
DTSTAMP:20260420T092951Z
UID:ce2659c4-8323-4422-91c7-4a6cd58a1a11
DTSTART:20241107T213000Z
DTEND:20241107T222000Z
LOCATION:Ops: 421
SUMMARY:Designing Scalable Multi-Tenant Architectures with PostgreSQL for S
 aaS Solutions (Raj Jayakrishnan and Rajeev Thottathil)
URL:https://postgresconf.io/conferences/SEA2024/program/proposals/2321
END:VEVENT
BEGIN:VEVENT
DTSTAMP:20260420T092951Z
UID:00243af7-2627-409e-a617-bfaa4628b6f6
DTSTART:20241107T220000Z
DTEND:20241107T222000Z
LOCATION:Dev: 422
SUMMARY:Efficient Row Level Security in Different Database Platforms (Shail
 esh Doshi)
URL:https://postgresconf.io/conferences/SEA2024/program/proposals/2379
END:VEVENT
BEGIN:VEVENT
DTSTAMP:20260420T092951Z
UID:7342f23f-3f33-45fe-93f9-a708e7e760f0
DTSTART:20241107T220000Z
DTEND:20241107T222000Z
LOCATION:Essentials: 420
SUMMARY:Customizing the Wordle Game Experience with PostgreSQL (Pavlo Golub
 )
URL:https://postgresconf.io/conferences/SEA2024/program/proposals/2302
END:VEVENT
BEGIN:VEVENT
DTSTAMP:20260420T092951Z
UID:82917f14-580b-450b-a9d4-3425fa68205a
DTSTART:20241107T223000Z
DTEND:20241107T225000Z
LOCATION:Ops: 421
SUMMARY:Kubernetes Killed the High Availability Star (Shaun Thomas)
URL:https://postgresconf.io/conferences/SEA2024/program/proposals/2303
END:VEVENT
BEGIN:VEVENT
DTSTAMP:20260420T092951Z
UID:64a35712-2cd5-4031-9e70-79235ed79817
DTSTART:20241107T223000Z
DTEND:20241107T225000Z
LOCATION:Dev: 422
SUMMARY:Overcoming Common Pitfalls of Postgres Logical Decoding (Sai Sriram
 pur)
URL:https://postgresconf.io/conferences/SEA2024/program/proposals/2384
END:VEVENT
BEGIN:VEVENT
DTSTAMP:20260420T092951Z
UID:a38e1c30-0d8e-4390-a631-ddeed19e1709
DTSTART:20241107T223000Z
DTEND:20241107T232000Z
LOCATION:Essentials: 420
SUMMARY:Query Optimizations and Where to Find Them: A Beginners Guide (Ryan
  Booz)
URL:https://postgresconf.io/conferences/SEA2024/program/proposals/2393
END:VEVENT
BEGIN:VEVENT
DTSTAMP:20260420T092951Z
UID:79076649-158e-4de6-937c-0fcab50725b9
DTSTART:20241107T230000Z
DTEND:20241107T235000Z
LOCATION:Dev: 422
SUMMARY:Seamless Transition: Migrating from Commercial to Open Source Datab
 ases (Alvaro Costa-Neto and Minesh Chande)
URL:https://postgresconf.io/conferences/SEA2024/program/proposals/2322
END:VEVENT
BEGIN:VEVENT
DTSTAMP:20260420T092951Z
UID:618bb749-7d60-43ef-9a67-ac25f2f9ffc7
DTSTART:20241107T233000Z
DTEND:20241108T002000Z
LOCATION:Essentials: 420
SUMMARY:Responsible AI in generative AI era  (Neelam Koshiya)
URL:https://postgresconf.io/conferences/SEA2024/program/proposals/2325
END:VEVENT
BEGIN:VEVENT
DTSTAMP:20260420T092951Z
UID:5e267d14-74d3-4e53-9b80-d69e3fb22a85
DTSTART:20241108T000000Z
DTEND:20241108T005000Z
LOCATION:Ops: 421
SUMMARY:Managing A CitusDB Replication Cluster With Patroni (Robert Bernier
 )
URL:https://postgresconf.io/conferences/SEA2024/program/proposals/2369
END:VEVENT
END:VCALENDAR
