BEGIN:VCALENDAR
VERSION:2.0
PRODID:Silicon Valley 2019
CALSCALE:GREGORIAN
BEGIN:VEVENT
DTSTAMP:20260420T092950Z
UID:abd12b0c-09bc-4851-a563-5282d45209dd
DTSTART:20190918T160000Z
DTEND:20190918T190000Z
LOCATION:Winchester (2)
SUMMARY:Building scalable\, real-time analytics applications with Azure Dat
 abase for PostgreSQL (Samay Sharma)
URL:https://postgresconf.io/conferences/SV2019/program/proposals/1137
END:VEVENT
BEGIN:VEVENT
DTSTAMP:20260420T092950Z
UID:d5be8fe3-dfbb-4f07-9fe0-72ca7996b139
DTSTART:20190918T160000Z
DTEND:20190918T190000Z
LOCATION:Winchester (1)
SUMMARY:Postgresql performance tuning - a crash course (Malcolm McLean)
URL:https://postgresconf.io/conferences/SV2019/program/proposals/1248
END:VEVENT
BEGIN:VEVENT
DTSTAMP:20260420T092950Z
UID:f967b145-d016-42aa-81e0-ccad82873b99
DTSTART:20190918T190000Z
DTEND:20190918T200000Z
LOCATION:Patio
SUMMARY:Wed Lunch
URL:https://postgresconf.io/conferences/SV2019/program/proposals/1354
END:VEVENT
BEGIN:VEVENT
DTSTAMP:20260420T092950Z
UID:d5bfcceb-5f8e-4c28-8c64-2fa430c689e4
DTSTART:20190918T200000Z
DTEND:20190918T230000Z
LOCATION:Winchester (2)
SUMMARY:Finding and fixing slow queries (Hans-Jürgen Schönig)
URL:https://postgresconf.io/conferences/SV2019/program/proposals/1149
END:VEVENT
BEGIN:VEVENT
DTSTAMP:20260420T092950Z
UID:79a7b9b7-11aa-4d5d-84ed-46761e194af7
DTSTART:20190918T200000Z
DTEND:20190918T230000Z
LOCATION:Winchester (1)
SUMMARY:Oracle to PostgreSQL Migration Tutorial  (Alvaro Hernandez)
URL:https://postgresconf.io/conferences/SV2019/program/proposals/1171
END:VEVENT
BEGIN:VEVENT
DTSTAMP:20260420T092950Z
UID:e20f257c-a304-48f4-9cc9-6b323e210a3a
DTSTART:20190919T003000Z
DTEND:20190919T023000Z
LOCATION:Winchester (1)
SUMMARY:Silicon Valley Postgres Meetup
URL:https://postgresconf.io/conferences/SV2019/program/proposals/1352
END:VEVENT
BEGIN:VEVENT
DTSTAMP:20260420T092950Z
UID:0e97d14c-0ba5-496e-89a6-507a6c7be64d
DTSTART:20190919T160000Z
DTEND:20190919T170000Z
LOCATION:Winchester (1)
SUMMARY:Thursday Registration
URL:https://postgresconf.io/conferences/SV2019/program/proposals/1350
END:VEVENT
BEGIN:VEVENT
DTSTAMP:20260420T092950Z
UID:058e06e6-2685-427d-83d3-2fb33cee4b01
DTSTART:20190919T170000Z
DTEND:20190919T173000Z
LOCATION:Ballroom
SUMMARY:Conference Launch
URL:https://postgresconf.io/conferences/SV2019/program/proposals/1349
END:VEVENT
BEGIN:VEVENT
DTSTAMP:20260420T092950Z
UID:42d647c2-9151-4465-91fd-28e976e026d4
DTSTART:20190919T180000Z
DTEND:20190919T185000Z
LOCATION:Winchester (2)
SUMMARY:How the Heimdall Proxy Improved SQL Scale for the World's #1 Coffee
  Retailer  (Lee Roland)
URL:https://postgresconf.io/conferences/SV2019/program/proposals/1121
END:VEVENT
BEGIN:VEVENT
DTSTAMP:20260420T092950Z
UID:72805a7b-cdd7-4936-bd21-52fb7bc7c150
DTSTART:20190919T180000Z
DTEND:20190919T185000Z
LOCATION:Market
SUMMARY:Using PostgreSQL for Data Privacy and Security (Mason Sharp)
URL:https://postgresconf.io/conferences/SV2019/program/proposals/1208
END:VEVENT
BEGIN:VEVENT
DTSTAMP:20260420T092950Z
UID:64efdd85-2a7c-4b01-abfa-d67d16655e3e
DTSTART:20190919T180000Z
DTEND:20190919T185000Z
LOCATION:Winchester (1)
SUMMARY:PostgreSQL as a Graph Database (Greg Spiegelberg)
URL:https://postgresconf.io/conferences/SV2019/program/proposals/1176
END:VEVENT
BEGIN:VEVENT
DTSTAMP:20260420T092950Z
UID:7749b157-4583-4277-ae1d-8c79b3f5a25a
DTSTART:20190919T190000Z
DTEND:20190919T195000Z
LOCATION:Winchester (1)
SUMMARY:The PostgreSQL optimizer: What it really does (Hans-Jürgen Schöni
 g)
URL:https://postgresconf.io/conferences/SV2019/program/proposals/1146
END:VEVENT
BEGIN:VEVENT
DTSTAMP:20260420T092950Z
UID:18411d94-7017-4857-b26b-d2f247d4338d
DTSTART:20190919T190000Z
DTEND:20190919T195000Z
LOCATION:Market
SUMMARY:Creating Continuously Up to Date Materialized Aggregates (David Koh
 n)
URL:https://postgresconf.io/conferences/SV2019/program/proposals/1181
END:VEVENT
BEGIN:VEVENT
DTSTAMP:20260420T092950Z
UID:a4f41268-9bde-4924-962b-0e222b82b787
DTSTART:20190919T190000Z
DTEND:20190919T195000Z
LOCATION:Winchester (2)
SUMMARY:The NoSQL store everyone ignored (Zohaib Sibte Hassan)
URL:https://postgresconf.io/conferences/SV2019/program/proposals/1119
END:VEVENT
BEGIN:VEVENT
DTSTAMP:20260420T092950Z
UID:8b3d917b-895e-4ae3-87bf-8fda5a89f8a4
DTSTART:20190919T193000Z
DTEND:20190919T195000Z
LOCATION:Ballroom
SUMMARY:6 Technical Challenges Developing a Distributed SQL Database (Karth
 ik Ranganathan)
URL:https://postgresconf.io/conferences/SV2019/program/proposals/1323
END:VEVENT
BEGIN:VEVENT
DTSTAMP:20260420T092950Z
UID:0dcc30d7-8bfb-47cb-8f88-640234fd06f6
DTSTART:20190919T195000Z
DTEND:20190919T205000Z
LOCATION:Patio
SUMMARY:Thursday Lunch
URL:https://postgresconf.io/conferences/SV2019/program/proposals/1355
END:VEVENT
BEGIN:VEVENT
DTSTAMP:20260420T092950Z
UID:3afaf92d-21eb-4868-a669-78714a160611
DTSTART:20190919T210000Z
DTEND:20190919T215000Z
LOCATION:Winchester (1)
SUMMARY:PostgreSQL Extensions:  (Jignesh Shah)
URL:https://postgresconf.io/conferences/SV2019/program/proposals/1158
END:VEVENT
BEGIN:VEVENT
DTSTAMP:20260420T092950Z
UID:998d4bd8-b670-4632-b811-4d7eac9be53d
DTSTART:20190919T210000Z
DTEND:20190919T215000Z
LOCATION:Market
SUMMARY:Wait! What's going on inside my database? Understanding PostgreSQL 
 wait events (Jeremy Schneider)
URL:https://postgresconf.io/conferences/SV2019/program/proposals/1169
END:VEVENT
BEGIN:VEVENT
DTSTAMP:20260420T092950Z
UID:2e80f0c5-fc7e-4fcf-9581-76b1df25618a
DTSTART:20190919T210000Z
DTEND:20190919T215000Z
LOCATION:Winchester (2)
SUMMARY:PostgreSQL as a Big Data Platform (Christopher Travers)
URL:https://postgresconf.io/conferences/SV2019/program/proposals/1154
END:VEVENT
BEGIN:VEVENT
DTSTAMP:20260420T092950Z
UID:631493fe-2944-408d-a2ea-ac23a63bf803
DTSTART:20190919T210000Z
DTEND:20190919T215000Z
LOCATION:Ballroom
SUMMARY:The Architecture of a Geo-DistributedSQL Database (Andrew Woods)
URL:https://postgresconf.io/conferences/SV2019/program/proposals/1333
END:VEVENT
BEGIN:VEVENT
DTSTAMP:20260420T092950Z
UID:9fecc4a4-16bd-4467-b22c-b025e190c74f
DTSTART:20190919T220000Z
DTEND:20190919T225000Z
LOCATION:Winchester (2)
SUMMARY:The Great Escape: On Prem to the Cloud with Postgres (Morgan Howes)
URL:https://postgresconf.io/conferences/SV2019/program/proposals/1172
END:VEVENT
BEGIN:VEVENT
DTSTAMP:20260420T092950Z
UID:426b5d5b-eea0-4728-8dd9-733b43c4bc50
DTSTART:20190919T220000Z
DTEND:20190919T225000Z
LOCATION:Winchester (1)
SUMMARY:PostgreSQL with In-Memory Computing: Faster Transactions and Analyt
 ics (Denis Magda)
URL:https://postgresconf.io/conferences/SV2019/program/proposals/1123
END:VEVENT
BEGIN:VEVENT
DTSTAMP:20260420T092950Z
UID:9c966dc1-e032-4d9b-ab69-faa878c9eb2e
DTSTART:20190919T220000Z
DTEND:20190919T225000Z
LOCATION:Market
SUMMARY: 10 Steps to good PostgreSQL Performance  (Hans-Jürgen Schönig)
URL:https://postgresconf.io/conferences/SV2019/program/proposals/1148
END:VEVENT
BEGIN:VEVENT
DTSTAMP:20260420T092950Z
UID:b43a4617-3147-43a8-8714-332118479ce2
DTSTART:20190919T231000Z
DTEND:20190920T000000Z
LOCATION:Winchester (1)
SUMMARY:Unleashing the the power of PostgresSql with kubernetes on Diamanti
  (arvind gupta)
URL:https://postgresconf.io/conferences/SV2019/program/proposals/1170
END:VEVENT
BEGIN:VEVENT
DTSTAMP:20260420T092950Z
UID:2605d5bc-a92c-462d-b498-08f85faf18af
DTSTART:20190919T231000Z
DTEND:20190920T000000Z
LOCATION:Market
SUMMARY:PostgreSQL V12: Features and migration considerations (Joshua D. Dr
 ake)
URL:https://postgresconf.io/conferences/SV2019/program/proposals/1303
END:VEVENT
BEGIN:VEVENT
DTSTAMP:20260420T092950Z
UID:a46fc60a-5eef-42e3-851f-745053cf3710
DTSTART:20190919T231000Z
DTEND:20190920T000000Z
LOCATION:Winchester (2)
SUMMARY:Advanced compression in TimescaleDB with hybrid row/columnar storag
 e (David Kohn)
URL:https://postgresconf.io/conferences/SV2019/program/proposals/1206
END:VEVENT
BEGIN:VEVENT
DTSTAMP:20260420T092950Z
UID:8406d0d1-b02e-4086-800c-68d5f2f4bf02
DTSTART:20190920T003000Z
DTEND:20190920T023000Z
LOCATION:Market
SUMMARY:Probability Management – A Cure for the Flaw of Averages
URL:https://postgresconf.io/conferences/SV2019/program/proposals/1357
END:VEVENT
BEGIN:VEVENT
DTSTAMP:20260420T092950Z
UID:4aff60fb-df9d-4827-8ca8-83fad6f171f2
DTSTART:20190920T003000Z
DTEND:20190920T023000Z
LOCATION:Patio
SUMMARY:AWS: Networking and Cocktail Hour
URL:https://postgresconf.io/conferences/SV2019/program/proposals/1353
END:VEVENT
BEGIN:VEVENT
DTSTAMP:20260420T092950Z
UID:0c71d059-7346-4c32-91f7-4dd60a2347b1
DTSTART:20190920T160000Z
DTEND:20190920T162000Z
LOCATION:Ballroom
SUMMARY:The Past\, Present and Future of Enterprise IT in a Cloud-Native Wo
 rld (James Watters)
URL:https://postgresconf.io/conferences/SV2019/program/proposals/1359
END:VEVENT
BEGIN:VEVENT
DTSTAMP:20260420T092950Z
UID:bb373877-5764-4938-9ca7-1b862fd897ae
DTSTART:20190920T160000Z
DTEND:20190920T170000Z
LOCATION:Winchester (1)
SUMMARY:Friday Registration
URL:https://postgresconf.io/conferences/SV2019/program/proposals/1351
END:VEVENT
BEGIN:VEVENT
DTSTAMP:20260420T092950Z
UID:6860bc55-e726-40c3-84d0-6539e6ef4ba0
DTSTART:20190920T163000Z
DTEND:20190920T165000Z
LOCATION:Ballroom
SUMMARY:Building Planet-Scale\, Cloud-Native Apps with GraphQL and Distribu
 ted SQL (Tanmai Gopal)
URL:https://postgresconf.io/conferences/SV2019/program/proposals/1342
END:VEVENT
BEGIN:VEVENT
DTSTAMP:20260420T092950Z
UID:cb1ad808-b340-476d-a937-086176f9302e
DTSTART:20190920T170000Z
DTEND:20190920T175000Z
LOCATION:Ballroom
SUMMARY:The Evolution of Distributed Databases at Facebook ( Jeff Rothschil
 d\,  Vishal Kathuria\,  Dhruba  Borthakur\,  Harrison Fisk\, and  Victoria
  Dudin)
URL:https://postgresconf.io/conferences/SV2019/program/proposals/1325
END:VEVENT
BEGIN:VEVENT
DTSTAMP:20260420T092950Z
UID:57238840-9ad2-488a-959c-48934422600e
DTSTART:20190920T170000Z
DTEND:20190920T175000Z
LOCATION:Winchester (2)
SUMMARY:What you learn in the first six months on a high performance Postgr
 es team (Micah Gates)
URL:https://postgresconf.io/conferences/SV2019/program/proposals/1120
END:VEVENT
BEGIN:VEVENT
DTSTAMP:20260420T092950Z
UID:5b41e427-03b3-4fe4-a18a-590abfee03be
DTSTART:20190920T170000Z
DTEND:20190920T175000Z
LOCATION:Market
SUMMARY:Vacuuming through pictures ( Tom Kincaid and Andrew Dunstan)
URL:https://postgresconf.io/conferences/SV2019/program/proposals/1302
END:VEVENT
BEGIN:VEVENT
DTSTAMP:20260420T092950Z
UID:5917ab82-b368-4e5d-a6ad-9dbc90ec8e14
DTSTART:20190920T170000Z
DTEND:20190920T175000Z
LOCATION:Winchester (1)
SUMMARY:Postgresql in Kubernetes  (Armin Nesiren)
URL:https://postgresconf.io/conferences/SV2019/program/proposals/1205
END:VEVENT
BEGIN:VEVENT
DTSTAMP:20260420T092950Z
UID:e456651a-5404-44f5-a7a1-6d2d935e2644
DTSTART:20190920T180000Z
DTEND:20190920T182000Z
LOCATION:Ballroom
SUMMARY:Google Spanner's SQL Evolution ( Campbell Fraser)
URL:https://postgresconf.io/conferences/SV2019/program/proposals/1308
END:VEVENT
BEGIN:VEVENT
DTSTAMP:20260420T092950Z
UID:511123d2-769a-46f8-b0d2-394f43c8d950
DTSTART:20190920T181000Z
DTEND:20190920T190000Z
LOCATION:Winchester (1)
SUMMARY:High Availability and Automatic Failover in PostgreSQL (Avinash Val
 larapu)
URL:https://postgresconf.io/conferences/SV2019/program/proposals/1268
END:VEVENT
BEGIN:VEVENT
DTSTAMP:20260420T092950Z
UID:ef929c53-37fd-4b70-8e6c-35dd45b83a49
DTSTART:20190920T181000Z
DTEND:20190920T190000Z
LOCATION:Market
SUMMARY:AutoVacuum - Tuning and Monitoring (Lloyd Albin)
URL:https://postgresconf.io/conferences/SV2019/program/proposals/1187
END:VEVENT
BEGIN:VEVENT
DTSTAMP:20260420T092950Z
UID:7f8c7bb3-326d-4bd8-acde-ef4ba8154bd2
DTSTART:20190920T181000Z
DTEND:20190920T190000Z
LOCATION:Winchester (2)
SUMMARY:From SQL Server DBA to Postgres DBA (Victoria McCormick)
URL:https://postgresconf.io/conferences/SV2019/program/proposals/1278
END:VEVENT
BEGIN:VEVENT
DTSTAMP:20260420T092950Z
UID:c39ae242-637f-45ee-afa4-bdfed9e1a082
DTSTART:20190920T183000Z
DTEND:20190920T185000Z
LOCATION:Ballroom
SUMMARY:Strongly Consistent Global Indexes for Apache Phoenix (Kadir Ozdemi
 r)
URL:https://postgresconf.io/conferences/SV2019/program/proposals/1347
END:VEVENT
BEGIN:VEVENT
DTSTAMP:20260420T092950Z
UID:246ba191-6a20-46b0-94c8-ebcad2a0eb2a
DTSTART:20190920T190000Z
DTEND:20190920T192000Z
LOCATION:Ballroom
SUMMARY:Benchmarking Distributed SQL Databases ( Robert Winslow)
URL:https://postgresconf.io/conferences/SV2019/program/proposals/1310
END:VEVENT
BEGIN:VEVENT
DTSTAMP:20260420T092950Z
UID:751be824-6967-431d-ba23-d988e5048cbd
DTSTART:20190920T191000Z
DTEND:20190920T200000Z
LOCATION:Winchester (2)
SUMMARY:PostgreSQL Managed Services at Amazon RDS: Best Practices (Jim Mlod
 genski)
URL:https://postgresconf.io/conferences/SV2019/program/proposals/1257
END:VEVENT
BEGIN:VEVENT
DTSTAMP:20260420T092950Z
UID:abb33b94-407e-4721-b2d8-6aa9893ade9b
DTSTART:20190920T191000Z
DTEND:20190920T200000Z
LOCATION:Market
SUMMARY:Effectively securing your PostgreSQL database (Malcolm McLean)
URL:https://postgresconf.io/conferences/SV2019/program/proposals/1245
END:VEVENT
BEGIN:VEVENT
DTSTAMP:20260420T092950Z
UID:db0ae994-76e0-4da5-bc54-5a0ae47d946a
DTSTART:20190920T191000Z
DTEND:20190920T200000Z
LOCATION:Winchester (1)
SUMMARY:Professional PostgreSQL monitoring made easy (Pavlo Golub)
URL:https://postgresconf.io/conferences/SV2019/program/proposals/1168
END:VEVENT
BEGIN:VEVENT
DTSTAMP:20260420T092950Z
UID:ed5f9048-7075-4e10-b35f-d5ff4345649d
DTSTART:20190920T193000Z
DTEND:20190920T195000Z
LOCATION:Ballroom
SUMMARY:Distributed MySQL Architectures\, Past\, Present and Future ( Peter
  Zaitsev)
URL:https://postgresconf.io/conferences/SV2019/program/proposals/1309
END:VEVENT
BEGIN:VEVENT
DTSTAMP:20260420T092950Z
UID:6508a8df-f329-4122-859a-9d55c0dd5db0
DTSTART:20190920T200000Z
DTEND:20190920T210000Z
LOCATION:Patio
SUMMARY:Friday Lunch
URL:https://postgresconf.io/conferences/SV2019/program/proposals/1356
END:VEVENT
BEGIN:VEVENT
DTSTAMP:20260420T092950Z
UID:987d508d-794d-45ac-95f3-f3031bc5bf82
DTSTART:20190920T210000Z
DTEND:20190920T215000Z
LOCATION:Winchester (2)
SUMMARY:How to Reduce Your Time-Consuming PostgreSQL Operational Tasks by 9
 0% with ScaleGrid (dharshan rangegowda)
URL:https://postgresconf.io/conferences/SV2019/program/proposals/1254
END:VEVENT
BEGIN:VEVENT
DTSTAMP:20260420T092950Z
UID:ebc93d69-0399-4f01-9dc8-9b114d248a5b
DTSTART:20190920T210000Z
DTEND:20190920T215000Z
LOCATION:Market
SUMMARY:Using SSL with PostgreSQL and pgbouncer (Andrew Dunstan)
URL:https://postgresconf.io/conferences/SV2019/program/proposals/1285
END:VEVENT
BEGIN:VEVENT
DTSTAMP:20260420T092950Z
UID:944490fd-0b08-4868-bf0d-4d6405f81933
DTSTART:20190920T210000Z
DTEND:20190920T215000Z
LOCATION:Winchester (1)
SUMMARY:Mostly mistaken and ignored PostgreSQL parameters while optimizing 
 a PostgreSQL database (Avinash Vallarapu)
URL:https://postgresconf.io/conferences/SV2019/program/proposals/1262
END:VEVENT
BEGIN:VEVENT
DTSTAMP:20260420T092950Z
UID:abafb91f-b0a2-482c-961c-332be37616b9
DTSTART:20190920T210000Z
DTEND:20190920T212000Z
LOCATION:Ballroom
SUMMARY:Building Microservices in a Cloud-Native World with Distributed SQL
  ( Ryan Scheidter)
URL:https://postgresconf.io/conferences/SV2019/program/proposals/1317
END:VEVENT
BEGIN:VEVENT
DTSTAMP:20260420T092950Z
UID:7445b590-e815-4b23-81ec-aa682cff5d63
DTSTART:20190920T213000Z
DTEND:20190920T215000Z
LOCATION:Ballroom
SUMMARY:How-To: Zero Downtime Migrations from Oracle to a Cloud-Native Post
 greSQL (Rajkumar Sen)
URL:https://postgresconf.io/conferences/SV2019/program/proposals/1312
END:VEVENT
BEGIN:VEVENT
DTSTAMP:20260420T092950Z
UID:573b5a37-a989-4f03-87bd-5efbe6d2988e
DTSTART:20190920T220000Z
DTEND:20190920T222000Z
LOCATION:Winchester (2)
SUMMARY:Implementing Temporal Tables in PostgreSQL (Alexey Solovtsov)
URL:https://postgresconf.io/conferences/SV2019/program/proposals/1180
END:VEVENT
BEGIN:VEVENT
DTSTAMP:20260420T092950Z
UID:de2dc719-c53c-458f-9ea3-d90c5bfd8ad3
DTSTART:20190920T220000Z
DTEND:20190920T222000Z
LOCATION:Ballroom
SUMMARY:Spring Forward to a Cloud-Native PostgreSQL (Nikhil Chandrappa and 
 Guillermo Tantachuco)
URL:https://postgresconf.io/conferences/SV2019/program/proposals/1311
END:VEVENT
BEGIN:VEVENT
DTSTAMP:20260420T092950Z
UID:0efce199-c731-40f1-90b7-19ea0c47775f
DTSTART:20190920T220000Z
DTEND:20190920T225000Z
LOCATION:Market
SUMMARY: Implementation and Coding Issues with building tiered architecture
 s and microservices (Daniil Treshchin)
URL:https://postgresconf.io/conferences/SV2019/program/proposals/1329
END:VEVENT
BEGIN:VEVENT
DTSTAMP:20260420T092950Z
UID:0f31487f-bb82-4503-9b0f-6c9b154d1fc8
DTSTART:20190920T220000Z
DTEND:20190920T225000Z
LOCATION:Winchester (1)
SUMMARY:Eeny\, Meeny\, Miny\, Moe (Richard Yen)
URL:https://postgresconf.io/conferences/SV2019/program/proposals/1184
END:VEVENT
BEGIN:VEVENT
DTSTAMP:20260420T092950Z
UID:454a50d2-a8db-4c9b-89fe-f8e63ae9aa94
DTSTART:20190920T223000Z
DTEND:20190920T225000Z
LOCATION:Ballroom
SUMMARY:An Introduction to Amazon Aurora (Jim Mlodgenski)
URL:https://postgresconf.io/conferences/SV2019/program/proposals/1320
END:VEVENT
BEGIN:VEVENT
DTSTAMP:20260420T092951Z
UID:c7478797-cb75-4a2d-ae13-213f9e8a2018
DTSTART:20190920T230000Z
DTEND:20190920T235000Z
LOCATION:Market
SUMMARY:Taming Performance Variability in PostgreSQL (Sangwook Kim)
URL:https://postgresconf.io/conferences/SV2019/program/proposals/1286
END:VEVENT
BEGIN:VEVENT
DTSTAMP:20260420T092951Z
UID:4014d8c6-882c-40d3-a38a-5b4ad8369cb9
DTSTART:20190920T230000Z
DTEND:20190920T232000Z
LOCATION:Ballroom
SUMMARY:Scaling Microservices and Distributed Databases in a Multi-Cloud Wo
 rld ( Ram Ravichandran)
URL:https://postgresconf.io/conferences/SV2019/program/proposals/1328
END:VEVENT
BEGIN:VEVENT
DTSTAMP:20260420T092951Z
UID:05c67494-6f03-4b91-9227-d6909dd40e9b
DTSTART:20190920T233000Z
DTEND:20190920T235000Z
LOCATION:Ballroom
SUMMARY:Powering Millions of Smart Homes with Near Real-Time and Cloud-Agno
 stic Distributed SQL (Murugesan Guruswamy)
URL:https://postgresconf.io/conferences/SV2019/program/proposals/1343
END:VEVENT
END:VCALENDAR
