BEGIN:VCALENDAR
VERSION:2.0
PRODID:Silicon Valley 2022
CALSCALE:GREGORIAN
BEGIN:VEVENT
DTSTAMP:20260420T074414Z
UID:b90dccf1-0123-428d-9a97-d4dbdf731ae8
DTSTART:20220407T164000Z
DTEND:20220407T170000Z
LOCATION:Ballroom
SUMMARY:Digital Rights and Privacy: Concerns for the 21st century ( Andres 
 Arrieta)
URL:https://postgresconf.io/conferences/SV2022/program/proposals/1955
END:VEVENT
BEGIN:VEVENT
DTSTAMP:20260420T074414Z
UID:61d240fe-b473-45ad-9bd6-7fce9e8f74b3
DTSTART:20220407T171000Z
DTEND:20220407T173000Z
LOCATION:Ballroom
SUMMARY:Managing growth and career development for software companies (Chad
  Berkley)
URL:https://postgresconf.io/conferences/SV2022/program/proposals/1953
END:VEVENT
BEGIN:VEVENT
DTSTAMP:20260420T074414Z
UID:950d4475-1130-4003-99db-2f8e0dbd1bf7
DTSTART:20220407T174000Z
DTEND:20220407T180000Z
LOCATION:Ballroom
SUMMARY:Postgres: Through the lens of Cloud Platform (Nitish Korla)
URL:https://postgresconf.io/conferences/SV2022/program/proposals/1930
END:VEVENT
BEGIN:VEVENT
DTSTAMP:20260420T074414Z
UID:af8e67b6-e5e4-455a-87d5-3b6ec568bfe5
DTSTART:20220407T181000Z
DTEND:20220407T183000Z
LOCATION:Ballroom
SUMMARY:PostgreSQL and Managed Hosting Services (Kirk Roybal)
URL:https://postgresconf.io/conferences/SV2022/program/proposals/1954
END:VEVENT
BEGIN:VEVENT
DTSTAMP:20260420T074414Z
UID:43419565-7efe-45dd-836f-9f46abd3cf88
DTSTART:20220407T184000Z
DTEND:20220407T190000Z
LOCATION:Ballroom
SUMMARY:The Biography of a Modern Cloud Native Application (Alexandra Elchi
 noff and Karthik Ranganathan)
URL:https://postgresconf.io/conferences/SV2022/program/proposals/1964
END:VEVENT
BEGIN:VEVENT
DTSTAMP:20260420T074414Z
UID:99c45ea5-99b4-42d7-9839-55ed0412ab27
DTSTART:20220407T190000Z
DTEND:20220407T200000Z
LOCATION:Ballroom
SUMMARY:Thursday Lunch
URL:https://postgresconf.io/conferences/SV2022/program/proposals/1959
END:VEVENT
BEGIN:VEVENT
DTSTAMP:20260420T074414Z
UID:4f585358-ff16-4171-9055-08cf9b942465
DTSTART:20220407T200000Z
DTEND:20220407T202000Z
LOCATION:Ballroom
SUMMARY:Lessons Learned: Moving a PostgreSQL Application From On-Premise to
  a Cloud Native Architecture (Alexandra Elchinoff and Denis Magda)
URL:https://postgresconf.io/conferences/SV2022/program/proposals/1966
END:VEVENT
BEGIN:VEVENT
DTSTAMP:20260420T074415Z
UID:77278f58-e8cc-4fb2-91aa-396b70d2ba33
DTSTART:20220407T200000Z
DTEND:20220407T205000Z
LOCATION:Santa Clara
SUMMARY:Past\, Present\, and Future of Logical Replication (Amit Kapila)
URL:https://postgresconf.io/conferences/SV2022/program/proposals/1940
END:VEVENT
BEGIN:VEVENT
DTSTAMP:20260420T074415Z
UID:b987a18a-671d-4320-80a6-98afa99691ca
DTSTART:20220407T200000Z
DTEND:20220407T205000Z
LOCATION:Winchester
SUMMARY:TDE: State of Encryption in Postgres (Mehboob Alam and Everett Berr
 y)
URL:https://postgresconf.io/conferences/SV2022/program/proposals/1920
END:VEVENT
BEGIN:VEVENT
DTSTAMP:20260420T074415Z
UID:2971ff84-01fe-4816-9d56-4c599a149189
DTSTART:20220407T203000Z
DTEND:20220407T205000Z
LOCATION:Ballroom
SUMMARY:Driving 150K warehouses on TPC-C (Alexandra Elchinoff and Mihnea Ia
 ncu)
URL:https://postgresconf.io/conferences/SV2022/program/proposals/1967
END:VEVENT
BEGIN:VEVENT
DTSTAMP:20260420T074415Z
UID:c19ad57d-4c83-46c1-a3ed-f2f1f46b6efe
DTSTART:20220407T210000Z
DTEND:20220407T215000Z
LOCATION:Santa Clara
SUMMARY:When it all GOes right (Pavlo Golub)
URL:https://postgresconf.io/conferences/SV2022/program/proposals/1817
END:VEVENT
BEGIN:VEVENT
DTSTAMP:20260420T074415Z
UID:81ab61ad-6acd-41a9-850a-5947166ef0e5
DTSTART:20220407T210000Z
DTEND:20220407T215000Z
LOCATION:Ballroom
SUMMARY:Demo Hour (Alexandra Elchinoff and Amit Chauhan)
URL:https://postgresconf.io/conferences/SV2022/program/proposals/1968
END:VEVENT
BEGIN:VEVENT
DTSTAMP:20260420T074415Z
UID:efe5cfe6-169b-47c9-8e91-6cf1ea94a46b
DTSTART:20220407T210000Z
DTEND:20220407T212000Z
LOCATION:Winchester
SUMMARY:Scaling Beyond PgBouncer & Pgpool-II:  Advanced Traffic Management 
 (Lee Roland)
URL:https://postgresconf.io/conferences/SV2022/program/proposals/1814
END:VEVENT
BEGIN:VEVENT
DTSTAMP:20260420T074415Z
UID:5e8fa561-c707-45fa-a53d-face0b0177cb
DTSTART:20220407T213000Z
DTEND:20220407T222000Z
LOCATION:Winchester
SUMMARY:Are databases on cloud DBaaS platforms really faster and cheaper as
  they are claimed ? (Avinash Vallarapu)
URL:https://postgresconf.io/conferences/SV2022/program/proposals/1927
END:VEVENT
BEGIN:VEVENT
DTSTAMP:20260420T074415Z
UID:2f358c98-efeb-44be-991d-3767ad7bb634
DTSTART:20220407T220000Z
DTEND:20220407T222000Z
LOCATION:Santa Clara
SUMMARY:Scaling PostgreSQL to New Heights (Ivan Novick and Jacque Istok)
URL:https://postgresconf.io/conferences/SV2022/program/proposals/1963
END:VEVENT
BEGIN:VEVENT
DTSTAMP:20260420T074415Z
UID:77e85f1a-6bde-4e64-a350-50472e5346b6
DTSTART:20220407T220000Z
DTEND:20220407T222000Z
LOCATION:Ballroom
SUMMARY:Analyzing PostgreSQL Compatibility: Amazon Aurora\, Spanner\, Yugab
 yteDB and CockroachDB (Alexandra Elchinoff and Yogesh Mahajan)
URL:https://postgresconf.io/conferences/SV2022/program/proposals/1965
END:VEVENT
BEGIN:VEVENT
DTSTAMP:20260420T074415Z
UID:3ee37696-7e10-45ae-983a-0f1321e9abdc
DTSTART:20220407T224000Z
DTEND:20220407T230000Z
LOCATION:Ballroom
SUMMARY:The Scalable\, Resilient Data Layer at the Heart of Modern Retail  
 (Alexandra Elchinoff)
URL:https://postgresconf.io/conferences/SV2022/program/proposals/1969
END:VEVENT
BEGIN:VEVENT
DTSTAMP:20260420T074415Z
UID:369363f6-373b-40ca-9ca2-a1b4cff12232
DTSTART:20220407T224000Z
DTEND:20220407T233000Z
LOCATION:Santa Clara
SUMMARY:Protect Purdue: Data Driven University Operations in a Pandemic (Ia
 n Pytlarz)
URL:https://postgresconf.io/conferences/SV2022/program/proposals/1867
END:VEVENT
BEGIN:VEVENT
DTSTAMP:20260420T074415Z
UID:932ad13b-d07b-4d0c-a236-3f8d75527be1
DTSTART:20220407T224000Z
DTEND:20220407T233000Z
LOCATION:Winchester
SUMMARY:Professional PostgreSQL scheduling made easy (Pavlo Golub)
URL:https://postgresconf.io/conferences/SV2022/program/proposals/1813
END:VEVENT
BEGIN:VEVENT
DTSTAMP:20260420T074415Z
UID:ec310117-9172-421e-9b4f-4e5e2c44783e
DTSTART:20220407T231000Z
DTEND:20220407T233000Z
LOCATION:Ballroom
SUMMARY:Fireside chat: Building Postgres w/Bruce Momjian & Greg Kemnitz (Br
 uce Momjian)
URL:https://postgresconf.io/conferences/SV2022/program/proposals/1947
END:VEVENT
BEGIN:VEVENT
DTSTAMP:20260420T074415Z
UID:e5c2fb87-fafa-4c72-9b45-589b7ba835ee
DTSTART:20220407T234000Z
DTEND:20220408T000000Z
LOCATION:Ballroom
SUMMARY:IvorySQL (GRANT ZHOU)
URL:https://postgresconf.io/conferences/SV2022/program/proposals/1957
END:VEVENT
BEGIN:VEVENT
DTSTAMP:20260420T074415Z
UID:370bf6a9-edc2-4b8c-95fd-c026aee28cf1
DTSTART:20220407T234000Z
DTEND:20220408T000000Z
LOCATION:Winchester
SUMMARY:Do you vacuum everyday ? (Hannu Krosing)
URL:https://postgresconf.io/conferences/SV2022/program/proposals/1973
END:VEVENT
BEGIN:VEVENT
DTSTAMP:20260420T074415Z
UID:f90647f7-9ebf-444b-87ee-c4e721534423
DTSTART:20220407T234000Z
DTEND:20220408T000000Z
LOCATION:Santa Clara
SUMMARY:P_______SQL: Engine behind a de-identified medical data platform (W
 ojciech Koszek)
URL:https://postgresconf.io/conferences/SV2022/program/proposals/1924
END:VEVENT
BEGIN:VEVENT
DTSTAMP:20260420T074415Z
UID:dc58e537-aae3-4cf7-935d-9abd1165f61e
DTSTART:20220408T000000Z
DTEND:20220408T002000Z
LOCATION:Winchester
SUMMARY:Google Journey: Bringing a PostgreSQL Interface to Cloud Spanner (B
 en Vandiver)
URL:https://postgresconf.io/conferences/SV2022/program/proposals/1974
END:VEVENT
BEGIN:VEVENT
DTSTAMP:20260420T074415Z
UID:2f18c659-4df7-4e7c-b898-e99b7d354692
DTSTART:20220408T160000Z
DTEND:20220408T162000Z
LOCATION:Winchester
SUMMARY:Simplifying System Architecture by Rethinking the Role of the Datab
 ase (David Benoit)
URL:https://postgresconf.io/conferences/SV2022/program/proposals/1900
END:VEVENT
BEGIN:VEVENT
DTSTAMP:20260420T074415Z
UID:013b19d0-50d0-44e3-83bb-bcd9ce732e6e
DTSTART:20220408T160000Z
DTEND:20220408T165000Z
LOCATION:Santa Clara
SUMMARY:Solving PostgreSQL wicked problems (Alexander Korotkov)
URL:https://postgresconf.io/conferences/SV2022/program/proposals/1917
END:VEVENT
BEGIN:VEVENT
DTSTAMP:20260420T074415Z
UID:382ffe63-dac9-4d70-a874-ab31ab99b539
DTSTART:20220408T160000Z
DTEND:20220408T165000Z
LOCATION:Ballroom
SUMMARY:Managing extensions in RDS/Aurora (Chirag Dave)
URL:https://postgresconf.io/conferences/SV2022/program/proposals/1942
END:VEVENT
BEGIN:VEVENT
DTSTAMP:20260420T074415Z
UID:8e231b59-ce65-46e2-a402-1b0d3da20e31
DTSTART:20220408T163000Z
DTEND:20220408T165000Z
LOCATION:Winchester
SUMMARY:Introducing SPQR: Stateless Postgres Query Router (Andrey Borodin)
URL:https://postgresconf.io/conferences/SV2022/program/proposals/1933
END:VEVENT
BEGIN:VEVENT
DTSTAMP:20260420T074415Z
UID:3d6d41a9-862e-404c-a306-090026bd995e
DTSTART:20220408T170000Z
DTEND:20220408T175000Z
LOCATION:Ballroom
SUMMARY:Using aws_ml/aws_comprehend in Aurora PostgreSQL (Sundar Raghavan a
 nd Sukhpreet Bedi)
URL:https://postgresconf.io/conferences/SV2022/program/proposals/1941
END:VEVENT
BEGIN:VEVENT
DTSTAMP:20260420T074415Z
UID:76739f5a-998c-421e-9971-143828aaab10
DTSTART:20220408T170000Z
DTEND:20220408T175000Z
LOCATION:Santa Clara
SUMMARY:PL/Java - Extend the power of your database (Charly Batista)
URL:https://postgresconf.io/conferences/SV2022/program/proposals/1822
END:VEVENT
BEGIN:VEVENT
DTSTAMP:20260420T074415Z
UID:f46ad136-b885-44fc-b6d7-13556e599d6c
DTSTART:20220408T170000Z
DTEND:20220408T175000Z
LOCATION:Winchester
SUMMARY:ADVANCED INT->BIGINT CONVERSIONS (Robert Treat)
URL:https://postgresconf.io/conferences/SV2022/program/proposals/1847
END:VEVENT
BEGIN:VEVENT
DTSTAMP:20260420T074415Z
UID:3832c4f7-edbb-4d1a-85d2-42bea9d8a85d
DTSTART:20220408T175000Z
DTEND:20220408T181000Z
LOCATION:Ballroom
SUMMARY:Friday Morning Break
URL:https://postgresconf.io/conferences/SV2022/program/proposals/1962
END:VEVENT
BEGIN:VEVENT
DTSTAMP:20260420T074415Z
UID:7769f169-2c66-41b5-a3b5-b1d8b7c88ece
DTSTART:20220408T181000Z
DTEND:20220408T190000Z
LOCATION:Santa Clara
SUMMARY:EdgeDB - A graph-relational database (Yury Selivanov)
URL:https://postgresconf.io/conferences/SV2022/program/proposals/1970
END:VEVENT
BEGIN:VEVENT
DTSTAMP:20260420T074415Z
UID:0b472b5a-b449-4ef9-8fca-8b94f0a358e8
DTSTART:20220408T181000Z
DTEND:20220408T190000Z
LOCATION:Winchester
SUMMARY:Future Postgres Challenges (Bruce Momjian)
URL:https://postgresconf.io/conferences/SV2022/program/proposals/1895
END:VEVENT
BEGIN:VEVENT
DTSTAMP:20260420T074415Z
UID:e8bc954d-4d4b-4ed6-96eb-ac65ec142d63
DTSTART:20220408T181000Z
DTEND:20220408T190000Z
LOCATION:Ballroom
SUMMARY:5 Tips for Building Scalable Application with ORM and Amazon RDS Po
 stgreSQL (Wanda  He)
URL:https://postgresconf.io/conferences/SV2022/program/proposals/1932
END:VEVENT
BEGIN:VEVENT
DTSTAMP:20260420T074415Z
UID:d3d6336d-f944-484e-8a21-59fbc4cfe321
DTSTART:20220408T190000Z
DTEND:20220408T200000Z
LOCATION:Ballroom
SUMMARY:Friday Lunch
URL:https://postgresconf.io/conferences/SV2022/program/proposals/1960
END:VEVENT
BEGIN:VEVENT
DTSTAMP:20260420T074415Z
UID:82272b02-ad8e-4107-90c4-54195cd4209f
DTSTART:20220408T201000Z
DTEND:20220408T210000Z
LOCATION:Santa Clara
SUMMARY:Non-Relational Postgres (Bruce Momjian)
URL:https://postgresconf.io/conferences/SV2022/program/proposals/1883
END:VEVENT
BEGIN:VEVENT
DTSTAMP:20260420T074415Z
UID:1bb19aa7-aadd-45a3-8c93-19fef256f503
DTSTART:20220408T201000Z
DTEND:20220408T210000Z
LOCATION:Winchester
SUMMARY:Tune PostgreSQL for Read/Write Scalability. (Dr. Ibrar Ahmed)
URL:https://postgresconf.io/conferences/SV2022/program/proposals/1868
END:VEVENT
BEGIN:VEVENT
DTSTAMP:20260420T074415Z
UID:b701a13a-e0f6-44c5-a9bc-234da91b2f21
DTSTART:20220408T201000Z
DTEND:20220408T210000Z
LOCATION:Ballroom
SUMMARY:Using Global database in Amazon Aurora PostgreSQL (Shayon Sanyal an
 d Sukhpreet Bedi)
URL:https://postgresconf.io/conferences/SV2022/program/proposals/1939
END:VEVENT
BEGIN:VEVENT
DTSTAMP:20260420T074415Z
UID:5e32d596-a0e5-4cfd-9b75-a09a2d6f7110
DTSTART:20220408T211000Z
DTEND:20220408T220000Z
LOCATION:Santa Clara
SUMMARY:How to navigate the “interval” minefield (Bryn Llewellyn)
URL:https://postgresconf.io/conferences/SV2022/program/proposals/1906
END:VEVENT
BEGIN:VEVENT
DTSTAMP:20260420T074415Z
UID:008eda33-3ac2-487c-a4b4-bda1bb342ad0
DTSTART:20220408T211000Z
DTEND:20220408T220000Z
LOCATION:Ballroom
SUMMARY:Amazon Babelfish for Aurora (chandra pathivada)
URL:https://postgresconf.io/conferences/SV2022/program/proposals/1931
END:VEVENT
BEGIN:VEVENT
DTSTAMP:20260420T074415Z
UID:e6b0a0f0-f86b-4219-bf94-2e88bc237f3b
DTSTART:20220408T211000Z
DTEND:20220408T220000Z
LOCATION:Winchester
SUMMARY:A Deep Dive into PostgreSQL Indexing (Dr. Ibrar Ahmed)
URL:https://postgresconf.io/conferences/SV2022/program/proposals/1826
END:VEVENT
BEGIN:VEVENT
DTSTAMP:20260420T074415Z
UID:6f60204b-410e-4a9c-91e6-b5ff6fbe1b10
DTSTART:20220408T222000Z
DTEND:20220408T224000Z
LOCATION:Winchester
SUMMARY:POSTGRESQL REPLICATION CONFLICTS: AVOIDING PITFALLS (Hamid Akhtar)
URL:https://postgresconf.io/conferences/SV2022/program/proposals/1862
END:VEVENT
BEGIN:VEVENT
DTSTAMP:20260420T074415Z
UID:7992a230-af69-47f0-a9e5-7437d414d5e1
DTSTART:20220408T222000Z
DTEND:20220408T231000Z
LOCATION:Ballroom
SUMMARY:Developing Event Driven Serverless applications using RDS/Aurora Po
 stgreSQL (Krishna Sarabu and Sundar Raghavan)
URL:https://postgresconf.io/conferences/SV2022/program/proposals/1938
END:VEVENT
BEGIN:VEVENT
DTSTAMP:20260420T074415Z
UID:f334d21f-a049-4e16-bec7-e0a2db7c507b
DTSTART:20220408T222000Z
DTEND:20220408T224000Z
LOCATION:Santa Clara
SUMMARY:How Users Will Dictate and Change the Next 20 Years of PostgreSQL (
 Matt Yonkovit)
URL:https://postgresconf.io/conferences/SV2022/program/proposals/1899
END:VEVENT
BEGIN:VEVENT
DTSTAMP:20260420T074415Z
UID:67fe1e00-8ea5-41d3-aa43-95e64c46b62e
DTSTART:20220408T225000Z
DTEND:20220408T231000Z
LOCATION:Santa Clara
SUMMARY:How to measure query performance (Alvaro Hernandez)
URL:https://postgresconf.io/conferences/SV2022/program/proposals/1972
END:VEVENT
BEGIN:VEVENT
DTSTAMP:20260420T074415Z
UID:cff9150e-51a2-4860-b138-fb15baaca183
DTSTART:20220408T225000Z
DTEND:20220408T231000Z
LOCATION:Winchester
SUMMARY:Beyond Off-the-Shelf Consensus (Rebecca Bilbro)
URL:https://postgresconf.io/conferences/SV2022/program/proposals/1851
END:VEVENT
BEGIN:VEVENT
DTSTAMP:20260420T074415Z
UID:82f96c35-0336-4adc-a0c2-6d2e5e8b9c45
DTSTART:20220408T232000Z
DTEND:20220409T001000Z
LOCATION:Winchester
SUMMARY:Babelfish for PostgreSQL (Jim Nasby\, Debra Cerda\, and Gopinath Pa
 i)
URL:https://postgresconf.io/conferences/SV2022/program/proposals/1958
END:VEVENT
BEGIN:VEVENT
DTSTAMP:20260420T074415Z
UID:d2eae0d9-9456-4e8b-9159-91ce0771464d
DTSTART:20220408T232000Z
DTEND:20220409T001000Z
LOCATION:Ballroom
SUMMARY:Connection scalability for Enterprise Applications (Scott Mead)
URL:https://postgresconf.io/conferences/SV2022/program/proposals/1937
END:VEVENT
BEGIN:VEVENT
DTSTAMP:20260420T074415Z
UID:0c9a85a2-b219-4cb7-bd2c-68f31caaf530
DTSTART:20220408T232000Z
DTEND:20220409T001000Z
LOCATION:Santa Clara
SUMMARY:Common DB Schema Change Mistakes (Nikolay Samokhvalov)
URL:https://postgresconf.io/conferences/SV2022/program/proposals/1910
END:VEVENT
BEGIN:VEVENT
DTSTAMP:20260420T074415Z
UID:33f94e6a-5e87-4f96-89dc-fced14ad2492
DTSTART:20220409T002000Z
DTEND:20220409T004000Z
LOCATION:Ballroom
SUMMARY:Amazon Aurora Global Database Design Patterns for HA and DR (Shayon
  Sanyal)
URL:https://postgresconf.io/conferences/SV2022/program/proposals/1936
END:VEVENT
END:VCALENDAR
