BEGIN:VCALENDAR
VERSION:2.0
PRODID:Silicon Valley 2023
CALSCALE:GREGORIAN
BEGIN:VEVENT
DTSTAMP:20260420T055633Z
UID:d09f7031-4f42-4fb6-af94-dde6c8841679
DTSTART:20230420T164000Z
DTEND:20230420T170000Z
LOCATION:Almaden Ballroom\, Main Level
SUMMARY:AlloyDB: PostgreSQL in a way that only Google can deliver it
URL:https://postgresconf.io/conferences/SV2023/program/proposals/2086
END:VEVENT
BEGIN:VEVENT
DTSTAMP:20260420T055633Z
UID:e8d3d63f-8bc7-4145-bbfd-cdf94664e30a
DTSTART:20230420T171000Z
DTEND:20230420T173000Z
LOCATION:Almaden Ballroom\, Main Level
SUMMARY:The Growing Postgres Ecosystem
URL:https://postgresconf.io/conferences/SV2023/program/proposals/2076
END:VEVENT
BEGIN:VEVENT
DTSTAMP:20260420T055633Z
UID:1b57d81b-2250-40eb-ae3b-e5bea4d0d8f2
DTSTART:20230420T174000Z
DTEND:20230420T180000Z
LOCATION:Almaden Ballroom\, Main Level
SUMMARY:Bringing developers and Postgres closer together
URL:https://postgresconf.io/conferences/SV2023/program/proposals/2079
END:VEVENT
BEGIN:VEVENT
DTSTAMP:20260420T055633Z
UID:27d0cebf-a068-43a1-be09-b5aaaaca0440
DTSTART:20230420T181000Z
DTEND:20230420T183000Z
LOCATION:Almaden Ballroom\, Main Level
SUMMARY:How to Escape the Cult of Expertise
URL:https://postgresconf.io/conferences/SV2023/program/proposals/2021
END:VEVENT
BEGIN:VEVENT
DTSTAMP:20260420T055633Z
UID:dea7e79a-5195-4f47-acd6-d56cb4cfc72c
DTSTART:20230420T184000Z
DTEND:20230420T190000Z
LOCATION:Almaden Ballroom\, Main Level
SUMMARY:Embrace\, Extend\, Evolve: Making PostgreSQL Work for Cloud Native 
 Applications (Karthik Ranganathan)
URL:https://postgresconf.io/conferences/SV2023/program/proposals/2084
END:VEVENT
BEGIN:VEVENT
DTSTAMP:20260420T055633Z
UID:67025df5-55af-4380-9b13-a4c423ad92e0
DTSTART:20230420T190000Z
DTEND:20230420T200000Z
LOCATION:Almaden Ballroom\, Main Level
SUMMARY:Thursday Lunch
URL:https://postgresconf.io/conferences/SV2023/program/proposals/2081
END:VEVENT
BEGIN:VEVENT
DTSTAMP:20260420T055634Z
UID:f8c31629-64d3-41ad-8a06-249dfa3e6600
DTSTART:20230420T200000Z
DTEND:20230420T205000Z
LOCATION:Almaden Ballroom\, Main Level
SUMMARY:Evolution of Transactional Databases ( Kannan Muthukkaruppan)
URL:https://postgresconf.io/conferences/SV2023/program/proposals/2072
END:VEVENT
BEGIN:VEVENT
DTSTAMP:20260420T055634Z
UID:1533e161-516a-4b32-818e-87d8b629b637
DTSTART:20230420T200000Z
DTEND:20230420T205000Z
LOCATION:Santa Clara\, Lvl C
SUMMARY:Understanding Transaction Isolation and Serializability (Brian Hodg
 e)
URL:https://postgresconf.io/conferences/SV2023/program/proposals/2052
END:VEVENT
BEGIN:VEVENT
DTSTAMP:20260420T055634Z
UID:ad37e277-7f74-4500-91a9-ac475ca5fe48
DTSTART:20230420T200000Z
DTEND:20230420T202000Z
LOCATION:Winchester\, Main Level
SUMMARY: PostgreSQL and NLP: How to build an ChatGPT application in minutes
  (Jorge Torres)
URL:https://postgresconf.io/conferences/SV2023/program/proposals/2054
END:VEVENT
BEGIN:VEVENT
DTSTAMP:20260420T055634Z
UID:412ca483-f870-49f1-827a-78992a57c141
DTSTART:20230420T200000Z
DTEND:20230420T205000Z
LOCATION:San Pedro\, Lvl C
SUMMARY:3 Techniques to Improve Postgres Response Times without Code Change
 s (Lee Roland)
URL:https://postgresconf.io/conferences/SV2023/program/proposals/1991
END:VEVENT
BEGIN:VEVENT
DTSTAMP:20260420T055634Z
UID:4a19cb6a-b914-4707-bcdb-958712c77869
DTSTART:20230420T203000Z
DTEND:20230420T205000Z
LOCATION:Winchester\, Main Level
SUMMARY:Data Architecture and Modeling with DataWharf
URL:https://postgresconf.io/conferences/SV2023/program/proposals/2040
END:VEVENT
BEGIN:VEVENT
DTSTAMP:20260420T055634Z
UID:46605705-05f7-41d1-b53e-82b1e5163834
DTSTART:20230420T211000Z
DTEND:20230420T220000Z
LOCATION:Almaden Ballroom\, Main Level
SUMMARY:Weathering the Cloud Storm: PostgreSQL High Availability Options (D
 enis Magda)
URL:https://postgresconf.io/conferences/SV2023/program/proposals/2073
END:VEVENT
BEGIN:VEVENT
DTSTAMP:20260420T055634Z
UID:707d6bda-1d6c-45d3-b7e5-bf68f476dc65
DTSTART:20230420T211000Z
DTEND:20230420T220000Z
LOCATION:San Pedro\, Lvl C
SUMMARY:Postgres Extension Lifecycle (Adam Hendel)
URL:https://postgresconf.io/conferences/SV2023/program/proposals/2078
END:VEVENT
BEGIN:VEVENT
DTSTAMP:20260420T055634Z
UID:5d58450d-cc3b-494c-8293-e45215a513d0
DTSTART:20230420T211000Z
DTEND:20230420T220000Z
LOCATION:Winchester\, Main Level
SUMMARY:Taking anxiety out of PostgreSQL upgrades in Amazon RDS (Jignesh Sh
 ah)
URL:https://postgresconf.io/conferences/SV2023/program/proposals/2016
END:VEVENT
BEGIN:VEVENT
DTSTAMP:20260420T055634Z
UID:8473a05d-e251-4e7e-b589-eb358542d997
DTSTART:20230420T211000Z
DTEND:20230420T220000Z
LOCATION:Santa Clara\, Lvl C
SUMMARY:Migrating Mainframe/VSAM applications to Linux/Postgres (Michael Po
 tter)
URL:https://postgresconf.io/conferences/SV2023/program/proposals/2006
END:VEVENT
BEGIN:VEVENT
DTSTAMP:20260420T055634Z
UID:09feea48-5b6c-4ed4-8277-4c73e28fb430
DTSTART:20230420T222000Z
DTEND:20230420T224000Z
LOCATION:Winchester\, Main Level
SUMMARY:Torturing Postgres: autonomous testing for distributed architecture
 s ( Mehboob Alam)
URL:https://postgresconf.io/conferences/SV2023/program/proposals/2026
END:VEVENT
BEGIN:VEVENT
DTSTAMP:20260420T055634Z
UID:566f4477-7ed5-4d25-9abc-4fccf2dc9fcc
DTSTART:20230420T222000Z
DTEND:20230420T231000Z
LOCATION:Santa Clara\, Lvl C
SUMMARY:Simplifying Data Replication with PostgreSQL (Chris Sean)
URL:https://postgresconf.io/conferences/SV2023/program/proposals/2048
END:VEVENT
BEGIN:VEVENT
DTSTAMP:20260420T055634Z
UID:06e48556-5132-430e-92d4-b9e23d734d28
DTSTART:20230420T222000Z
DTEND:20230420T224000Z
LOCATION:San Pedro\, Lvl C
SUMMARY:Open Source in the Age of Cloud and Microservices (Michael Meskes)
URL:https://postgresconf.io/conferences/SV2023/program/proposals/2008
END:VEVENT
BEGIN:VEVENT
DTSTAMP:20260420T055634Z
UID:ffa60bb3-7f07-47f6-8541-8363af8419d9
DTSTART:20230420T222000Z
DTEND:20230420T224000Z
LOCATION:Almaden Ballroom\, Main Level
SUMMARY:Future of Distributed SQL: 3 Things I’m Most Excited About  (Kart
 hik Ranganathan)
URL:https://postgresconf.io/conferences/SV2023/program/proposals/2074
END:VEVENT
BEGIN:VEVENT
DTSTAMP:20260420T055634Z
UID:07ae0bc6-9809-4217-b57d-f12dc306c985
DTSTART:20230420T225000Z
DTEND:20230420T231000Z
LOCATION:Winchester\, Main Level
SUMMARY:Architecting for High Availability and Disaster Recovery with Amazo
 n RDS for PostgreSQL and Amazon Aurora PostgreSQL (Chris Riggin)
URL:https://postgresconf.io/conferences/SV2023/program/proposals/2047
END:VEVENT
BEGIN:VEVENT
DTSTAMP:20260420T055634Z
UID:e536aef9-0a18-4383-b1f2-279314b1d071
DTSTART:20230420T225000Z
DTEND:20230420T234000Z
LOCATION:Almaden Ballroom\, Main Level
SUMMARY:YSQL Development for PostgreSQL Developers (Seth Luersen)
URL:https://postgresconf.io/conferences/SV2023/program/proposals/2075
END:VEVENT
BEGIN:VEVENT
DTSTAMP:20260420T055634Z
UID:a54537a3-dce7-4591-b0c7-6701b4412e7e
DTSTART:20230420T225000Z
DTEND:20230420T234000Z
LOCATION:San Pedro\, Lvl C
SUMMARY:Developing PostgreSQL extensions using Trusted Language Extensions 
 (Jignesh Shah)
URL:https://postgresconf.io/conferences/SV2023/program/proposals/2015
END:VEVENT
BEGIN:VEVENT
DTSTAMP:20260420T055634Z
UID:0e024e9a-67b5-4528-a2fd-37f0ef5a4e24
DTSTART:20230420T232000Z
DTEND:20230420T234000Z
LOCATION:Winchester\, Main Level
SUMMARY:Choosing the right storage for your RDS for PostgreSQL database (Wa
 nda  He)
URL:https://postgresconf.io/conferences/SV2023/program/proposals/2033
END:VEVENT
BEGIN:VEVENT
DTSTAMP:20260420T055634Z
UID:5db6a976-4cae-4f06-a31e-7a7a8bdbfb7e
DTSTART:20230420T232000Z
DTEND:20230420T234000Z
LOCATION:Santa Clara\, Lvl C
SUMMARY:As the Inventor of Slony-I\, I present to you Spock (Jan Wieck)
URL:https://postgresconf.io/conferences/SV2023/program/proposals/2044
END:VEVENT
BEGIN:VEVENT
DTSTAMP:20260420T055634Z
UID:358b4b93-2572-4ada-9cb3-6e392672a41f
DTSTART:20230420T235000Z
DTEND:20230421T001000Z
LOCATION:Almaden Ballroom\, Main Level
SUMMARY:Distributed SQL Databases: The Whys and Hows (Denis Magda)
URL:https://postgresconf.io/conferences/SV2023/program/proposals/2055
END:VEVENT
BEGIN:VEVENT
DTSTAMP:20260420T055634Z
UID:5d4a0f01-a161-4fe7-9095-36a29a61349a
DTSTART:20230420T235000Z
DTEND:20230421T004000Z
LOCATION:Santa Clara\, Lvl C
SUMMARY:The Machines Haven't Taken Over Yet: Incorporating Domain Knowledge
  into ML-driven Database Tuning Tools (Dana Van Aken)
URL:https://postgresconf.io/conferences/SV2023/program/proposals/2013
END:VEVENT
BEGIN:VEVENT
DTSTAMP:20260420T055634Z
UID:8478269a-0fd0-426d-92fd-306990f45734
DTSTART:20230420T235000Z
DTEND:20230421T001000Z
LOCATION:San Pedro\, Lvl C
SUMMARY:DBtune: Database tuning software as a service (Luigi Nardi)
URL:https://postgresconf.io/conferences/SV2023/program/proposals/2085
END:VEVENT
BEGIN:VEVENT
DTSTAMP:20260420T055634Z
UID:c86a49bf-19f1-4d3e-98f1-ce70781eec8a
DTSTART:20230420T235000Z
DTEND:20230421T004000Z
LOCATION:Winchester\, Main Level
SUMMARY:10 Things I Learned Solving Advent of Code Puzzles with PostgreSQL 
 (Ryan Booz)
URL:https://postgresconf.io/conferences/SV2023/program/proposals/1997
END:VEVENT
BEGIN:VEVENT
DTSTAMP:20260420T055634Z
UID:279998d2-1eaa-4c34-b133-2fdd1b45219b
DTSTART:20230421T002000Z
DTEND:20230421T004000Z
LOCATION:San Pedro\, Lvl C
SUMMARY:PostgreSQL High Availability: The Considerations and the Candidates
  (Dave Stokes)
URL:https://postgresconf.io/conferences/SV2023/program/proposals/2077
END:VEVENT
BEGIN:VEVENT
DTSTAMP:20260420T055634Z
UID:5fdc44c4-5ebb-4110-a0f0-dc5a62a7ae57
DTSTART:20230421T010000Z
DTEND:20230421T030000Z
LOCATION:Almaden Ballroom\, Main Level
SUMMARY:PostgresConf SV: Welcome Reception
URL:https://postgresconf.io/conferences/SV2023/program/proposals/2083
END:VEVENT
BEGIN:VEVENT
DTSTAMP:20260420T055634Z
UID:a382b116-8fa4-4f85-8558-753e1cf64f97
DTSTART:20230421T163000Z
DTEND:20230421T180000Z
LOCATION:Santa Clara\, Lvl C
SUMMARY:How to configure a PostgreSQL cluster for multitenancy (Bryn Llewel
 lyn)
URL:https://postgresconf.io/conferences/SV2023/program/proposals/2019
END:VEVENT
BEGIN:VEVENT
DTSTAMP:20260420T055634Z
UID:b56a0981-f32d-430f-8914-3747ab1be878
DTSTART:20230421T163000Z
DTEND:20230421T165000Z
LOCATION:Almaden Ballroom\, Main Level
SUMMARY:MERGE() - A Quick Introduction (Dave Stokes)
URL:https://postgresconf.io/conferences/SV2023/program/proposals/2002
END:VEVENT
BEGIN:VEVENT
DTSTAMP:20260420T055634Z
UID:301f8b71-73e7-48a2-a622-81aa12dc209e
DTSTART:20230421T163000Z
DTEND:20230421T165000Z
LOCATION:San Pedro\, Lvl C
SUMMARY:Full Stack Postgres on Kubernetes with StackGres (Jose Finotto)
URL:https://postgresconf.io/conferences/SV2023/program/proposals/1995
END:VEVENT
BEGIN:VEVENT
DTSTAMP:20260420T055634Z
UID:02de6ada-6d84-4db2-beb8-9ab975e7da57
DTSTART:20230421T163000Z
DTEND:20230421T172000Z
LOCATION:Winchester\, Main Level
SUMMARY:All roads lead to Amazon Aurora (John Russell and Dustin Brown)
URL:https://postgresconf.io/conferences/SV2023/program/proposals/2068
END:VEVENT
BEGIN:VEVENT
DTSTAMP:20260420T055634Z
UID:e5ee16f6-2df2-4f2d-8e7d-03fc559f158e
DTSTART:20230421T170000Z
DTEND:20230421T175000Z
LOCATION:Almaden Ballroom\, Main Level
SUMMARY:Archiving Data (CJ Estel)
URL:https://postgresconf.io/conferences/SV2023/program/proposals/2003
END:VEVENT
BEGIN:VEVENT
DTSTAMP:20260420T055635Z
UID:3a196fd1-938b-4b61-8736-6eba9def6eab
DTSTART:20230421T170000Z
DTEND:20230421T183000Z
LOCATION:San Pedro\, Lvl C
SUMMARY:SEAL Team Six (Aaron Cutshall)
URL:https://postgresconf.io/conferences/SV2023/program/proposals/2004
END:VEVENT
BEGIN:VEVENT
DTSTAMP:20260420T055635Z
UID:fdc4ce00-ec2d-4db3-8239-8867e7409ec0
DTSTART:20230421T173000Z
DTEND:20230421T182000Z
LOCATION:Winchester\, Main Level
SUMMARY:Deploying Amazon RDS database for applications in Kubernetes (Chira
 g Dave)
URL:https://postgresconf.io/conferences/SV2023/program/proposals/2069
END:VEVENT
BEGIN:VEVENT
DTSTAMP:20260420T055635Z
UID:78bdac2c-58df-4ac2-8ea8-ce549fa6fa32
DTSTART:20230421T180000Z
DTEND:20230421T182000Z
LOCATION:Almaden Ballroom\, Main Level
SUMMARY:Enabling Secure and Scalable Open-Source in Finance (Marcos Figueir
 edo)
URL:https://postgresconf.io/conferences/SV2023/program/proposals/2060
END:VEVENT
BEGIN:VEVENT
DTSTAMP:20260420T055635Z
UID:687e9c94-e42c-4930-a701-45aca0c7bef2
DTSTART:20230421T181000Z
DTEND:20230421T183000Z
LOCATION:Santa Clara\, Lvl C
SUMMARY: Efficient PostgreSQL Query Writing: Avoiding Common Anti-Patterns 
 and ORM Pitfalls
URL:https://postgresconf.io/conferences/SV2023/program/proposals/2051
END:VEVENT
BEGIN:VEVENT
DTSTAMP:20260420T055635Z
UID:0eaad4cb-6bd3-4cbb-a349-5009aba8cee5
DTSTART:20230421T184000Z
DTEND:20230421T193000Z
LOCATION:Almaden Ballroom\, Main Level
SUMMARY:Let robots help with queries (Tatiana Krupenya)
URL:https://postgresconf.io/conferences/SV2023/program/proposals/2036
END:VEVENT
BEGIN:VEVENT
DTSTAMP:20260420T055635Z
UID:9c154b64-6162-412b-81cf-a7c90eb674c2
DTSTART:20230421T184000Z
DTEND:20230421T190000Z
LOCATION:San Pedro\, Lvl C
SUMMARY:The Part of PostgreSQL I Hate the Most (Bohan Zhang)
URL:https://postgresconf.io/conferences/SV2023/program/proposals/2039
END:VEVENT
BEGIN:VEVENT
DTSTAMP:20260420T055635Z
UID:9872c13f-502f-4eb9-9919-47a2d87109df
DTSTART:20230421T184000Z
DTEND:20230421T193000Z
LOCATION:Winchester\, Main Level
SUMMARY:Top 10 Tips for migrating to Amazon Aurora and Amazon RDS (Sivasamy
  Subramaniam)
URL:https://postgresconf.io/conferences/SV2023/program/proposals/2067
END:VEVENT
BEGIN:VEVENT
DTSTAMP:20260420T055635Z
UID:e277ba76-782f-4611-bed6-32c8ebb0b72d
DTSTART:20230421T184000Z
DTEND:20230421T193000Z
LOCATION:Santa Clara\, Lvl C
SUMMARY:Improving the Ergonomics of Writing SQL (Brian Hodge)
URL:https://postgresconf.io/conferences/SV2023/program/proposals/2053
END:VEVENT
BEGIN:VEVENT
DTSTAMP:20260420T055635Z
UID:18577094-4b92-4df1-b47c-362a5365ba8e
DTSTART:20230421T191000Z
DTEND:20230421T193000Z
LOCATION:San Pedro\, Lvl C
SUMMARY:10 Years of Automating Postgres (Julian Fischer)
URL:https://postgresconf.io/conferences/SV2023/program/proposals/2007
END:VEVENT
BEGIN:VEVENT
DTSTAMP:20260420T055635Z
UID:b275eb0d-b98c-4000-ad85-6c5264dfe54b
DTSTART:20230421T193000Z
DTEND:20230421T203000Z
LOCATION:Almaden Ballroom\, Main Level
SUMMARY:Friday Lunch
URL:https://postgresconf.io/conferences/SV2023/program/proposals/2082
END:VEVENT
BEGIN:VEVENT
DTSTAMP:20260420T055635Z
UID:bbbdd6be-a9d1-41e3-b551-b77179bd72f9
DTSTART:20230421T203000Z
DTEND:20230421T212000Z
LOCATION:Almaden Ballroom\, Main Level
SUMMARY:Make Postgres Simple\, Reliable\, and Cost-Effective with Nutanix D
 atabase Service (Manish Pratap Singh and Jeremy Launier)
URL:https://postgresconf.io/conferences/SV2023/program/proposals/2050
END:VEVENT
BEGIN:VEVENT
DTSTAMP:20260420T055635Z
UID:22a78170-3485-4c41-803d-c751c511397b
DTSTART:20230421T203000Z
DTEND:20230421T212000Z
LOCATION:San Pedro\, Lvl C
SUMMARY:Citus: Orange You Glad It's Postgres (Zak Tedder)
URL:https://postgresconf.io/conferences/SV2023/program/proposals/2071
END:VEVENT
BEGIN:VEVENT
DTSTAMP:20260420T055635Z
UID:3f0d1c6e-f7e8-4edd-92df-276b636a6f06
DTSTART:20230421T203000Z
DTEND:20230421T220000Z
LOCATION:Winchester\, Main Level
SUMMARY:Running PostgreSQL on AWS for SQL Server DBAs (Chandra Pathivada an
 d Ramesh Kumar Venkatraman)
URL:https://postgresconf.io/conferences/SV2023/program/proposals/2035
END:VEVENT
BEGIN:VEVENT
DTSTAMP:20260420T055635Z
UID:1894116f-8917-4809-9603-201390cbb2da
DTSTART:20230421T203000Z
DTEND:20230421T212000Z
LOCATION:Santa Clara\, Lvl C
SUMMARY:Discover the Power of Window Functions (Aaron Cutshall)
URL:https://postgresconf.io/conferences/SV2023/program/proposals/2058
END:VEVENT
BEGIN:VEVENT
DTSTAMP:20260420T055635Z
UID:9cd445c5-d009-4332-b976-450846e5b3f5
DTSTART:20230421T214000Z
DTEND:20230421T223000Z
LOCATION:San Pedro\, Lvl C
SUMMARY:Full Page Writes in PostgreSQL - Critical\, Evil or Both - Why you 
 should care and how to optimize (Grant McAlister)
URL:https://postgresconf.io/conferences/SV2023/program/proposals/2032
END:VEVENT
BEGIN:VEVENT
DTSTAMP:20260420T055635Z
UID:d05f73d5-c399-4857-95fc-fad3f901d581
DTSTART:20230421T214000Z
DTEND:20230421T223000Z
LOCATION:Almaden Ballroom\, Main Level
SUMMARY:Postgres for Oracle DBAs - A Comparison Study (Srinivasa  Inaganti)
URL:https://postgresconf.io/conferences/SV2023/program/proposals/2042
END:VEVENT
BEGIN:VEVENT
DTSTAMP:20260420T055635Z
UID:71afef5d-764e-49a5-9ae9-44a4679b3ced
DTSTART:20230421T214000Z
DTEND:20230421T223000Z
LOCATION:Santa Clara\, Lvl C
SUMMARY:Message Stores and Event Sourcing with Message DB (Scott Bellware)
URL:https://postgresconf.io/conferences/SV2023/program/proposals/2012
END:VEVENT
BEGIN:VEVENT
DTSTAMP:20260420T055635Z
UID:8ef7f925-16cc-4c15-baa1-799c51c28bc9
DTSTART:20230421T221000Z
DTEND:20230421T223000Z
LOCATION:Winchester\, Main Level
SUMMARY:Optimize Costs using Babelfish for Aurora PostgreSQL (Chandra Pathi
 vada and Ramesh Kumar Venkatraman)
URL:https://postgresconf.io/conferences/SV2023/program/proposals/2034
END:VEVENT
BEGIN:VEVENT
DTSTAMP:20260420T055635Z
UID:f58272a1-74ea-4915-a630-4c237138f22a
DTSTART:20230421T225000Z
DTEND:20230421T234000Z
LOCATION:San Pedro\, Lvl C
SUMMARY:Building a Serverless PostgreSQL with Neon Tech OpenSource and Perc
 ona Builds (Vadim Tkachenko)
URL:https://postgresconf.io/conferences/SV2023/program/proposals/2024
END:VEVENT
BEGIN:VEVENT
DTSTAMP:20260420T055635Z
UID:4992065e-5905-4cec-ab8b-9a2821e92a7b
DTSTART:20230421T225000Z
DTEND:20230421T234000Z
LOCATION:Almaden Ballroom\, Main Level
SUMMARY:Moving MongoDB Workloads to Postgres with FerretDB (Peter Farkas)
URL:https://postgresconf.io/conferences/SV2023/program/proposals/2045
END:VEVENT
BEGIN:VEVENT
DTSTAMP:20260420T055635Z
UID:dc72f405-3dd0-4cfe-95a8-4762ba2438af
DTSTART:20230421T225000Z
DTEND:20230421T234000Z
LOCATION:Winchester\, Main Level
SUMMARY:Improving the security of your PostgreSQL databases using Amazon Au
 rora and Amazon RDS (Chirag Dave)
URL:https://postgresconf.io/conferences/SV2023/program/proposals/2070
END:VEVENT
BEGIN:VEVENT
DTSTAMP:20260420T055636Z
UID:e8897e5f-3b85-42b0-8290-4950ca359c0b
DTSTART:20230421T225000Z
DTEND:20230421T231000Z
LOCATION:Santa Clara\, Lvl C
SUMMARY:Features for Scalable PostgreSQL in Cloud Spanner (Kesiena Owho-Ovu
 akporie)
URL:https://postgresconf.io/conferences/SV2023/program/proposals/2046
END:VEVENT
BEGIN:VEVENT
DTSTAMP:20260420T055636Z
UID:168b6037-09e2-48f2-9ab9-37a323ba820a
DTSTART:20230421T232000Z
DTEND:20230421T234000Z
LOCATION:Santa Clara\, Lvl C
SUMMARY:Serverless Postgres Study and Practice (Grant Zhou)
URL:https://postgresconf.io/conferences/SV2023/program/proposals/2022
END:VEVENT
END:VCALENDAR
