BEGIN:VCALENDAR
VERSION:2.0
PRODID:PGConf Local: Seattle [PgConf.US]
CALSCALE:GREGORIAN
BEGIN:VEVENT
DTSTAMP:20260420T122509Z
UID:db60a401-d586-4f19-9cd2-4c03b56e3368
DTSTART:20171113T133000Z
DTEND:20171113T163000Z
LOCATION:Ravenna
SUMMARY:Scaling PostgreSQL Using Linux Containers in the Enterprise (Robert
  Bernier)
URL:https://postgresconf.io/conferences/Seattle2017/program/proposals/730
END:VEVENT
BEGIN:VEVENT
DTSTAMP:20260420T122509Z
UID:4298a555-f8fe-4f54-a510-d32f0b996cd4
DTSTART:20171114T143000Z
DTEND:20171114T152000Z
LOCATION:Issaquah
SUMMARY:GRAKN.AI: the hyper-relational database for knowledge-oriented syst
 ems CANCELLED  (Haikal Pribadi)
URL:https://postgresconf.io/conferences/Seattle2017/program/proposals/694
END:VEVENT
BEGIN:VEVENT
DTSTAMP:20260420T122509Z
UID:65e3f6c2-1fb1-4a0f-bca5-f869f5064dc3
DTSTART:20171114T143000Z
DTEND:20171114T152000Z
LOCATION:Ravenna
SUMMARY:Under the hood: API integrations and more in an energy efficiency P
 ostgreSQL + Django application (Jennifer Scheuerell)
URL:https://postgresconf.io/conferences/Seattle2017/program/proposals/731
END:VEVENT
BEGIN:VEVENT
DTSTAMP:20260420T122509Z
UID:43db027f-44db-4037-8740-b6454b312e95
DTSTART:20171114T143000Z
DTEND:20171114T152000Z
LOCATION:Metropolitan B
SUMMARY:Enterprise Data Architecture with PostgreSQL (Kevin Kempter)
URL:https://postgresconf.io/conferences/Seattle2017/program/proposals/721
END:VEVENT
BEGIN:VEVENT
DTSTAMP:20260420T122509Z
UID:89c0a103-3599-46a0-a092-a16fb6324b33
DTSTART:20171114T154000Z
DTEND:20171114T163000Z
LOCATION:Issaquah
SUMMARY:Best Practices with Managed PostgreSQL in the Cloud (Jignesh Shah)
URL:https://postgresconf.io/conferences/Seattle2017/program/proposals/716
END:VEVENT
BEGIN:VEVENT
DTSTAMP:20260420T122510Z
UID:ce088273-bf52-4f7b-872f-129317bed0ec
DTSTART:20171114T154000Z
DTEND:20171114T163000Z
LOCATION:Metropolitan B
SUMMARY:Building a scalable time-series database on PostgreSQL ( Matvey Ary
 e)
URL:https://postgresconf.io/conferences/Seattle2017/program/proposals/729
END:VEVENT
BEGIN:VEVENT
DTSTAMP:20260420T122510Z
UID:b90a8d8b-331f-4818-93c2-ec4a07305418
DTSTART:20171114T154000Z
DTEND:20171114T163000Z
LOCATION:Ravenna
SUMMARY:Introduction to JavaScript Stored Procedures (Jim Mlodgenski)
URL:https://postgresconf.io/conferences/Seattle2017/program/proposals/695
END:VEVENT
BEGIN:VEVENT
DTSTAMP:20260420T122510Z
UID:a0eb3b4a-a45d-48f2-9272-1f86052336ab
DTSTART:20171114T164000Z
DTEND:20171114T173000Z
LOCATION:Metropolitan B
SUMMARY:All the dirt on Vacuum (Jim Nasby)
URL:https://postgresconf.io/conferences/Seattle2017/program/proposals/725
END:VEVENT
BEGIN:VEVENT
DTSTAMP:20260420T122510Z
UID:47db7692-3c00-4716-8409-20ab3b13fc5e
DTSTART:20171114T164000Z
DTEND:20171114T173000Z
LOCATION:Issaquah
SUMMARY:Tuning PostgreSQL for High Write Workloads (David Wein)
URL:https://postgresconf.io/conferences/Seattle2017/program/proposals/710
END:VEVENT
BEGIN:VEVENT
DTSTAMP:20260420T122510Z
UID:5f4dc93e-19ee-41db-a562-67624260feb9
DTSTART:20171114T164000Z
DTEND:20171114T173000Z
LOCATION:Ravenna
SUMMARY:Using GIS in PostgreSQL (Lloyd Albin)
URL:https://postgresconf.io/conferences/Seattle2017/program/proposals/720
END:VEVENT
END:VCALENDAR
