BEGIN:VCALENDAR
VERSION:2.0
PRODID:Silicon Valley
CALSCALE:GREGORIAN
BEGIN:VEVENT
DTSTAMP:20260420T093157Z
UID:8dcbb8f4-1b71-455d-a2e4-e5310a9dd96f
DTSTART:20181015T150000Z
DTEND:20181015T160000Z
LOCATION:Ballroom
SUMMARY:Registration
URL:https://postgresconf.io/conferences/SiliconValley2018/program/proposals
 /895
END:VEVENT
BEGIN:VEVENT
DTSTAMP:20260420T093157Z
UID:67893d42-0701-48c7-9c96-cf5f2a6e9de2
DTSTART:20181015T153000Z
DTEND:20181015T155000Z
LOCATION:Ballroom
SUMMARY:Monday Morning Break (PostgresConf Organizers)
URL:https://postgresconf.io/conferences/SiliconValley2018/program/proposals
 /892
END:VEVENT
BEGIN:VEVENT
DTSTAMP:20260420T093157Z
UID:4cee1472-c60a-4811-aaa5-5b30cdde030f
DTSTART:20181015T160000Z
DTEND:20181015T162000Z
LOCATION:Ballroom
SUMMARY:Massively Parallel PostgreSQL For Analytics (Tushar Pednekar)
URL:https://postgresconf.io/conferences/SiliconValley2018/program/proposals
 /864
END:VEVENT
BEGIN:VEVENT
DTSTAMP:20260420T093157Z
UID:40590f46-b91f-4885-a13c-d5db267e084b
DTSTART:20181015T162000Z
DTEND:20181015T164000Z
LOCATION:Ballroom
SUMMARY:Update on Microsoft’s learning and progress on supporting Postgre
 SQL as a fully managed service on Azure (Sunil Kamath)
URL:https://postgresconf.io/conferences/SiliconValley2018/program/proposals
 /876
END:VEVENT
BEGIN:VEVENT
DTSTAMP:20260420T093157Z
UID:f404d864-a7fd-4102-9819-41cbd0f180f9
DTSTART:20181015T164000Z
DTEND:20181015T170000Z
LOCATION:Ballroom
SUMMARY:What's new in Postgres 11 ( Tom Kincaid)
URL:https://postgresconf.io/conferences/SiliconValley2018/program/proposals
 /848
END:VEVENT
BEGIN:VEVENT
DTSTAMP:20260420T093157Z
UID:02a35237-8b30-4d05-b8ff-aaf05d390be9
DTSTART:20181015T171000Z
DTEND:20181015T180000Z
LOCATION:Ballroom
SUMMARY:Helping to Solve World Hunger through AgensGraph (Joshua Bae)
URL:https://postgresconf.io/conferences/SiliconValley2018/program/proposals
 /885
END:VEVENT
BEGIN:VEVENT
DTSTAMP:20260420T093157Z
UID:ee7362a3-b324-4eae-9475-feac33f427da
DTSTART:20181015T171000Z
DTEND:20181015T180000Z
LOCATION:Winchester 1
SUMMARY:Best Practices for Running Postgres in Kubernetes (Jeff Silberman)
URL:https://postgresconf.io/conferences/SiliconValley2018/program/proposals
 /819
END:VEVENT
BEGIN:VEVENT
DTSTAMP:20260420T093157Z
UID:795cf684-c518-4f14-b008-f68e0a379755
DTSTART:20181015T171000Z
DTEND:20181015T180000Z
LOCATION:Winchester 2
SUMMARY:Data Integrity at Scale - lessons learned building Google Cloud SQL
  (Alexis Guajardo and Brett Hesterberg)
URL:https://postgresconf.io/conferences/SiliconValley2018/program/proposals
 /776
END:VEVENT
BEGIN:VEVENT
DTSTAMP:20260420T093157Z
UID:5be35b37-6887-4606-b2a9-7aa50aa57d90
DTSTART:20181015T171000Z
DTEND:20181015T180000Z
LOCATION:Market
SUMMARY:I Didn't Know Postgres Could Do That! (Robert Treat)
URL:https://postgresconf.io/conferences/SiliconValley2018/program/proposals
 /860
END:VEVENT
BEGIN:VEVENT
DTSTAMP:20260420T093157Z
UID:8661f35c-ccfd-43c5-9fd2-508d5bc23d93
DTSTART:20181015T181000Z
DTEND:20181015T190000Z
LOCATION:Winchester 1
SUMMARY:Improve Database Warehouse Performance 100x with a Database Proxy  
 (Lee Roland)
URL:https://postgresconf.io/conferences/SiliconValley2018/program/proposals
 /830
END:VEVENT
BEGIN:VEVENT
DTSTAMP:20260420T093157Z
UID:e5824f9b-f338-4eac-b100-e54391848e9f
DTSTART:20181015T181000Z
DTEND:20181015T183000Z
LOCATION:Winchester 2
SUMMARY:Postgres as a foundation for an operations data-science platform (M
 aryam  Sanglaji and Mark Chamness)
URL:https://postgresconf.io/conferences/SiliconValley2018/program/proposals
 /809
END:VEVENT
BEGIN:VEVENT
DTSTAMP:20260420T093157Z
UID:9cbad804-2d0c-4f6a-a079-9883a9b28fff
DTSTART:20181015T181000Z
DTEND:20181015T183000Z
LOCATION:Market
SUMMARY:How to run Stateful application on EC2 Spot Instances (Amiram Shach
 ar)
URL:https://postgresconf.io/conferences/SiliconValley2018/program/proposals
 /820
END:VEVENT
BEGIN:VEVENT
DTSTAMP:20260420T093157Z
UID:b2c2f80d-028d-4a30-b3e5-e08446a5cffd
DTSTART:20181015T184000Z
DTEND:20181015T190000Z
LOCATION:Winchester 2
SUMMARY:Turning Data Teams Into Super Heroes (Harry  Glaser)
URL:https://postgresconf.io/conferences/SiliconValley2018/program/proposals
 /815
END:VEVENT
BEGIN:VEVENT
DTSTAMP:20260420T093157Z
UID:b5d74930-b52a-4daa-90db-60ee4650d7f8
DTSTART:20181015T184000Z
DTEND:20181015T190000Z
LOCATION:Market
SUMMARY:Condenser - A Simple PostgreSQL Subsetting Tool (Adam Kamor and And
 rew Colombi)
URL:https://postgresconf.io/conferences/SiliconValley2018/program/proposals
 /871
END:VEVENT
BEGIN:VEVENT
DTSTAMP:20260420T093157Z
UID:51bc925e-b49a-4a38-be32-ada017e76b41
DTSTART:20181015T190000Z
DTEND:20181015T200000Z
LOCATION:Ballroom
SUMMARY:Monday Lunch
URL:https://postgresconf.io/conferences/SiliconValley2018/program/proposals
 /890
END:VEVENT
BEGIN:VEVENT
DTSTAMP:20260420T093157Z
UID:8a860bc0-7ee8-4969-9e43-340c637a622e
DTSTART:20181015T200000Z
DTEND:20181015T205000Z
LOCATION:Winchester 2
SUMMARY:Using an in-memory storage platform to bridge big-data systems (Bin
  Fan)
URL:https://postgresconf.io/conferences/SiliconValley2018/program/proposals
 /846
END:VEVENT
BEGIN:VEVENT
DTSTAMP:20260420T093157Z
UID:9dd9589f-d4d5-4f4b-9248-0bae3d9a897b
DTSTART:20181015T200000Z
DTEND:20181015T205000Z
LOCATION:Market
SUMMARY:Understanding High availability options for PostgreSQL (dharshan ra
 ngegowda and Madan Kumar K)
URL:https://postgresconf.io/conferences/SiliconValley2018/program/proposals
 /801
END:VEVENT
BEGIN:VEVENT
DTSTAMP:20260420T093157Z
UID:9ffbc54f-6993-41bf-ac43-4396e3d005cc
DTSTART:20181015T200000Z
DTEND:20181015T230000Z
LOCATION:Winchester 1
SUMMARY:Using TimescaleDB for time-series storage and analytics in Postgres
  (Diana Hsieh\,  Matvey Arye\, and Andrew Staller)
URL:https://postgresconf.io/conferences/SiliconValley2018/program/proposals
 /877
END:VEVENT
BEGIN:VEVENT
DTSTAMP:20260420T093157Z
UID:6503b483-ef73-40fc-8a0f-73ccd55107c3
DTSTART:20181015T210000Z
DTEND:20181015T212000Z
LOCATION:Winchester 2
SUMMARY:Dealing with Gigantic Tables (Linas Valiukas)
URL:https://postgresconf.io/conferences/SiliconValley2018/program/proposals
 /847
END:VEVENT
BEGIN:VEVENT
DTSTAMP:20260420T093157Z
UID:2f4a7be5-c176-4e9d-b5b3-b179be9f3f67
DTSTART:20181015T213000Z
DTEND:20181015T222000Z
LOCATION:Winchester 2
SUMMARY:Data pipelines with PostgreSQL and Kafka (Oskari Saarenmaa)
URL:https://postgresconf.io/conferences/SiliconValley2018/program/proposals
 /836
END:VEVENT
BEGIN:VEVENT
DTSTAMP:20260420T093157Z
UID:60a892d5-b3d4-43aa-9417-b0a30aaf7c46
DTSTART:20181015T213000Z
DTEND:20181015T222000Z
LOCATION:Market
SUMMARY:Architecting distributed data for GDPR (Karthik Ranganathan)
URL:https://postgresconf.io/conferences/SiliconValley2018/program/proposals
 /803
END:VEVENT
BEGIN:VEVENT
DTSTAMP:20260420T093157Z
UID:47c38f49-bd4f-44b1-8322-00c38b0bb76b
DTSTART:20181015T224000Z
DTEND:20181015T233000Z
LOCATION:Winchester 2
SUMMARY:Operating Machine Learning & Massively Parallel Postgres on Kuberne
 tes (Derek Comingore)
URL:https://postgresconf.io/conferences/SiliconValley2018/program/proposals
 /771
END:VEVENT
BEGIN:VEVENT
DTSTAMP:20260420T093157Z
UID:558a3984-3015-4737-a15a-8137122acd58
DTSTART:20181015T224000Z
DTEND:20181015T233000Z
LOCATION:Market
SUMMARY:Building a DBaaS platform for Postgres (Bala Kuchibhotla )
URL:https://postgresconf.io/conferences/SiliconValley2018/program/proposals
 /808
END:VEVENT
BEGIN:VEVENT
DTSTAMP:20260420T093158Z
UID:c864f803-b2cf-4d9a-b7e0-ed735e73bd3a
DTSTART:20181015T234000Z
DTEND:20181016T003000Z
LOCATION:Winchester 2
SUMMARY:Taking care of the elephant  (Michael Meskes)
URL:https://postgresconf.io/conferences/SiliconValley2018/program/proposals
 /834
END:VEVENT
BEGIN:VEVENT
DTSTAMP:20260420T093158Z
UID:0b587da3-b919-41e5-9cfa-903c18e45f43
DTSTART:20181015T234000Z
DTEND:20181016T003000Z
LOCATION:Market
SUMMARY:Data Recovery in PostgreSQL on a damaged filesystem (Christopher Tr
 avers)
URL:https://postgresconf.io/conferences/SiliconValley2018/program/proposals
 /841
END:VEVENT
BEGIN:VEVENT
DTSTAMP:20260420T093158Z
UID:c452b651-e36b-45c0-8ff0-8d4cf492f35f
DTSTART:20181015T234000Z
DTEND:20181016T003000Z
LOCATION:Winchester 1
SUMMARY:How To Index Your Database (Baron Schwartz)
URL:https://postgresconf.io/conferences/SiliconValley2018/program/proposals
 /821
END:VEVENT
BEGIN:VEVENT
DTSTAMP:20260420T093158Z
UID:2adc81ff-a485-4bea-b699-9fabc72494cc
DTSTART:20181016T160000Z
DTEND:20181016T190000Z
LOCATION:Winchester 1
SUMMARY:How YugaByte DB implements distributed PostgreSQL (Karthik Ranganat
 han)
URL:https://postgresconf.io/conferences/SiliconValley2018/program/proposals
 /823
END:VEVENT
BEGIN:VEVENT
DTSTAMP:20260420T093158Z
UID:bb4985b8-e629-4000-ac45-da6f17213dd1
DTSTART:20181016T160000Z
DTEND:20181016T165000Z
LOCATION:Winchester 2
SUMMARY:Tips and Tricks with Amazon RDS for PostgreSQL (Jignesh Shah)
URL:https://postgresconf.io/conferences/SiliconValley2018/program/proposals
 /827
END:VEVENT
BEGIN:VEVENT
DTSTAMP:20260420T093158Z
UID:0aed4961-cf50-471e-bcd2-f899f24c9bc7
DTSTART:20181016T160000Z
DTEND:20181016T165000Z
LOCATION:Market
SUMMARY:Performant time-series data management and analytics with Postgres 
 ( Matvey Arye)
URL:https://postgresconf.io/conferences/SiliconValley2018/program/proposals
 /849
END:VEVENT
BEGIN:VEVENT
DTSTAMP:20260420T093158Z
UID:741c7e1c-4e83-4611-a71f-94af893d3ec5
DTSTART:20181016T170000Z
DTEND:20181016T175000Z
LOCATION:Winchester 2
SUMMARY:HOT - UNDERSTANDING THIS IMPORTANT UPDATE OPTIMIZATION (Grant McAli
 ster)
URL:https://postgresconf.io/conferences/SiliconValley2018/program/proposals
 /868
END:VEVENT
BEGIN:VEVENT
DTSTAMP:20260420T093158Z
UID:e50dcbfb-f108-47ef-98e2-58dbccd73950
DTSTART:20181016T170000Z
DTEND:20181016T175000Z
LOCATION:Market
SUMMARY:Designing a data-access control architecture for GDPR (Pratik Verma
 )
URL:https://postgresconf.io/conferences/SiliconValley2018/program/proposals
 /813
END:VEVENT
BEGIN:VEVENT
DTSTAMP:20260420T093158Z
UID:7dc90901-d688-423f-aec8-b88d6b970e77
DTSTART:20181016T175000Z
DTEND:20181016T181000Z
LOCATION:Ballroom
SUMMARY:Tuesday Morning Break
URL:https://postgresconf.io/conferences/SiliconValley2018/program/proposals
 /893
END:VEVENT
BEGIN:VEVENT
DTSTAMP:20260420T093158Z
UID:0250c013-174b-42e1-bc64-6c08528bfaf2
DTSTART:20181016T181000Z
DTEND:20181016T190000Z
LOCATION:Winchester 2
SUMMARY:Top 10 Mistakes When Migrating From Oracle to PostgreSQL (Jim Mlodg
 enski)
URL:https://postgresconf.io/conferences/SiliconValley2018/program/proposals
 /873
END:VEVENT
BEGIN:VEVENT
DTSTAMP:20260420T093158Z
UID:e3dcca51-7f02-42f1-af6a-1e70e3594003
DTSTART:20181016T181000Z
DTEND:20181016T190000Z
LOCATION:Market
SUMMARY:Viewing data at the intersection between roles (Lloyd Albin)
URL:https://postgresconf.io/conferences/SiliconValley2018/program/proposals
 /872
END:VEVENT
BEGIN:VEVENT
DTSTAMP:20260420T093158Z
UID:d935fcb6-9049-4c7b-bdee-4dd5cc40ad8b
DTSTART:20181016T190000Z
DTEND:20181016T200000Z
LOCATION:Ballroom
SUMMARY:Tuesday Lunch
URL:https://postgresconf.io/conferences/SiliconValley2018/program/proposals
 /891
END:VEVENT
BEGIN:VEVENT
DTSTAMP:20260420T093158Z
UID:0a10f7d5-edd4-49a1-8ead-565bc7865ae4
DTSTART:20181016T200000Z
DTEND:20181016T205000Z
LOCATION:Winchester 2
SUMMARY:End-to-End Encryption in Modern Database Architectures (David Szabo
 )
URL:https://postgresconf.io/conferences/SiliconValley2018/program/proposals
 /835
END:VEVENT
BEGIN:VEVENT
DTSTAMP:20260420T093158Z
UID:260a95a6-4a01-4d52-b8bd-bfd1b9a9f77c
DTSTART:20181016T200000Z
DTEND:20181016T202000Z
LOCATION:Winchester 1
SUMMARY: Using PostgreSQL in Gobalto  (savita pandey)
URL:https://postgresconf.io/conferences/SiliconValley2018/program/proposals
 /861
END:VEVENT
BEGIN:VEVENT
DTSTAMP:20260420T093158Z
UID:ef6cbf94-6441-4af2-aad1-4393e9d7f91f
DTSTART:20181016T200000Z
DTEND:20181016T205000Z
LOCATION:Market
SUMMARY:Building A Serverless Database Using Postgres (Nicolae Rusan)
URL:https://postgresconf.io/conferences/SiliconValley2018/program/proposals
 /817
END:VEVENT
BEGIN:VEVENT
DTSTAMP:20260420T093158Z
UID:11058096-9340-4540-a198-9a98489763cf
DTSTART:20181016T203000Z
DTEND:20181016T205000Z
LOCATION:Winchester 1
SUMMARY:Hardware acceleration of Postgres using FPGAs (HK Verma)
URL:https://postgresconf.io/conferences/SiliconValley2018/program/proposals
 /831
END:VEVENT
BEGIN:VEVENT
DTSTAMP:20260420T093158Z
UID:670a9136-0640-43b9-ac6b-eec98a54ba4b
DTSTART:20181016T210000Z
DTEND:20181016T215000Z
LOCATION:Market
SUMMARY:Managing PostgreSQL-as-a-Service at Large Scale in SAP Multi-Cloud 
 platform (Dinesh Kumar\, Vinayak Jadhav\, Abhijit Gharami\, SUBHRO BHATTAC
 HARYYA\, and Shashank Jain)
URL:https://postgresconf.io/conferences/SiliconValley2018/program/proposals
 /863
END:VEVENT
BEGIN:VEVENT
DTSTAMP:20260420T093158Z
UID:772a9f28-e612-4eda-b741-79b5f5f72842
DTSTART:20181016T210000Z
DTEND:20181016T215000Z
LOCATION:Winchester 1
SUMMARY:The Art of Database Experiments (Nikolay Samokhvalov)
URL:https://postgresconf.io/conferences/SiliconValley2018/program/proposals
 /812
END:VEVENT
BEGIN:VEVENT
DTSTAMP:20260420T093158Z
UID:a1e2687d-d677-4331-8df6-f699b4a29923
DTSTART:20181016T210000Z
DTEND:20181016T215000Z
LOCATION:Winchester 2
SUMMARY:Modernizing the PostgreSQL developer experience with GraphQL (Tanma
 i Gopal)
URL:https://postgresconf.io/conferences/SiliconValley2018/program/proposals
 /833
END:VEVENT
BEGIN:VEVENT
DTSTAMP:20260420T093158Z
UID:ab9ab1fb-3e7d-4993-a8f0-1ae3a0274c27
DTSTART:20181016T215000Z
DTEND:20181016T221000Z
LOCATION:Ballroom
SUMMARY:Conference Closing
URL:https://postgresconf.io/conferences/SiliconValley2018/program/proposals
 /894
END:VEVENT
END:VCALENDAR
