BEGIN:VCALENDAR
VERSION:2.0
PRODID:South Africa 2018
CALSCALE:GREGORIAN
BEGIN:VEVENT
DTSTAMP:20260420T113522Z
UID:3346c471-391f-43f7-8b27-b4c7f2e8b7e6
DTSTART:20181009T060000Z
DTEND:20181009T070000Z
LOCATION:Courtyard/Boma
SUMMARY:Registration
URL:https://postgresconf.io/conferences/SouthAfrica2018/program/proposals/7
 98
END:VEVENT
BEGIN:VEVENT
DTSTAMP:20260420T113522Z
UID:ef8f6bd6-b960-48ec-915b-9a368afb0874
DTSTART:20181009T070000Z
DTEND:20181009T072000Z
LOCATION:Baobab
SUMMARY:Opening
URL:https://postgresconf.io/conferences/SouthAfrica2018/program/proposals/8
 00
END:VEVENT
BEGIN:VEVENT
DTSTAMP:20260420T113522Z
UID:a4c71259-de10-4ce0-810b-b77e80c5e232
DTSTART:20181009T072000Z
DTEND:20181009T080000Z
LOCATION:Baobab
SUMMARY:Face recognition and PostgreSQL (Kobus Wolvaardt)
URL:https://postgresconf.io/conferences/SouthAfrica2018/program/proposals/7
 94
END:VEVENT
BEGIN:VEVENT
DTSTAMP:20260420T113522Z
UID:4f4cfdc3-4a7c-49d5-b99c-ab6fd8719112
DTSTART:20181009T080000Z
DTEND:20181009T083000Z
LOCATION:Courtyard/Boma
SUMMARY:Morning coffee
URL:https://postgresconf.io/conferences/SouthAfrica2018/program/proposals/7
 95
END:VEVENT
BEGIN:VEVENT
DTSTAMP:20260420T113522Z
UID:6cfbf974-45b3-4ed0-8696-361b63a646e6
DTSTART:20181009T083000Z
DTEND:20181009T091000Z
LOCATION:Baobab
SUMMARY:Wait Events in PostgreSQL (David Wein)
URL:https://postgresconf.io/conferences/SouthAfrica2018/program/proposals/7
 79
END:VEVENT
BEGIN:VEVENT
DTSTAMP:20260420T113522Z
UID:e252edc8-091f-4927-a3f1-bb162aeb1e46
DTSTART:20181009T083000Z
DTEND:20181009T091000Z
LOCATION:Cedarwood
SUMMARY:Using ZFS (on Linux) with PostgreSQL (Hendrik Visage)
URL:https://postgresconf.io/conferences/SouthAfrica2018/program/proposals/2
 92
END:VEVENT
BEGIN:VEVENT
DTSTAMP:20260420T113522Z
UID:6569e8c9-9b0a-4dc2-a722-361373e24a49
DTSTART:20181009T083000Z
DTEND:20181009T085000Z
LOCATION:Yellowwood
SUMMARY:PostgreSQL resources for new team members (Johan Zietsman)
URL:https://postgresconf.io/conferences/SouthAfrica2018/program/proposals/7
 70
END:VEVENT
BEGIN:VEVENT
DTSTAMP:20260420T113522Z
UID:c48a3ad8-1442-4434-837b-9e09c9eb7290
DTSTART:20181009T085000Z
DTEND:20181009T091000Z
LOCATION:Yellowwood
SUMMARY:Enhance your psql client experience (Nico Schlebusch)
URL:https://postgresconf.io/conferences/SouthAfrica2018/program/proposals/7
 81
END:VEVENT
BEGIN:VEVENT
DTSTAMP:20260420T113522Z
UID:8f48ee03-acdd-4a80-8c6d-c8463ec3e7a9
DTSTART:20181009T092000Z
DTEND:20181009T100000Z
LOCATION:Cedarwood
SUMMARY:PostgreSQL administration with Ansible (Johan Zietsman)
URL:https://postgresconf.io/conferences/SouthAfrica2018/program/proposals/7
 80
END:VEVENT
BEGIN:VEVENT
DTSTAMP:20260420T113522Z
UID:916e9f83-9880-4952-83ad-fd23bf53fe1b
DTSTART:20181009T092000Z
DTEND:20181009T100000Z
LOCATION:Baobab
SUMMARY:Window Functions (Willem Booysen)
URL:https://postgresconf.io/conferences/SouthAfrica2018/program/proposals/2
 94
END:VEVENT
BEGIN:VEVENT
DTSTAMP:20260420T113522Z
UID:a807eb55-67c1-4f58-854b-1176c500a1ce
DTSTART:20181009T092000Z
DTEND:20181009T100000Z
LOCATION:Yellowwood
SUMMARY:Introduction to PostGIS (Mureithi Runji)
URL:https://postgresconf.io/conferences/SouthAfrica2018/program/proposals/7
 72
END:VEVENT
BEGIN:VEVENT
DTSTAMP:20260420T113522Z
UID:d04e92a4-19f3-4fe2-a19e-5adb49b16e99
DTSTART:20181009T100000Z
DTEND:20181009T110000Z
LOCATION:Courtyard/Boma
SUMMARY:Lunch
URL:https://postgresconf.io/conferences/SouthAfrica2018/program/proposals/7
 97
END:VEVENT
BEGIN:VEVENT
DTSTAMP:20260420T113522Z
UID:57d75b61-2f7f-4409-ae63-5ab87d542559
DTSTART:20181009T110000Z
DTEND:20181009T114000Z
LOCATION:Cedarwood
SUMMARY:Constraints in PostgreSQL (George Nel)
URL:https://postgresconf.io/conferences/SouthAfrica2018/program/proposals/7
 77
END:VEVENT
BEGIN:VEVENT
DTSTAMP:20260420T113522Z
UID:1ec7d644-91c9-45d8-8bfa-3f5760b62d97
DTSTART:20181009T110000Z
DTEND:20181009T114000Z
LOCATION:Yellowwood
SUMMARY:All the dirt on VACUUM (David Wein)
URL:https://postgresconf.io/conferences/SouthAfrica2018/program/proposals/7
 78
END:VEVENT
BEGIN:VEVENT
DTSTAMP:20260420T113522Z
UID:60e4a966-75a0-492b-a403-c6aa2488d8f7
DTSTART:20181009T110000Z
DTEND:20181009T114000Z
LOCATION:Baobab
SUMMARY:Big Data Machine Learning in SQL for Developers (Helge Reikeras)
URL:https://postgresconf.io/conferences/SouthAfrica2018/program/proposals/8
 79
END:VEVENT
BEGIN:VEVENT
DTSTAMP:20260420T113522Z
UID:b90d7d2b-abe0-4465-a5ba-6b728f2aa149
DTSTART:20181009T115000Z
DTEND:20181009T123000Z
LOCATION:Cedarwood
SUMMARY:Row Level Security (Bennie Swart)
URL:https://postgresconf.io/conferences/SouthAfrica2018/program/proposals/7
 91
END:VEVENT
BEGIN:VEVENT
DTSTAMP:20260420T113522Z
UID:0017e04f-269e-4aec-9d8b-d594aa4f583c
DTSTART:20181009T115000Z
DTEND:20181009T123000Z
LOCATION:Yellowwood
SUMMARY:Introduction to CTEs (Terence Zekveld)
URL:https://postgresconf.io/conferences/SouthAfrica2018/program/proposals/7
 69
END:VEVENT
BEGIN:VEVENT
DTSTAMP:20260420T113522Z
UID:dbef0735-0a78-403d-9124-fdc3be41bdb5
DTSTART:20181009T115000Z
DTEND:20181009T123000Z
LOCATION:Baobab
SUMMARY:A talk about indexes (Malcolm McLean)
URL:https://postgresconf.io/conferences/SouthAfrica2018/program/proposals/2
 97
END:VEVENT
BEGIN:VEVENT
DTSTAMP:20260420T113522Z
UID:02951c7d-e25e-46c1-b212-a5c981e81a93
DTSTART:20181009T123000Z
DTEND:20181009T130000Z
LOCATION:Courtyard/Boma
SUMMARY:Afternoon coffee
URL:https://postgresconf.io/conferences/SouthAfrica2018/program/proposals/7
 96
END:VEVENT
BEGIN:VEVENT
DTSTAMP:20260420T113522Z
UID:94d55aad-0dfb-4b4b-be78-b48f619824b6
DTSTART:20181009T130000Z
DTEND:20181009T134000Z
LOCATION:Yellowwood
SUMMARY:Azure Database for PostgreSQL Technical Overview (Donovan White)
URL:https://postgresconf.io/conferences/SouthAfrica2018/program/proposals/8
 83
END:VEVENT
BEGIN:VEVENT
DTSTAMP:20260420T113522Z
UID:ff595dfe-598d-4053-b13b-7a7b7c2290ab
DTSTART:20181009T130000Z
DTEND:20181009T134000Z
LOCATION:Baobab
SUMMARY:PostgreSQL replication by example (Kobus Wolvaardt)
URL:https://postgresconf.io/conferences/SouthAfrica2018/program/proposals/7
 75
END:VEVENT
BEGIN:VEVENT
DTSTAMP:20260420T113522Z
UID:d6870543-dbe5-4bef-814e-bd6b92a8c3c3
DTSTART:20181009T130000Z
DTEND:20181009T134000Z
LOCATION:Cedarwood
SUMMARY:JSONB functions\, operators and use cases (Jacques Combrink)
URL:https://postgresconf.io/conferences/SouthAfrica2018/program/proposals/7
 90
END:VEVENT
BEGIN:VEVENT
DTSTAMP:20260420T113522Z
UID:bcd62a3d-61e0-41b0-8499-de9fc0cf6ee7
DTSTART:20181009T135000Z
DTEND:20181009T143000Z
LOCATION:Baobab
SUMMARY:Migrating away from Oracle to PostgreSQL (Abhinav Singh)
URL:https://postgresconf.io/conferences/SouthAfrica2018/program/proposals/8
 81
END:VEVENT
BEGIN:VEVENT
DTSTAMP:20260420T113522Z
UID:d990b18d-5870-4c6a-8cd8-ee69f8c88736
DTSTART:20181009T135000Z
DTEND:20181009T143000Z
LOCATION:Cedarwood
SUMMARY:Asynchronous code with PostgreSQL (Christo Goosen)
URL:https://postgresconf.io/conferences/SouthAfrica2018/program/proposals/7
 73
END:VEVENT
BEGIN:VEVENT
DTSTAMP:20260420T113522Z
UID:39e735b1-70d3-411c-8888-35b99b75c368
DTSTART:20181009T144000Z
DTEND:20181009T151000Z
LOCATION:Baobab
SUMMARY:Panel discussion and Closing
URL:https://postgresconf.io/conferences/SouthAfrica2018/program/proposals/7
 99
END:VEVENT
BEGIN:VEVENT
DTSTAMP:20260420T113522Z
UID:c20d84aa-4a58-4657-9496-46058bf2c273
DTSTART:20181010T060000Z
DTEND:20181010T070000Z
LOCATION:Courtyard/Boma
SUMMARY:Registration
URL:https://postgresconf.io/conferences/SouthAfrica2018/program/proposals/8
 29
END:VEVENT
BEGIN:VEVENT
DTSTAMP:20260420T113522Z
UID:ee692d16-05f9-4bd3-a8ca-eb1c27784805
DTSTART:20181010T070000Z
DTEND:20181010T100000Z
LOCATION:Cypress
SUMMARY:ZFS in practice for SysAdmin & DBA (Hendrik Visage)
URL:https://postgresconf.io/conferences/SouthAfrica2018/program/proposals/8
 32
END:VEVENT
BEGIN:VEVENT
DTSTAMP:20260420T113522Z
UID:ea7675df-68a1-4069-940d-a45b321bca24
DTSTART:20181010T100000Z
DTEND:20181010T110000Z
LOCATION:Courtyard/Boma
SUMMARY:Lunch
URL:https://postgresconf.io/conferences/SouthAfrica2018/program/proposals/8
 28
END:VEVENT
BEGIN:VEVENT
DTSTAMP:20260420T113522Z
UID:a1d895ee-3750-4bed-91f6-9fd5681552ab
DTSTART:20181010T110000Z
DTEND:20181010T140000Z
LOCATION:Cypress
SUMMARY:Performance tuning PostgreSQL (Malcolm McLean and Kobus Wolvaardt)
URL:https://postgresconf.io/conferences/SouthAfrica2018/program/proposals/7
 68
END:VEVENT
END:VCALENDAR
