BEGIN:VCALENDAR
VERSION:2.0
PRODID:South Africa 2021
CALSCALE:GREGORIAN
BEGIN:VEVENT
DTSTAMP:20260420T141738Z
UID:fa9a4898-b77f-4c37-a438-4adf395da8bc
DTSTART:20211005T070000Z
DTEND:20211005T071000Z
LOCATION:Online
SUMMARY:Opening & Welcome
URL:https://postgresconf.io/conferences/SouthAfrica2021/program/proposals/1
 854
END:VEVENT
BEGIN:VEVENT
DTSTAMP:20260420T141738Z
UID:7bf78b9b-bad4-4c63-baec-a7a894a19bd6
DTSTART:20211005T072000Z
DTEND:20211005T080000Z
LOCATION:Online
SUMMARY:Riding the second wave (Jan Karremans)
URL:https://postgresconf.io/conferences/SouthAfrica2021/program/proposals/1
 801
END:VEVENT
BEGIN:VEVENT
DTSTAMP:20260420T141738Z
UID:3308666e-2c68-4279-83cc-a962bc26cc4a
DTSTART:20211005T081000Z
DTEND:20211005T085000Z
LOCATION:Online
SUMMARY:Reducing Costs and Improving Performance With Data Modeling in Post
 gres (Charly Batista)
URL:https://postgresconf.io/conferences/SouthAfrica2021/program/proposals/1
 808
END:VEVENT
BEGIN:VEVENT
DTSTAMP:20260420T141738Z
UID:cd87f40a-d29a-416c-982e-28dce0fd659d
DTSTART:20211005T090000Z
DTEND:20211005T094000Z
LOCATION:Online
SUMMARY:pg_timetable: PostgreSQL scheduling done right (Hans-Jürgen Schön
 ig)
URL:https://postgresconf.io/conferences/SouthAfrica2021/program/proposals/1
 830
END:VEVENT
BEGIN:VEVENT
DTSTAMP:20260420T141738Z
UID:063ca9fd-9f43-4c29-a28d-1b2ccf9d7b12
DTSTART:20211005T095000Z
DTEND:20211005T103000Z
LOCATION:Online
SUMMARY:Modularizing computation via Common Table Expressions (CTEs) (Karel
  van der Walt)
URL:https://postgresconf.io/conferences/SouthAfrica2021/program/proposals/1
 823
END:VEVENT
BEGIN:VEVENT
DTSTAMP:20260420T141738Z
UID:a64c1053-7707-401f-b1f2-a2c796f2bb14
DTSTART:20211005T103000Z
DTEND:20211005T113000Z
LOCATION:Online
SUMMARY:Lunch break
URL:https://postgresconf.io/conferences/SouthAfrica2021/program/proposals/1
 853
END:VEVENT
BEGIN:VEVENT
DTSTAMP:20260420T141738Z
UID:358a1f3a-644b-46a3-9593-7335ae00af32
DTSTART:20211005T113000Z
DTEND:20211005T121000Z
LOCATION:Online
SUMMARY:When it all GOes right (Pavlo Golub)
URL:https://postgresconf.io/conferences/SouthAfrica2021/program/proposals/1
 833
END:VEVENT
BEGIN:VEVENT
DTSTAMP:20260420T141738Z
UID:21bea3d0-48e0-4818-b2f0-25d823a6467c
DTSTART:20211005T122000Z
DTEND:20211005T130000Z
LOCATION:Online
SUMMARY:Benefit of adopting Kubernetes for self-hosted PostgreSQL stack (Ri
 zky Maulana Nugraha)
URL:https://postgresconf.io/conferences/SouthAfrica2021/program/proposals/1
 846
END:VEVENT
BEGIN:VEVENT
DTSTAMP:20260420T141738Z
UID:47837ce0-2f0e-48ef-a227-280bab1d9252
DTSTART:20211005T131000Z
DTEND:20211005T135000Z
LOCATION:Online
SUMMARY:Routing with PostGIS and OpenStreetMap (Ryan Lambert)
URL:https://postgresconf.io/conferences/SouthAfrica2021/program/proposals/1
 852
END:VEVENT
BEGIN:VEVENT
DTSTAMP:20260420T141738Z
UID:d6c11554-b9ea-4e8c-9c27-72b801201074
DTSTART:20211005T135000Z
DTEND:20211005T140000Z
LOCATION:Online
SUMMARY:Closing
URL:https://postgresconf.io/conferences/SouthAfrica2021/program/proposals/1
 855
END:VEVENT
END:VCALENDAR
