BEGIN:VCALENDAR
VERSION:2.0
PRODID:PgSaturday: Dallas 2025
CALSCALE:GREGORIAN
BEGIN:VEVENT
DTSTAMP:20260420T125832Z
UID:cab3d62a-ef2d-444e-aa9e-3b9e867b7fc8
DTSTART:20250405T141000Z
DTEND:20250405T143000Z
LOCATION:73
SUMMARY:PgSaturday Dallas Launch! (PostgresConf Organizers)
URL:https://postgresconf.io/conferences/pgsaturday_dallas_2025/program/prop
 osals/2625
END:VEVENT
BEGIN:VEVENT
DTSTAMP:20260420T125832Z
UID:af486d3e-021a-4bdd-a299-c38ff77e1656
DTSTART:20250405T144000Z
DTEND:20250405T153000Z
LOCATION:73
SUMMARY:Azure PostgreSQL Flexible Server (Luciano Moreira and Paula Berengu
 el)
URL:https://postgresconf.io/conferences/pgsaturday_dallas_2025/program/prop
 osals/2618
END:VEVENT
BEGIN:VEVENT
DTSTAMP:20260420T125832Z
UID:d8fca48b-cb9d-4f85-ae0c-d72954e57010
DTSTART:20250405T154000Z
DTEND:20250405T160000Z
LOCATION:73
SUMMARY:Pub/Sub for Tables: A New Approach to PostgreSQL Data Integration (
  Shubham Gupta)
URL:https://postgresconf.io/conferences/pgsaturday_dallas_2025/program/prop
 osals/2626
END:VEVENT
BEGIN:VEVENT
DTSTAMP:20260420T125832Z
UID:2f29f156-c1a1-4b3c-9d79-9b2f7cdce94f
DTSTART:20250405T161000Z
DTEND:20250405T170000Z
LOCATION:73
SUMMARY:Just use postgres: why I built an enterprise scheduler in a stored 
 procedure (Merlin Moncure)
URL:https://postgresconf.io/conferences/pgsaturday_dallas_2025/program/prop
 osals/2623
END:VEVENT
BEGIN:VEVENT
DTSTAMP:20260420T125832Z
UID:bffbd63b-657f-4a10-8a23-79db42f12658
DTSTART:20250405T171000Z
DTEND:20250405T173000Z
LOCATION:73
SUMMARY:Revolutionizing Backups (Veena Popuri)
URL:https://postgresconf.io/conferences/pgsaturday_dallas_2025/program/prop
 osals/2570
END:VEVENT
BEGIN:VEVENT
DTSTAMP:20260420T125832Z
UID:6efa507d-1327-48ff-a1d6-c3cc5578cd80
DTSTART:20250405T173000Z
DTEND:20250405T190000Z
LOCATION:73
SUMMARY:Lunch
URL:https://postgresconf.io/conferences/pgsaturday_dallas_2025/program/prop
 osals/2628
END:VEVENT
BEGIN:VEVENT
DTSTAMP:20260420T125832Z
UID:e59f3ffa-6f43-40fb-b3f9-dd76cd34f546
DTSTART:20250405T190000Z
DTEND:20250405T195000Z
LOCATION:73
SUMMARY:PostgreSQL 17 & 18: The Ground-Breaking Features You Can't Ignore (
 Vivek Singh)
URL:https://postgresconf.io/conferences/pgsaturday_dallas_2025/program/prop
 osals/2583
END:VEVENT
BEGIN:VEVENT
DTSTAMP:20260420T125832Z
UID:3c081f45-310a-40b5-ac67-0db1576988d1
DTSTART:20250405T200000Z
DTEND:20250405T205000Z
LOCATION:73
SUMMARY:Why PostgreSQL Isn't Utilizing Indexes: Diagnosing and Solving Perf
 ormance Issues (Chandra Pathivada)
URL:https://postgresconf.io/conferences/pgsaturday_dallas_2025/program/prop
 osals/2576
END:VEVENT
BEGIN:VEVENT
DTSTAMP:20260420T125832Z
UID:ff0bde90-b5ed-4bd5-96ac-020cc296bf9b
DTSTART:20250405T210000Z
DTEND:20250405T212000Z
LOCATION:73
SUMMARY:Exploring Multi-Tenant Architectures in PostgreSQL: Scalable Soluti
 ons for SaaS Applications (Krishna Sarabu)
URL:https://postgresconf.io/conferences/pgsaturday_dallas_2025/program/prop
 osals/2482
END:VEVENT
BEGIN:VEVENT
DTSTAMP:20260420T125832Z
UID:abea26ed-9f08-41a8-8682-2a555cfd51ff
DTSTART:20250405T213000Z
DTEND:20250405T222000Z
LOCATION:73
SUMMARY:Seamless Transition: Migrating from Commercial to Open Source Datab
 ases (Minesh Chande and Alvaro Costa-Neto)
URL:https://postgresconf.io/conferences/pgsaturday_dallas_2025/program/prop
 osals/2593
END:VEVENT
END:VCALENDAR
