BEGIN:VCALENDAR
VERSION:2.0
PRODID:Postgres Webinar Series
CALSCALE:GREGORIAN
BEGIN:VEVENT
DTSTAMP:20260420T091717Z
UID:d4246576-0802-4eee-a36a-315ef563694a
DTSTART:20200106T110000Z
DTEND:20200106T120000Z
LOCATION:Online
SUMMARY:Getting Started with PostGIS and OpenStreetMap (Ryan Lambert)
URL:https://postgresconf.io/conferences/postgres-webinar-series/program/pro
 posals/1412
END:VEVENT
BEGIN:VEVENT
DTSTAMP:20260420T091717Z
UID:baee484a-680f-41b7-bbcb-2667bdaf66d5
DTSTART:20200114T110000Z
DTEND:20200114T120000Z
LOCATION:Online
SUMMARY:Loading PostGIS with osm2pgsql (Ryan Lambert)
URL:https://postgresconf.io/conferences/postgres-webinar-series/program/pro
 posals/1548
END:VEVENT
BEGIN:VEVENT
DTSTAMP:20260420T091717Z
UID:233a4ff1-5c45-4a06-aea7-d038b1deb845
DTSTART:20200128T110000Z
DTEND:20200128T120000Z
LOCATION:Online
SUMMARY:Exploring OpenStreetMap from PostGIS:  Tools and Queries (Ryan Lam
 bert)
URL:https://postgresconf.io/conferences/postgres-webinar-series/program/pro
 posals/1547
END:VEVENT
BEGIN:VEVENT
DTSTAMP:20260420T091717Z
UID:836104d2-9aef-4afa-ad5c-bd5f82bb0a63
DTSTART:20200211T110000Z
DTEND:20200211T120000Z
LOCATION:Online
SUMMARY:PostGIS Spatial Queries and Performance Tuning (Ryan Lambert)
URL:https://postgresconf.io/conferences/postgres-webinar-series/program/pro
 posals/1549
END:VEVENT
BEGIN:VEVENT
DTSTAMP:20260420T091717Z
UID:89248d16-dcdb-447e-ae8b-c3394fad33be
DTSTART:20200212T100000Z
DTEND:20200212T110000Z
LOCATION:Online
SUMMARY:Enterprise Authentication and Connection Pooling ( Erik Brandsberg)
URL:https://postgresconf.io/conferences/postgres-webinar-series/program/pro
 posals/1552
END:VEVENT
BEGIN:VEVENT
DTSTAMP:20260420T091717Z
UID:f1e5a5d9-2fa7-49d1-9aa4-fca6918db7c0
DTSTART:20200219T110000Z
DTEND:20200219T120000Z
LOCATION:Online
SUMMARY:FPGA: an Easier Path to Parallelism for Postgres? (Andrew Ellicott 
 and Sebastian Dressler)
URL:https://postgresconf.io/conferences/postgres-webinar-series/program/pro
 posals/1555
END:VEVENT
BEGIN:VEVENT
DTSTAMP:20260420T091717Z
UID:da09884d-14e5-4d2b-91b9-18b13dfd6bf3
DTSTART:20200226T110000Z
DTEND:20200226T120000Z
LOCATION:Online
SUMMARY:PostgreSQL 12 and PostGIS 3.0 (Ryan Lambert)
URL:https://postgresconf.io/conferences/postgres-webinar-series/program/pro
 posals/1550
END:VEVENT
BEGIN:VEVENT
DTSTAMP:20260420T091717Z
UID:77242eeb-e963-4000-9bc8-ba828b8caf42
DTSTART:20200303T110000Z
DTEND:20200303T120000Z
LOCATION:Online
SUMMARY:Advanced Operations and Features (Ryan Lambert)
URL:https://postgresconf.io/conferences/postgres-webinar-series/program/pro
 posals/1551
END:VEVENT
BEGIN:VEVENT
DTSTAMP:20260420T091717Z
UID:bdc71505-725d-4df5-a79d-7cf81a69c800
DTSTART:20200415T100000Z
DTEND:20200415T110000Z
LOCATION:Online
SUMMARY:The Architecture of a Geo-Distributed SQL Database (Jim Walker)
URL:https://postgresconf.io/conferences/postgres-webinar-series/program/pro
 posals/1580
END:VEVENT
BEGIN:VEVENT
DTSTAMP:20260420T091717Z
UID:3564f7d8-e266-4a19-80dc-c319b956ad08
DTSTART:20200429T100000Z
DTEND:20200429T110000Z
LOCATION:Online
SUMMARY:How to Deploy a SQL Database on Kubernetes (Chris Casano)
URL:https://postgresconf.io/conferences/postgres-webinar-series/program/pro
 posals/1581
END:VEVENT
BEGIN:VEVENT
DTSTAMP:20260420T091717Z
UID:981b4c84-767d-4467-addc-988f7d8a777e
DTSTART:20200506T190000Z
DTEND:20200506T200000Z
LOCATION:Online
SUMMARY: NORM - Bridging the Gap Between Applications and Databases (Henrie
 tta Dombrovskaya)
URL:https://postgresconf.io/conferences/postgres-webinar-series/program/pro
 posals/1585
END:VEVENT
BEGIN:VEVENT
DTSTAMP:20260420T091717Z
UID:c291ea38-1ea3-4bc1-b460-9ff665726e45
DTSTART:20200507T100000Z
DTEND:20200507T110000Z
LOCATION:Online
SUMMARY:How to Move Data from Oracle to Postgres in Near-Real Time (Joshua 
 D. Drake and Erez Alsheich)
URL:https://postgresconf.io/conferences/postgres-webinar-series/program/pro
 posals/1400
END:VEVENT
BEGIN:VEVENT
DTSTAMP:20260420T091717Z
UID:536618a0-66b1-40b6-a2a9-1e23a68049af
DTSTART:20200512T100000Z
DTEND:20200512T110000Z
LOCATION:Online
SUMMARY:YugabyteDB: a distributed PostgreSQL database (Bryn Llewellyn)
URL:https://postgresconf.io/conferences/postgres-webinar-series/program/pro
 posals/1584
END:VEVENT
BEGIN:VEVENT
DTSTAMP:20260420T091717Z
UID:4b6657e4-d716-4405-b05b-c7b809dc26cb
DTSTART:20200521T110000Z
DTEND:20200521T120000Z
LOCATION:Online
SUMMARY:A Deep Dive into PostgreSQL Indexing (Dr. Ibrar Ahmed)
URL:https://postgresconf.io/conferences/postgres-webinar-series/program/pro
 posals/1587
END:VEVENT
BEGIN:VEVENT
DTSTAMP:20260420T091717Z
UID:30cb6cf3-fa0f-4a2f-9c89-929fc61fa823
DTSTART:20200602T100000Z
DTEND:20200602T110000Z
LOCATION:Online
SUMMARY:How to Move Data from Oracle to Postgres in Near-Real Time (Joshua 
 Drake and Alton Dinsmore)
URL:https://postgresconf.io/conferences/postgres-webinar-series/program/pro
 posals/1583
END:VEVENT
BEGIN:VEVENT
DTSTAMP:20260420T091717Z
UID:5010a40d-13a6-436b-b11d-fdd2545e4b79
DTSTART:20200609T110000Z
DTEND:20200609T120000Z
LOCATION:Online
SUMMARY:Community vs. Enterprise Open Source – Which is Right for Your Bu
 siness? (Justin Reock)
URL:https://postgresconf.io/conferences/postgres-webinar-series/program/pro
 posals/1586
END:VEVENT
BEGIN:VEVENT
DTSTAMP:20260420T091717Z
UID:b0e5dd6d-a3d8-48dc-9238-1de437207af7
DTSTART:20200610T110000Z
DTEND:20200610T120000Z
LOCATION:Online
SUMMARY:Bring Compression to Postgres at Zero Cost of Performance (Tong Zha
 ng)
URL:https://postgresconf.io/conferences/postgres-webinar-series/program/pro
 posals/1590
END:VEVENT
BEGIN:VEVENT
DTSTAMP:20260420T091717Z
UID:5a06a720-3ded-45ec-a79b-313c4b576939
DTSTART:20200616T110000Z
DTEND:20200616T120000Z
LOCATION:Online
SUMMARY:Mostly mistaken and ignored PostgreSQL parameters while optimizing 
 a PostgreSQL database (Avinash Vallarapu)
URL:https://postgresconf.io/conferences/postgres-webinar-series/program/pro
 posals/1588
END:VEVENT
BEGIN:VEVENT
DTSTAMP:20260420T091717Z
UID:df4dd9e8-b38d-4b94-997f-8c5fd07e02bc
DTSTART:20200617T110000Z
DTEND:20200617T120000Z
LOCATION:Online
SUMMARY:Postgres vs. MongoDB for real-time machine learning on wind turbine
  data (Luis Manuel Carril and Michael Tegtmeier)
URL:https://postgresconf.io/conferences/postgres-webinar-series/program/pro
 posals/1591
END:VEVENT
BEGIN:VEVENT
DTSTAMP:20260420T091717Z
UID:e6406788-ed23-49fa-8ce9-555e5056044d
DTSTART:20200623T100000Z
DTEND:20200623T110000Z
LOCATION:Online
SUMMARY:Turning PostgreSQL into a Cloud Native Data Service (Julian Fischer
 )
URL:https://postgresconf.io/conferences/postgres-webinar-series/program/pro
 posals/1594
END:VEVENT
BEGIN:VEVENT
DTSTAMP:20260420T091717Z
UID:9cb86367-9cc7-4d24-8689-de0f1e4dbb3e
DTSTART:20200625T100000Z
DTEND:20200625T110000Z
LOCATION:Online
SUMMARY:Scaling PostgreSQL: Never Shard Again and Gain Effortless Scale (Ji
 m Walker and Chris Casano)
URL:https://postgresconf.io/conferences/postgres-webinar-series/program/pro
 posals/1592
END:VEVENT
BEGIN:VEVENT
DTSTAMP:20260420T091717Z
UID:ea28814d-7611-4234-aa57-6b8e2658b4e7
DTSTART:20200630T110000Z
DTEND:20200630T120000Z
LOCATION:Online
SUMMARY:Deeper Understanding of PostgreSQL Execution Plan: At plan time and
  run time (Jobin Augustine)
URL:https://postgresconf.io/conferences/postgres-webinar-series/program/pro
 posals/1589
END:VEVENT
BEGIN:VEVENT
DTSTAMP:20260420T091718Z
UID:b66a7720-d5fe-4f49-afd5-6fa0251762e2
DTSTART:20200707T100000Z
DTEND:20200707T110000Z
LOCATION:Online
SUMMARY:A Deep Dive into PostgreSQL Indexing (Dr. Ibrar Ahmed)
URL:https://postgresconf.io/conferences/postgres-webinar-series/program/pro
 posals/1593
END:VEVENT
BEGIN:VEVENT
DTSTAMP:20260420T091718Z
UID:92066612-bc9d-4948-9e42-6d2f970f25c7
DTSTART:20200715T100000Z
DTEND:20200715T110000Z
LOCATION:Online
SUMMARY:Working with JSON Data in PostgreSQL vs. MongoDB (dharshan rangegow
 da)
URL:https://postgresconf.io/conferences/postgres-webinar-series/program/pro
 posals/1582
END:VEVENT
BEGIN:VEVENT
DTSTAMP:20260420T091718Z
UID:dfcea208-4770-4e0f-b452-2b2832ef11d4
DTSTART:20200729T100000Z
DTEND:20200729T110000Z
LOCATION:Online
SUMMARY:Debugging with PostgreSQL (John Ashmead)
URL:https://postgresconf.io/conferences/postgres-webinar-series/program/pro
 posals/1595
END:VEVENT
BEGIN:VEVENT
DTSTAMP:20260420T091718Z
UID:ceb4bb93-d89b-4b22-b3b9-9a1be8ad8400
DTSTART:20200909T100000Z
DTEND:20200909T110000Z
LOCATION:Online
SUMMARY:PostgreSQL Parallelism Do’s and Don’ts (Sebastian Dressler)
URL:https://postgresconf.io/conferences/postgres-webinar-series/program/pro
 posals/1599
END:VEVENT
BEGIN:VEVENT
DTSTAMP:20260420T091718Z
UID:a6f18aeb-1e61-4fca-a441-2586a77a128a
DTSTART:20200915T100000Z
DTEND:20200915T110000Z
LOCATION:Online
SUMMARY:Monitoring Strategy Considerations (David Orlandi)
URL:https://postgresconf.io/conferences/postgres-webinar-series/program/pro
 posals/1603
END:VEVENT
BEGIN:VEVENT
DTSTAMP:20260420T091718Z
UID:c32aa335-6d5b-4be8-a101-bd9e522b824c
DTSTART:20200916T100000Z
DTEND:20200916T110000Z
LOCATION:Online
SUMMARY:How To Query Against Multiple Postgres Instances As If They're One 
 Server Using Starburst Presto (Randy Chertkow)
URL:https://postgresconf.io/conferences/postgres-webinar-series/program/pro
 posals/1604
END:VEVENT
BEGIN:VEVENT
DTSTAMP:20260420T091718Z
UID:a6136e34-d199-4c6e-8743-3de3a1f8e4b4
DTSTART:20200929T100000Z
DTEND:20200929T110000Z
LOCATION:Online
SUMMARY:Introduction to PostgreSQL ColumnStore Indexes (Sebastian Dressler)
URL:https://postgresconf.io/conferences/postgres-webinar-series/program/pro
 posals/1600
END:VEVENT
BEGIN:VEVENT
DTSTAMP:20260420T091718Z
UID:b93643bd-4361-42e0-a32f-c659a20df5c3
DTSTART:20200930T100000Z
DTEND:20200930T110000Z
LOCATION:Online
SUMMARY:Live Demo: Creating A Single Point Of Access To Multiple Postgres S
 ervers Using Starburst Presto (Randy Chertkow)
URL:https://postgresconf.io/conferences/postgres-webinar-series/program/pro
 posals/1605
END:VEVENT
BEGIN:VEVENT
DTSTAMP:20260420T091718Z
UID:bdf9b828-c531-4695-bdfa-595384170de2
DTSTART:20201006T090000Z
DTEND:20201006T100000Z
LOCATION:Online
SUMMARY:Data processing more than billion rows per second (Kohei KaiGai)
URL:https://postgresconf.io/conferences/postgres-webinar-series/program/pro
 posals/1611
END:VEVENT
BEGIN:VEVENT
DTSTAMP:20260420T091718Z
UID:f1206708-73ad-4f56-bfd5-ec865a4fbe5d
DTSTART:20201007T100000Z
DTEND:20201007T110000Z
LOCATION:Online
SUMMARY:Database Isolation Levels\, Data Issues and Global Transaction Cons
 istency (Jim Walker and Chris Casano)
URL:https://postgresconf.io/conferences/postgres-webinar-series/program/pro
 posals/1614
END:VEVENT
BEGIN:VEVENT
DTSTAMP:20260420T091718Z
UID:4aced895-91f1-4ac5-8a6c-ce77f8688e76
DTSTART:20201020T100000Z
DTEND:20201020T110000Z
LOCATION:Online
SUMMARY:PGX:  Build Postgres Extensions with Rust (Eric Ridge)
URL:https://postgresconf.io/conferences/postgres-webinar-series/program/pro
 posals/1613
END:VEVENT
BEGIN:VEVENT
DTSTAMP:20260420T091718Z
UID:3a498365-1bc2-4bea-b386-0a1d95a20481
DTSTART:20201021T100000Z
DTEND:20201021T110000Z
LOCATION:Online
SUMMARY:Using PostgreSQL and Friends for a Street Sweeping Solver Project (
 James E. Marca)
URL:https://postgresconf.io/conferences/postgres-webinar-series/program/pro
 posals/1612
END:VEVENT
BEGIN:VEVENT
DTSTAMP:20260420T091718Z
UID:3c05bb95-75b6-4325-9522-b198441926fc
DTSTART:20201027T100000Z
DTEND:20201027T110000Z
LOCATION:Online
SUMMARY:Logical Replication lessons learned for the Data Warehouse (Pat Wri
 ght)
URL:https://postgresconf.io/conferences/postgres-webinar-series/program/pro
 posals/1609
END:VEVENT
BEGIN:VEVENT
DTSTAMP:20260420T091718Z
UID:ff3f6e7e-61a1-431d-b6fb-8c3d13339501
DTSTART:20201028T100000Z
DTEND:20201028T110000Z
LOCATION:Online
SUMMARY:How to build local communities: a meetup perspective (Henrietta Dom
 brovskaya)
URL:https://postgresconf.io/conferences/postgres-webinar-series/program/pro
 posals/1616
END:VEVENT
BEGIN:VEVENT
DTSTAMP:20260420T091718Z
UID:195bac78-7fa3-4645-a39e-a18334f7157e
DTSTART:20201105T100000Z
DTEND:20201105T110000Z
LOCATION:Online
SUMMARY:All about PostgreSQL Security (Dr. Ibrar Ahmed)
URL:https://postgresconf.io/conferences/postgres-webinar-series/program/pro
 posals/1654
END:VEVENT
BEGIN:VEVENT
DTSTAMP:20260420T091718Z
UID:d4c963b5-a535-4346-bd34-7ec1cd01a606
DTSTART:20201110T180000Z
DTEND:20201110T190000Z
LOCATION:Online
SUMMARY:CYPEX: Revolutionizing PostgreSQL Application Development (Hans-Jü
 rgen Schönig)
URL:https://postgresconf.io/conferences/postgres-webinar-series/program/pro
 posals/1615
END:VEVENT
END:VCALENDAR
