BEGIN:VCALENDAR
VERSION:2.0
PRODID:Postgres Conference: 2026
CALSCALE:GREGORIAN
BEGIN:VEVENT
DTSTAMP:20260420T040607Z
UID:52cda705-dffd-4659-b21c-b36281acb80a
DTSTART:20260421T153000Z
DTEND:20260421T223000Z
LOCATION:Almaden Foyer
SUMMARY:Registration
URL:https://postgresconf.io/conferences/postgresconf_2026/program/proposals
 /2829
END:VEVENT
BEGIN:VEVENT
DTSTAMP:20260420T040607Z
UID:4d46ab0a-4e53-4aaf-9959-080bf91e32bc
DTSTART:20260421T160000Z
DTEND:20260421T165000Z
LOCATION:San Pedro (Level C)
SUMMARY:Building Real-Time\, Data-Aware Intelligence with Postgres & Model 
 Context Protocol (MCP) (Yogesh Jain)
URL:https://postgresconf.io/conferences/postgresconf_2026/program/proposals
 /2728
END:VEVENT
BEGIN:VEVENT
DTSTAMP:20260420T040607Z
UID:a8399a5d-20a3-4297-9207-c8f9702f5cb6
DTSTART:20260421T160000Z
DTEND:20260421T162000Z
LOCATION:Winchester 2
SUMMARY:Running PostgreSQL in Hybrid Data Architectures (Amit  Parikh and P
 hil Rodas)
URL:https://postgresconf.io/conferences/postgresconf_2026/program/proposals
 /2778
END:VEVENT
BEGIN:VEVENT
DTSTAMP:20260420T040607Z
UID:ec391ff2-211e-4036-9cb3-a4d07a8a261b
DTSTART:20260421T160000Z
DTEND:20260421T165000Z
LOCATION:Winchester
SUMMARY:The power of mentorship (Jim Mlodgenski)
URL:https://postgresconf.io/conferences/postgresconf_2026/program/proposals
 /2821
END:VEVENT
BEGIN:VEVENT
DTSTAMP:20260420T040607Z
UID:8744baae-4357-4b89-9dca-fb9ec06d3b80
DTSTART:20260421T160000Z
DTEND:20260421T165000Z
LOCATION:Santa Clara (Level C)
SUMMARY:Autonomous PostgreSQL: When AI Agents Become Your DBA (Shaily Porwa
 l and Vivek Singh)
URL:https://postgresconf.io/conferences/postgresconf_2026/program/proposals
 /2767
END:VEVENT
BEGIN:VEVENT
DTSTAMP:20260420T040607Z
UID:34d0eb20-b81e-4903-82da-aa7aa6b93d5e
DTSTART:20260421T163000Z
DTEND:20260421T165000Z
LOCATION:Winchester 2
SUMMARY:Materialized Views: Performance Shortcut or Operational Trap? (Yu L
 ung Law and Christopher Hong)
URL:https://postgresconf.io/conferences/postgresconf_2026/program/proposals
 /2749
END:VEVENT
BEGIN:VEVENT
DTSTAMP:20260420T040607Z
UID:85760a17-0ef9-4ab0-a20b-a907e37f0e21
DTSTART:20260421T170000Z
DTEND:20260421T175000Z
LOCATION:Winchester
SUMMARY:Implementing Transparent Data Encryption At Rest (Robert Bernier)
URL:https://postgresconf.io/conferences/postgresconf_2026/program/proposals
 /2678
END:VEVENT
BEGIN:VEVENT
DTSTAMP:20260420T040607Z
UID:53e94bf8-99b0-439f-9ad9-6ec6cfdfafe7
DTSTART:20260421T170000Z
DTEND:20260421T175000Z
LOCATION:Winchester 2
SUMMARY:RDS Maintenance: Strategies for Patching and Version Upgrades (Kare
 n Ng and Abhimanyu Tomar)
URL:https://postgresconf.io/conferences/postgresconf_2026/program/proposals
 /2756
END:VEVENT
BEGIN:VEVENT
DTSTAMP:20260420T040607Z
UID:1decc290-aeb7-4550-b4d8-a20739726a78
DTSTART:20260421T170000Z
DTEND:20260421T175000Z
LOCATION:Santa Clara (Level C)
SUMMARY:Elevate your DBA toolset with pg collector (Mohamed Ali)
URL:https://postgresconf.io/conferences/postgresconf_2026/program/proposals
 /2684
END:VEVENT
BEGIN:VEVENT
DTSTAMP:20260420T040607Z
UID:b2db330e-df6c-4ebd-98a1-de9d32f1c61a
DTSTART:20260421T180000Z
DTEND:20260421T182000Z
LOCATION:San Pedro (Level C)
SUMMARY:YMatrix mxvector: How to implement high performance pluggable vecto
 rized executor in PostgreSQL (CC Xiong and Yandong Yao)
URL:https://postgresconf.io/conferences/postgresconf_2026/program/proposals
 /2748
END:VEVENT
BEGIN:VEVENT
DTSTAMP:20260420T040607Z
UID:d14287d4-12d7-4fda-9e2b-7073b39acb7d
DTSTART:20260421T180000Z
DTEND:20260421T182000Z
LOCATION:Winchester 2
SUMMARY:How I took my open source business to a Fortune 500 company (Michae
 l Meskes)
URL:https://postgresconf.io/conferences/postgresconf_2026/program/proposals
 /2698
END:VEVENT
BEGIN:VEVENT
DTSTAMP:20260420T040607Z
UID:0567afcc-d023-4a05-bde6-f47b8e202af6
DTSTART:20260421T180000Z
DTEND:20260421T185000Z
LOCATION:Santa Clara (Level C)
SUMMARY:A benchmark study on the impact of PostgreSQL server parameter tuni
 ng (Luigi Nardi)
URL:https://postgresconf.io/conferences/postgresconf_2026/program/proposals
 /2800
END:VEVENT
BEGIN:VEVENT
DTSTAMP:20260420T040607Z
UID:f1f0f55a-658d-4534-9f69-37017c3371ea
DTSTART:20260421T180000Z
DTEND:20260421T182000Z
LOCATION:Winchester
SUMMARY:Vector Database Performance Challenges\, A CaseStudy (Robert Bernie
 r)
URL:https://postgresconf.io/conferences/postgresconf_2026/program/proposals
 /2680
END:VEVENT
BEGIN:VEVENT
DTSTAMP:20260420T040607Z
UID:4a737a3f-79e8-489f-90c5-01f933eda12f
DTSTART:20260421T183000Z
DTEND:20260421T185000Z
LOCATION:Winchester
SUMMARY:Rescued Draft Horses (Dave Stokes)
URL:https://postgresconf.io/conferences/postgresconf_2026/program/proposals
 /2823
END:VEVENT
BEGIN:VEVENT
DTSTAMP:20260420T040607Z
UID:7c269573-1a99-45c3-9320-db4411046890
DTSTART:20260421T183000Z
DTEND:20260421T185000Z
LOCATION:San Pedro (Level C)
SUMMARY:Debezium and PostgreSQL in Action (Velu Natarajan)
URL:https://postgresconf.io/conferences/postgresconf_2026/program/proposals
 /2774
END:VEVENT
BEGIN:VEVENT
DTSTAMP:20260420T040607Z
UID:50ec451a-6af4-4744-bd3b-45981ccd8bcf
DTSTART:20260421T183000Z
DTEND:20260421T184000Z
LOCATION:Winchester 2
SUMMARY:How life changes after an exit (Michael Meskes)
URL:https://postgresconf.io/conferences/postgresconf_2026/program/proposals
 /2699
END:VEVENT
BEGIN:VEVENT
DTSTAMP:20260420T040607Z
UID:78c0485e-ed2f-4440-8304-d633f3fb00aa
DTSTART:20260421T190000Z
DTEND:20260421T200000Z
LOCATION:Patio / Market (Outside Restaurant)
SUMMARY:Lunch
URL:https://postgresconf.io/conferences/postgresconf_2026/program/proposals
 /2832
END:VEVENT
BEGIN:VEVENT
DTSTAMP:20260420T040607Z
UID:1ad5c0ad-fd86-4ef1-b894-bdaa93c3d2e6
DTSTART:20260421T200000Z
DTEND:20260421T205000Z
LOCATION:Winchester
SUMMARY:What Can An AI Assistant Do For You? (Dave Stokes)
URL:https://postgresconf.io/conferences/postgresconf_2026/program/proposals
 /2683
END:VEVENT
BEGIN:VEVENT
DTSTAMP:20260420T040607Z
UID:177ae3cd-e733-4a9e-a94b-6124a3073c9a
DTSTART:20260421T200000Z
DTEND:20260421T205000Z
LOCATION:Winchester 2
SUMMARY:Measuring shared_buffers Behavior on Large-Memory PostgreSQL System
 s (Greg Dostatni)
URL:https://postgresconf.io/conferences/postgresconf_2026/program/proposals
 /2740
END:VEVENT
BEGIN:VEVENT
DTSTAMP:20260420T040607Z
UID:cd6d7bce-7a4b-4425-9115-36f1cb992638
DTSTART:20260421T200000Z
DTEND:20260421T202000Z
LOCATION:Santa Clara (Level C)
SUMMARY:We are all the 99th percentile (Richard Crowley)
URL:https://postgresconf.io/conferences/postgresconf_2026/program/proposals
 /2765
END:VEVENT
BEGIN:VEVENT
DTSTAMP:20260420T040607Z
UID:8494fa98-c78b-4dab-8fc7-de14a9edc146
DTSTART:20260421T200000Z
DTEND:20260421T205000Z
LOCATION:San Pedro (Level C)
SUMMARY:The Open Source Approach: Building Production-Ready AI Apps with Po
 stgres (Mike Josephson)
URL:https://postgresconf.io/conferences/postgresconf_2026/program/proposals
 /2787
END:VEVENT
BEGIN:VEVENT
DTSTAMP:20260420T040607Z
UID:b88accf8-275f-4685-aafc-07b1781bf3d4
DTSTART:20260421T200000Z
DTEND:20260421T230000Z
LOCATION:Almaden Ballroom
SUMMARY:Hands-on lab: PostgreSQL Evolved — Smart Data\, Zero Drama (Shane
  Borden and Cody Fincher)
URL:https://postgresconf.io/conferences/postgresconf_2026/program/proposals
 /2842
END:VEVENT
BEGIN:VEVENT
DTSTAMP:20260420T040607Z
UID:2a0dfd87-94d2-43b8-8f30-eb1a08aadf16
DTSTART:20260421T203000Z
DTEND:20260421T205000Z
LOCATION:Santa Clara (Level C)
SUMMARY:PostgreSQL Streaming Model: From Implicit to Explicit  How Domino U
 nlocks Continuous Computing (Yandong Yao and CC Xiong)
URL:https://postgresconf.io/conferences/postgresconf_2026/program/proposals
 /2745
END:VEVENT
BEGIN:VEVENT
DTSTAMP:20260420T040607Z
UID:26d58ab1-762f-4a31-9bee-6b438da615ee
DTSTART:20260421T210000Z
DTEND:20260421T212000Z
LOCATION:San Pedro (Level C)
SUMMARY:From Transactions to Agents: PostgreSQL in Modern AI Applications (
 AMEY BANARSE)
URL:https://postgresconf.io/conferences/postgresconf_2026/program/proposals
 /2762
END:VEVENT
BEGIN:VEVENT
DTSTAMP:20260420T040607Z
UID:2edba156-d62d-4b51-9d7a-4c41aebf71b9
DTSTART:20260421T210000Z
DTEND:20260421T215000Z
LOCATION:Winchester 2
SUMMARY:Elasticsearch-Quality Full-Text Search in Postgres with BM25 (Phili
 ppe Noël)
URL:https://postgresconf.io/conferences/postgresconf_2026/program/proposals
 /2834
END:VEVENT
BEGIN:VEVENT
DTSTAMP:20260420T040607Z
UID:a56cb6a0-37ba-4f6d-97d6-e80448ae93d9
DTSTART:20260421T210000Z
DTEND:20260421T215000Z
LOCATION:Winchester
SUMMARY:Enhancing PostgreSQL Sharding Through Agentic AI: Scalability\, Opt
 imization\, and Autonomous Management (Premnath Jangam and abhinav sagar)
URL:https://postgresconf.io/conferences/postgresconf_2026/program/proposals
 /2785
END:VEVENT
BEGIN:VEVENT
DTSTAMP:20260420T040607Z
UID:5c7f2d80-c9dd-4b62-a858-15d145ee8a77
DTSTART:20260421T210000Z
DTEND:20260421T215000Z
LOCATION:Santa Clara (Level C)
SUMMARY:The Elephant in the Room: Tackling PostgreSQL Major Version Upgrade
 s Head-On (Shaily Porwal and Vivek Singh)
URL:https://postgresconf.io/conferences/postgresconf_2026/program/proposals
 /2766
END:VEVENT
BEGIN:VEVENT
DTSTAMP:20260420T040607Z
UID:a100f24d-d73e-4da0-be6f-2e77f2c44e8e
DTSTART:20260421T213000Z
DTEND:20260421T215000Z
LOCATION:San Pedro (Level C)
SUMMARY:Building Durable Programs with Postgres (Peter Kraft)
URL:https://postgresconf.io/conferences/postgresconf_2026/program/proposals
 /2723
END:VEVENT
BEGIN:VEVENT
DTSTAMP:20260420T040607Z
UID:ef0fc0a7-2938-4d54-8b92-b3a18dbbe0ad
DTSTART:20260421T220000Z
DTEND:20260421T225000Z
LOCATION:Santa Clara (Level C)
SUMMARY:PostgreSQL 18: The Evolution Continues — What’s New This Year (
 Saiprasad  Chakkera)
URL:https://postgresconf.io/conferences/postgresconf_2026/program/proposals
 /2786
END:VEVENT
BEGIN:VEVENT
DTSTAMP:20260420T040607Z
UID:94f6fa6f-c138-4d22-a80e-8fd1f6f7de87
DTSTART:20260421T220000Z
DTEND:20260421T225000Z
LOCATION:San Pedro (Level C)
SUMMARY:Building Agentic AI Applications with PostgreSQL as the Backbone (S
 hayon Sanyal)
URL:https://postgresconf.io/conferences/postgresconf_2026/program/proposals
 /2807
END:VEVENT
BEGIN:VEVENT
DTSTAMP:20260420T040607Z
UID:ac8ec012-958a-41c3-b1b4-83908a048c1b
DTSTART:20260421T220000Z
DTEND:20260421T225000Z
LOCATION:Winchester 2
SUMMARY:Turbocharge Your Postgres: High-Performance Caching and Async Write
 s with Valkey (Roberto Luna Rojas)
URL:https://postgresconf.io/conferences/postgresconf_2026/program/proposals
 /2825
END:VEVENT
BEGIN:VEVENT
DTSTAMP:20260420T040607Z
UID:426c626e-5026-4f42-ac79-5fff9cb41864
DTSTART:20260421T220000Z
DTEND:20260421T225000Z
LOCATION:Winchester
SUMMARY:Mastering PostgreSQL Partitioning: Advanced Questions and Demos (Ry
 an Booz)
URL:https://postgresconf.io/conferences/postgresconf_2026/program/proposals
 /2789
END:VEVENT
BEGIN:VEVENT
DTSTAMP:20260420T040607Z
UID:bef2af3a-be79-413a-8b6b-7722f4374db5
DTSTART:20260421T230000Z
DTEND:20260421T235000Z
LOCATION:Winchester
SUMMARY:Intel® AVX-512 Accelerates PostgreSQL 18 CRC32C Checksums (Eshe Pi
 ckett and Kelly McKeighan)
URL:https://postgresconf.io/conferences/postgresconf_2026/program/proposals
 /2775
END:VEVENT
BEGIN:VEVENT
DTSTAMP:20260420T040607Z
UID:56266d0d-1e16-40b4-9ded-07ae1def7705
DTSTART:20260421T230000Z
DTEND:20260421T235000Z
LOCATION:San Pedro (Level C)
SUMMARY:Beyond Text: Building Multimodal Search with pgvector in PostgreSQL
  (Nasiullha Chaudhari)
URL:https://postgresconf.io/conferences/postgresconf_2026/program/proposals
 /2780
END:VEVENT
BEGIN:VEVENT
DTSTAMP:20260420T040607Z
UID:6bac7f88-af12-43f0-b997-0a0d64617110
DTSTART:20260421T230000Z
DTEND:20260421T235000Z
LOCATION:Santa Clara (Level C)
SUMMARY:Migrating Oracle RAC to PostgreSQL Using Ora2Pg (Sri Ram Phani Kira
 n Kadambari and Vivek Singh)
URL:https://postgresconf.io/conferences/postgresconf_2026/program/proposals
 /2769
END:VEVENT
BEGIN:VEVENT
DTSTAMP:20260420T040607Z
UID:5c14f142-1fdf-452a-8c59-a2ae70eb4106
DTSTART:20260421T230000Z
DTEND:20260421T235000Z
LOCATION:Winchester 2
SUMMARY:Bringing Simplicity and Efficiency to the Agentic Data Layer with D
 istributed PostgreSQL (Andrew Marshall)
URL:https://postgresconf.io/conferences/postgresconf_2026/program/proposals
 /2833
END:VEVENT
BEGIN:VEVENT
DTSTAMP:20260420T040607Z
UID:1964f770-b655-4448-b3e6-d0264b4b91f1
DTSTART:20260422T153000Z
DTEND:20260422T223000Z
LOCATION:Almaden Foyer
SUMMARY:Registration
URL:https://postgresconf.io/conferences/postgresconf_2026/program/proposals
 /2828
END:VEVENT
BEGIN:VEVENT
DTSTAMP:20260420T040607Z
UID:356b9569-f3ab-4f99-86f1-f25fad097bf1
DTSTART:20260422T170000Z
DTEND:20260422T172000Z
LOCATION:Almaden Ballroom
SUMMARY:Serious Beesness: Life Lessons from the Hive (Ryan Booz)
URL:https://postgresconf.io/conferences/postgresconf_2026/program/proposals
 /2819
END:VEVENT
BEGIN:VEVENT
DTSTAMP:20260420T040607Z
UID:b32da8cc-0de2-47f9-8336-cf1789b7cd8c
DTSTART:20260422T173000Z
DTEND:20260422T175000Z
LOCATION:Almaden Ballroom
SUMMARY:When Trust Becomes Infrastructure: Secure-by-Default Postgres for t
 he AI Era (Dan Lynch)
URL:https://postgresconf.io/conferences/postgresconf_2026/program/proposals
 /2812
END:VEVENT
BEGIN:VEVENT
DTSTAMP:20260420T040607Z
UID:0d24a9f2-c5bc-439b-8881-fa6cbd500e4a
DTSTART:20260422T175000Z
DTEND:20260422T181000Z
LOCATION:Almaden Ballroom
SUMMARY:Postgres @ Amazon (Robert Treat)
URL:https://postgresconf.io/conferences/postgresconf_2026/program/proposals
 /2824
END:VEVENT
BEGIN:VEVENT
DTSTAMP:20260420T040607Z
UID:1596f086-ca6e-426a-b3e4-01896a000d53
DTSTART:20260422T181000Z
DTEND:20260422T183000Z
LOCATION:Almaden Ballroom
SUMMARY:Postgres and AI - stronger together! (Vikas Arora and Vishal Bagga)
URL:https://postgresconf.io/conferences/postgresconf_2026/program/proposals
 /2840
END:VEVENT
BEGIN:VEVENT
DTSTAMP:20260420T040607Z
UID:7c4f2d19-6bff-4078-ac87-64c8193e49b5
DTSTART:20260422T183000Z
DTEND:20260422T185000Z
LOCATION:Almaden Ballroom
SUMMARY:The Power of the Pause (Megan Darnell)
URL:https://postgresconf.io/conferences/postgresconf_2026/program/proposals
 /2793
END:VEVENT
BEGIN:VEVENT
DTSTAMP:20260420T040607Z
UID:33b722c7-9bf5-4ee8-afe2-4366ff274530
DTSTART:20260422T190000Z
DTEND:20260422T200000Z
LOCATION:Patio / Market (Outside Restaurant)
SUMMARY:Lunch
URL:https://postgresconf.io/conferences/postgresconf_2026/program/proposals
 /2831
END:VEVENT
BEGIN:VEVENT
DTSTAMP:20260420T040607Z
UID:71e0f33c-f23b-4365-a9e8-0d0fecb5d7e0
DTSTART:20260422T194000Z
DTEND:20260423T000000Z
LOCATION:Santa Clara Foyer (Level C)
SUMMARY:Exhibit Hall Open (PostgresConf Organizers)
URL:https://postgresconf.io/conferences/postgresconf_2026/program/proposals
 /2837
END:VEVENT
BEGIN:VEVENT
DTSTAMP:20260420T040607Z
UID:73e9506d-6f27-4a65-8c49-39342f6731dd
DTSTART:20260422T200000Z
DTEND:20260422T230000Z
LOCATION:Winchester 2
SUMMARY:Running PostgreSQL in Kubernetes with CloudNativePG (Danish and Nee
 lkumar Patel)
URL:https://postgresconf.io/conferences/postgresconf_2026/program/proposals
 /2797
END:VEVENT
BEGIN:VEVENT
DTSTAMP:20260420T040607Z
UID:f160e92c-7414-4f65-910e-dd5a4837ce82
DTSTART:20260422T200000Z
DTEND:20260422T205000Z
LOCATION:Santa Clara (Level C)
SUMMARY:Logging with Purpose: A Framework for Finding and Fixing Slow Queri
 es in Postgres (Ryan Booz)
URL:https://postgresconf.io/conferences/postgresconf_2026/program/proposals
 /2792
END:VEVENT
BEGIN:VEVENT
DTSTAMP:20260420T040607Z
UID:a9f68aac-c860-4139-9cff-e944224c9e05
DTSTART:20260422T200000Z
DTEND:20260422T205000Z
LOCATION:San Pedro (Level C)
SUMMARY:Beyond vectors: Postgres for Production AI Agents (Gwen Shapira)
URL:https://postgresconf.io/conferences/postgresconf_2026/program/proposals
 /2813
END:VEVENT
BEGIN:VEVENT
DTSTAMP:20260420T040607Z
UID:d646679e-b370-4028-9d09-2419e31dc687
DTSTART:20260422T200000Z
DTEND:20260422T205000Z
LOCATION:Winchester
SUMMARY:Model Your Data Before You Move it (Clay  Jackson)
URL:https://postgresconf.io/conferences/postgresconf_2026/program/proposals
 /2670
END:VEVENT
BEGIN:VEVENT
DTSTAMP:20260420T040607Z
UID:7096e34b-d7cc-4074-ab22-c676a489878e
DTSTART:20260422T210000Z
DTEND:20260422T215000Z
LOCATION:Winchester
SUMMARY:Stop Guessing: How to Actually Fix PostgreSQL Performance (Anita Si
 ngh and Ranjan Burman)
URL:https://postgresconf.io/conferences/postgresconf_2026/program/proposals
 /2798
END:VEVENT
BEGIN:VEVENT
DTSTAMP:20260420T040607Z
UID:891aa1bc-1777-4fec-9de7-6899992ca6b4
DTSTART:20260422T210000Z
DTEND:20260422T215000Z
LOCATION:San Pedro (Level C)
SUMMARY:Replacing Oracle’s Advanced Features in PostgreSQL: High Availabi
 lity\, Advanced Functions\, and Extensibility (Sameer Malik and Shayon San
 yal)
URL:https://postgresconf.io/conferences/postgresconf_2026/program/proposals
 /2761
END:VEVENT
BEGIN:VEVENT
DTSTAMP:20260420T040607Z
UID:2a32ec72-aec6-4799-88ea-c281849b3e21
DTSTART:20260422T210000Z
DTEND:20260422T215000Z
LOCATION:Santa Clara (Level C)
SUMMARY:Rewiring for Resilience (Megan Darnell)
URL:https://postgresconf.io/conferences/postgresconf_2026/program/proposals
 /2794
END:VEVENT
BEGIN:VEVENT
DTSTAMP:20260420T040607Z
UID:f008863a-6b92-4159-b9b8-2797267f785f
DTSTART:20260422T220000Z
DTEND:20260422T225000Z
LOCATION:Winchester
SUMMARY:Parallel query is silently stealing your CPU (Scott Mead)
URL:https://postgresconf.io/conferences/postgresconf_2026/program/proposals
 /2759
END:VEVENT
BEGIN:VEVENT
DTSTAMP:20260420T040607Z
UID:0c30886e-5952-4ded-b4db-e1b733d22a74
DTSTART:20260422T220000Z
DTEND:20260422T225000Z
LOCATION:Santa Clara (Level C)
SUMMARY:Building Multi Master Workflows on PostgreSQL Logical Replication (
 Dr. Ibrar Ahmed)
URL:https://postgresconf.io/conferences/postgresconf_2026/program/proposals
 /2705
END:VEVENT
BEGIN:VEVENT
DTSTAMP:20260420T040607Z
UID:dcfc7c6b-49c1-4173-9172-efc790f7b1be
DTSTART:20260422T220000Z
DTEND:20260422T225000Z
LOCATION:San Pedro (Level C)
SUMMARY:Hybrid Search in PostgreSQL: Combining Vector and Full-Text for Rea
 l-World Applications (Shayon Sanyal and Rinisha Marar)
URL:https://postgresconf.io/conferences/postgresconf_2026/program/proposals
 /2806
END:VEVENT
BEGIN:VEVENT
DTSTAMP:20260420T040607Z
UID:0da365aa-6ab6-43a2-9cb9-afc8022ee2ec
DTSTART:20260422T230000Z
DTEND:20260422T235000Z
LOCATION:Santa Clara (Level C)
SUMMARY:PostgreSQL I/O Mechanisms Performance Comparison (Hunter OBrien)
URL:https://postgresconf.io/conferences/postgresconf_2026/program/proposals
 /2814
END:VEVENT
BEGIN:VEVENT
DTSTAMP:20260420T040607Z
UID:7c9caa02-38cb-46e8-951b-eb3805a1eafc
DTSTART:20260422T230000Z
DTEND:20260422T232000Z
LOCATION:San Pedro (Level C)
SUMMARY:Solar Power in the Pacific NW (Clay  Jackson)
URL:https://postgresconf.io/conferences/postgresconf_2026/program/proposals
 /2668
END:VEVENT
BEGIN:VEVENT
DTSTAMP:20260420T040607Z
UID:f23a4781-a968-4b0c-9098-c6ab3b500d52
DTSTART:20260422T230000Z
DTEND:20260422T235000Z
LOCATION:Winchester
SUMMARY:PostgreSQL Housekeeping: The Complete VACUUM Handbook (Sukhpreet Be
 di and Nazneen Jafri)
URL:https://postgresconf.io/conferences/postgresconf_2026/program/proposals
 /2725
END:VEVENT
BEGIN:VEVENT
DTSTAMP:20260420T040607Z
UID:07cf612d-7340-4b32-ba5f-6167b20edb95
DTSTART:20260422T233000Z
DTEND:20260422T235000Z
LOCATION:San Pedro (Level C)
SUMMARY:Schema-First PostgreSQL Migrations Without a DSL (Greg Potter)
URL:https://postgresconf.io/conferences/postgresconf_2026/program/proposals
 /2763
END:VEVENT
BEGIN:VEVENT
DTSTAMP:20260420T040607Z
UID:19844c9a-e2ec-464f-bf11-f3f91553bf41
DTSTART:20260423T000000Z
DTEND:20260423T020000Z
LOCATION:Patio / Market (Outside Restaurant)
SUMMARY:Welcome Reception
URL:https://postgresconf.io/conferences/postgresconf_2026/program/proposals
 /2826
END:VEVENT
BEGIN:VEVENT
DTSTAMP:20260420T040607Z
UID:525055be-8393-44a9-9f07-fd29d60684d6
DTSTART:20260423T153000Z
DTEND:20260423T220000Z
LOCATION:Santa Clara Foyer (Level C)
SUMMARY:Exhibit Hall Open (PostgresConf Organizers)
URL:https://postgresconf.io/conferences/postgresconf_2026/program/proposals
 /2838
END:VEVENT
BEGIN:VEVENT
DTSTAMP:20260420T040607Z
UID:1ce7a731-fdcb-4ff6-aa75-5ee3e70ef761
DTSTART:20260423T153000Z
DTEND:20260423T223000Z
LOCATION:Almaden Foyer
SUMMARY:Registration
URL:https://postgresconf.io/conferences/postgresconf_2026/program/proposals
 /2827
END:VEVENT
BEGIN:VEVENT
DTSTAMP:20260420T040607Z
UID:66bdf17b-7d28-4e4d-b0da-280594660953
DTSTART:20260423T160000Z
DTEND:20260423T165000Z
LOCATION:Winchester
SUMMARY:Postgres as a Control Plane: Design Patterns for Real-Time Compute 
 Offload (Sweta Vooda)
URL:https://postgresconf.io/conferences/postgresconf_2026/program/proposals
 /2817
END:VEVENT
BEGIN:VEVENT
DTSTAMP:20260420T040607Z
UID:b4b4d5c8-f7ca-48c2-aa9c-9b11b516d8fa
DTSTART:20260423T160000Z
DTEND:20260423T165000Z
LOCATION:Santa Clara (Level C)
SUMMARY:Demystifying PostgreSQL High Availability in the Cloud (Arpitha Vas
 udeva)
URL:https://postgresconf.io/conferences/postgresconf_2026/program/proposals
 /2676
END:VEVENT
BEGIN:VEVENT
DTSTAMP:20260420T040607Z
UID:8c128f0c-17aa-412a-897e-ef58bca5d521
DTSTART:20260423T160000Z
DTEND:20260423T165000Z
LOCATION:San Pedro (Level C)
SUMMARY:Technical Credibility Isn’t Enough: Communication Skills Every Se
 nior Engineer Needs to Scale Impact (Monica Rivera)
URL:https://postgresconf.io/conferences/postgresconf_2026/program/proposals
 /2742
END:VEVENT
BEGIN:VEVENT
DTSTAMP:20260420T040607Z
UID:d1aa8971-aada-4d61-9ae5-ec88a5c4a96d
DTSTART:20260423T160000Z
DTEND:20260423T165000Z
LOCATION:Winchester 2
SUMMARY:When AI Agents Write Your Code\, Who Protects Your Database? (Postg
 resConf Organizers and Amir More)
URL:https://postgresconf.io/conferences/postgresconf_2026/program/proposals
 /2844
END:VEVENT
BEGIN:VEVENT
DTSTAMP:20260420T040607Z
UID:144a54fc-798d-461b-9e35-b70ab484258b
DTSTART:20260423T170000Z
DTEND:20260423T175000Z
LOCATION:Winchester
SUMMARY:Modular Databases: We Put Postgres in package.json (Dan Lynch)
URL:https://postgresconf.io/conferences/postgresconf_2026/program/proposals
 /2804
END:VEVENT
BEGIN:VEVENT
DTSTAMP:20260420T040608Z
UID:bcbecf74-bbbe-4511-9ecc-4877d4b24ba1
DTSTART:20260423T170000Z
DTEND:20260423T175000Z
LOCATION:San Pedro (Level C)
SUMMARY:“Autovacuum Blocked\, Backlogged\, or Slow?! Understanding Why It
  Can’t Keep Up” (Mohamed Ali and BAJI SHAIK)
URL:https://postgresconf.io/conferences/postgresconf_2026/program/proposals
 /2721
END:VEVENT
BEGIN:VEVENT
DTSTAMP:20260420T040608Z
UID:f06f5afd-76cc-43bd-a1da-6d1d902beb93
DTSTART:20260423T170000Z
DTEND:20260423T183000Z
LOCATION:Santa Clara (Level C)
SUMMARY:The Wellness OS (Amanda Nystrom)
URL:https://postgresconf.io/conferences/postgresconf_2026/program/proposals
 /2704
END:VEVENT
BEGIN:VEVENT
DTSTAMP:20260420T040608Z
UID:a55122d8-ce2d-4b05-b35f-fcbeb7bab698
DTSTART:20260423T180000Z
DTEND:20260423T185000Z
LOCATION:Winchester 2
SUMMARY:Database DevOps: CD for Stateful Applications (Stephen Atwell)
URL:https://postgresconf.io/conferences/postgresconf_2026/program/proposals
 /2841
END:VEVENT
BEGIN:VEVENT
DTSTAMP:20260420T040608Z
UID:7786e5f0-0d75-46ee-b0ca-7a3658af8594
DTSTART:20260423T180000Z
DTEND:20260423T185000Z
LOCATION:Winchester
SUMMARY:Building an Efficient HTAP Architecture with PostgreSQL and Apache 
 Doris with Native Doris Postgres CDC (Kevin Shen)
URL:https://postgresconf.io/conferences/postgresconf_2026/program/proposals
 /2768
END:VEVENT
BEGIN:VEVENT
DTSTAMP:20260420T040608Z
UID:49254a33-0ffa-4c06-abfd-de2131652ffa
DTSTART:20260423T180000Z
DTEND:20260423T185000Z
LOCATION:San Pedro (Level C)
SUMMARY:AI-Ready Data Architecture (Amit  Parikh)
URL:https://postgresconf.io/conferences/postgresconf_2026/program/proposals
 /2835
END:VEVENT
BEGIN:VEVENT
DTSTAMP:20260420T040608Z
UID:ea2445fe-2431-4fd4-be9f-8b0d90ad4c92
DTSTART:20260423T184000Z
DTEND:20260423T190000Z
LOCATION:Santa Clara (Level C)
SUMMARY:Don’t Standby\, Stand-Up! (Jonah Harris)
URL:https://postgresconf.io/conferences/postgresconf_2026/program/proposals
 /2815
END:VEVENT
BEGIN:VEVENT
DTSTAMP:20260420T040608Z
UID:b545a3b9-47c7-4352-91fe-36e186d28d6b
DTSTART:20260423T190000Z
DTEND:20260423T200000Z
LOCATION:Patio / Market (Outside Restaurant)
SUMMARY:Lunch
URL:https://postgresconf.io/conferences/postgresconf_2026/program/proposals
 /2830
END:VEVENT
BEGIN:VEVENT
DTSTAMP:20260420T040608Z
UID:80bb5c13-3a2d-4498-87c1-4752253711ff
DTSTART:20260423T200000Z
DTEND:20260423T205000Z
LOCATION:Winchester 2
SUMMARY:Critical DBA Tasks for Postgresql  (Pat Wright)
URL:https://postgresconf.io/conferences/postgresconf_2026/program/proposals
 /2839
END:VEVENT
BEGIN:VEVENT
DTSTAMP:20260420T040608Z
UID:87f8eb7b-e7fb-46ff-a003-0ee68877c728
DTSTART:20260423T200000Z
DTEND:20260423T205000Z
LOCATION:San Pedro (Level C)
SUMMARY:Narrating the Distributed Database on PostgreSQL journey (Sameer Ma
 lik and Amit Kumar)
URL:https://postgresconf.io/conferences/postgresconf_2026/program/proposals
 /2760
END:VEVENT
BEGIN:VEVENT
DTSTAMP:20260420T040608Z
UID:98355c41-9dc7-477c-bfbd-70dc1f76ed3e
DTSTART:20260423T200000Z
DTEND:20260423T205000Z
LOCATION:Winchester
SUMMARY:Let’s Build a Postgres Extension! (Shaun Thomas)
URL:https://postgresconf.io/conferences/postgresconf_2026/program/proposals
 /2685
END:VEVENT
BEGIN:VEVENT
DTSTAMP:20260420T040608Z
UID:11dcda03-7aee-4812-9e7c-0b3ff835c36f
DTSTART:20260423T200000Z
DTEND:20260423T205000Z
LOCATION:Santa Clara (Level C)
SUMMARY:Autotuning PostgreSQL: A deep dive into server parameter tuning wit
 h agentic AI (Luigi Nardi)
URL:https://postgresconf.io/conferences/postgresconf_2026/program/proposals
 /2805
END:VEVENT
BEGIN:VEVENT
DTSTAMP:20260420T040608Z
UID:94f4083e-680d-48e3-8616-4ee715a770ee
DTSTART:20260423T210000Z
DTEND:20260423T212000Z
LOCATION:Winchester
SUMMARY:Trust\, But Verify: Operationalizing Data Consistency Checks for Po
 stgres Logical Replication (Mason Sharp)
URL:https://postgresconf.io/conferences/postgresconf_2026/program/proposals
 /2783
END:VEVENT
BEGIN:VEVENT
DTSTAMP:20260420T040608Z
UID:a44e9d4a-e7fd-4a81-a20d-6520620a08ef
DTSTART:20260423T210000Z
DTEND:20260423T212000Z
LOCATION:San Pedro (Level C)
SUMMARY:PostgreSQL Statistics Unleashed: Mastering Query Optimization Throu
 gh Data-Driven Insights (Anita Singh and Angel Duenas Neyra)
URL:https://postgresconf.io/conferences/postgresconf_2026/program/proposals
 /2729
END:VEVENT
BEGIN:VEVENT
DTSTAMP:20260420T040608Z
UID:a1b274ec-0154-47c0-9b8f-8b41e95ca5f4
DTSTART:20260423T210000Z
DTEND:20260423T212000Z
LOCATION:Santa Clara (Level C)
SUMMARY:Accelerating PostgreSQL Backups with Intel® QuickAssist Technology
  (Matt Welch)
URL:https://postgresconf.io/conferences/postgresconf_2026/program/proposals
 /2776
END:VEVENT
BEGIN:VEVENT
DTSTAMP:20260420T040608Z
UID:693093a2-679d-4988-a84b-8d42231cb78c
DTSTART:20260423T213000Z
DTEND:20260423T222000Z
LOCATION:San Pedro (Level C)
SUMMARY:Leveraging Open-Source Data Platforms to Build Cost-Effective and R
 eliable Supply Chain Systems (Tim Steward)
URL:https://postgresconf.io/conferences/postgresconf_2026/program/proposals
 /2755
END:VEVENT
BEGIN:VEVENT
DTSTAMP:20260420T040608Z
UID:42230cff-83ed-4d52-9843-adb2f14113c3
DTSTART:20260423T213000Z
DTEND:20260423T222000Z
LOCATION:Winchester
SUMMARY:DocumentDB on Postgres: Native BSON\, Vectors\, and Mongo Compatibi
 lity (Hari Krishna Sunder and Nitin Ahuja)
URL:https://postgresconf.io/conferences/postgresconf_2026/program/proposals
 /2724
END:VEVENT
BEGIN:VEVENT
DTSTAMP:20260420T040608Z
UID:07b6d343-a570-47af-9e41-b967091b4679
DTSTART:20260423T213000Z
DTEND:20260423T222000Z
LOCATION:Santa Clara (Level C)
SUMMARY:Multigres: One stop PostgreSQL Management and Scaling (Deepthi Sigi
 reddi and Sugu Sougoumarane)
URL:https://postgresconf.io/conferences/postgresconf_2026/program/proposals
 /2801
END:VEVENT
BEGIN:VEVENT
DTSTAMP:20260420T040608Z
UID:cebb78ad-cac3-4bd9-bfe3-436ed9c16ae7
DTSTART:20260423T223000Z
DTEND:20260423T232000Z
LOCATION:San Pedro (Level C)
SUMMARY:Manage Databases\, Lead People (Clay  Jackson)
URL:https://postgresconf.io/conferences/postgresconf_2026/program/proposals
 /2669
END:VEVENT
BEGIN:VEVENT
DTSTAMP:20260420T040608Z
UID:241d382e-9447-45a2-9811-4a9dbf6303a6
DTSTART:20260423T223000Z
DTEND:20260423T232000Z
LOCATION:Santa Clara (Level C)
SUMMARY: Eight Steps to Bullet-Proof Database Disaster Recovery (Dr. Ibrar 
 Ahmed)
URL:https://postgresconf.io/conferences/postgresconf_2026/program/proposals
 /2706
END:VEVENT
BEGIN:VEVENT
DTSTAMP:20260420T040608Z
UID:63acf825-5343-40fe-9b24-e375057b6b31
DTSTART:20260423T223000Z
DTEND:20260423T232000Z
LOCATION:Winchester
SUMMARY:Rewriting the Postgres Engine (Jonah Harris)
URL:https://postgresconf.io/conferences/postgresconf_2026/program/proposals
 /2816
END:VEVENT
BEGIN:VEVENT
DTSTAMP:20260420T040608Z
UID:c750070e-7e13-4c9c-bb4a-a618672b25fb
DTSTART:20260423T233000Z
DTEND:20260424T002000Z
LOCATION:Winchester
SUMMARY:Running Distributed PostgreSQL with Citus (Arun Samayam)
URL:https://postgresconf.io/conferences/postgresconf_2026/program/proposals
 /2773
END:VEVENT
END:VCALENDAR
