BEGIN:VCALENDAR
VERSION:2.0
PRODID:Postgres World Webinars 2023
CALSCALE:GREGORIAN
BEGIN:VEVENT
DTSTAMP:20260420T091647Z
UID:7357eb1f-b7e8-42dc-a8b3-21189582e4c4
DTSTART:20230621T150000Z
DTEND:20230621T160000Z
LOCATION:PostgresWorld Zoom
SUMMARY:An Open Approach to Asynchronous Multi-master Replication With Post
 greSQL (Hari Kiran and Cady Motyka)
URL:https://postgresconf.io/conferences/postgresworld_webinars_2023/program
 /proposals/2087
END:VEVENT
BEGIN:VEVENT
DTSTAMP:20260420T091647Z
UID:be86bb19-5b9c-4e04-a122-a75454803a85
DTSTART:20230830T170000Z
DTEND:20230830T180000Z
LOCATION:PostgresWorld Zoom
SUMMARY:Enhancing pgLogical with Multi-Master Features (Ahsan Hadi and Cady
  Motyka)
URL:https://postgresconf.io/conferences/postgresworld_webinars_2023/program
 /proposals/2089
END:VEVENT
BEGIN:VEVENT
DTSTAMP:20260420T091647Z
UID:facbf694-26ad-4ecf-bd1d-11e1354c3296
DTSTART:20230920T170000Z
DTEND:20230920T180000Z
LOCATION:PostgresWorld Zoom
SUMMARY:PostgresWorld Presents: A Live Digital Privacy Event with EFF\, Spo
 nsored by Command Prompt and The More than a Refresh Podcast (Joshua D. Dr
 ake)
URL:https://postgresconf.io/conferences/postgresworld_webinars_2023/program
 /proposals/2090
END:VEVENT
BEGIN:VEVENT
DTSTAMP:20260420T091647Z
UID:8948e376-a317-444f-b6ec-9ba8538948d1
DTSTART:20231109T180000Z
DTEND:20231109T190000Z
LOCATION:PostgresWorld Zoom
SUMMARY:Unleash Ultra High Availability and Zero Downtime Maintenance with 
 Distributed PostgreSQL (Dr. Ibrar Ahmed\, Mike Josephson\, and Denis Lussi
 er)
URL:https://postgresconf.io/conferences/postgresworld_webinars_2023/program
 /proposals/2094
END:VEVENT
END:VCALENDAR
